BEGIN:VCALENDAR
VERSION:2.0
PRODID:-//Talk of Toronto - ECPv6.15.20//NONSGML v1.0//EN
CALSCALE:GREGORIAN
METHOD:PUBLISH
X-WR-CALNAME:Talk of Toronto
X-ORIGINAL-URL:https://talkoftoronto.ca
X-WR-CALDESC:Events for Talk of Toronto
REFRESH-INTERVAL;VALUE=DURATION:PT1H
X-Robots-Tag:noindex
X-PUBLISHED-TTL:PT1H
BEGIN:VTIMEZONE
TZID:America/Toronto
BEGIN:DAYLIGHT
TZOFFSETFROM:-0500
TZOFFSETTO:-0400
TZNAME:EDT
DTSTART:20240310T070000
END:DAYLIGHT
BEGIN:STANDARD
TZOFFSETFROM:-0400
TZOFFSETTO:-0500
TZNAME:EST
DTSTART:20241103T060000
END:STANDARD
BEGIN:DAYLIGHT
TZOFFSETFROM:-0500
TZOFFSETTO:-0400
TZNAME:EDT
DTSTART:20250309T070000
END:DAYLIGHT
BEGIN:STANDARD
TZOFFSETFROM:-0400
TZOFFSETTO:-0500
TZNAME:EST
DTSTART:20251102T060000
END:STANDARD
BEGIN:DAYLIGHT
TZOFFSETFROM:-0500
TZOFFSETTO:-0400
TZNAME:EDT
DTSTART:20260308T070000
END:DAYLIGHT
BEGIN:STANDARD
TZOFFSETFROM:-0400
TZOFFSETTO:-0500
TZNAME:EST
DTSTART:20261101T060000
END:STANDARD
END:VTIMEZONE
BEGIN:VEVENT
DTSTART;TZID=America/Toronto:20251220T200000
DTEND;TZID=America/Toronto:20251221T010000
DTSTAMP:20260424T040428
CREATED:20251017T143152Z
LAST-MODIFIED:20251017T143405Z
UID:60746-1766260800-1766278800@talkoftoronto.ca
SUMMARY:SOS Fest Presents: KESmas With Kes The Band – Toronto Soca Concert
DESCRIPTION:🎶 SOS Fest Presents: KESmas Live in Concert With Kes The Band – Get Ready to Vibe! 🇹🇹\nGet ready\, Toronto! The ultimate Caribbean Christmas celebration is coming back to town as SOS Fest Presents: KESmas With Kes The Band! Experience an electric night of high-energy music\, culture\, and pure vibes with the undisputed kings of feel-good music\, Kes The Band. \nKnown for their unique fusion of Soca\, Calypso\, Pop\, and Reggae—giving you massive hits like “Wotless\,” “Hello\,” and “Savannah Grass”—Kes The Band will transform History\, Toronto into an island paradise just in time for the holidays. This is more than just a concert; it’s a massive\, all-ages Soca party to wrap up the year in true Carnival style! \nDon’t miss the chance to witness the band’s legendary live performance and spread some holiday cheer the island way. Secure your spot now for a memorable night of non-stop dancing! \nEvent Details\n\nWhat: SOS Fest Presents: KESmas With Kes The Band\nWhen: Saturday\, December 20\, 2025\nTime: 8:00 PM (Doors & Showtimes subject to change\, check ticket info)\nWhere: History\, Toronto\, ON\nAge Restriction: This is an ALL AGES event.\n\nClick To Buy Tickets Here\n#KESmas #KesTheBand #Soca #TorontoEvents #HistoryToronto #SOSFest #CaribbeanMusic #TorontoConcerts #TalkofToronto \n \n\n \n\n\n  \n    🎟 Buy Tickets Now
URL:https://talkoftoronto.ca/event/sos-fest-presents-kesmas-with-kes-the-band-toronto-soca-concert/
LOCATION:History\, 1663 Queen St. East\, Toronto\, Ontario\, M4L 1G5\,\, Canada
CATEGORIES:Concerts & Live Music,Soca
ATTACH;FMTTYPE=image/jpeg:https://talkoftoronto.ca/wp-content/uploads/2025/10/Kes-The-Band-KesMas-Toronto-Soca-Concert-Fete-Party-Dec-2025-History.jpg
END:VEVENT
END:VCALENDAR