BEGIN:VCALENDAR
VERSION:2.0
PRODID:-//Talk of Toronto - ECPv6.15.20//NONSGML v1.0//EN
CALSCALE:GREGORIAN
METHOD:PUBLISH
X-WR-CALNAME:Talk of Toronto
X-ORIGINAL-URL:https://talkoftoronto.ca
X-WR-CALDESC:Events for Talk of Toronto
REFRESH-INTERVAL;VALUE=DURATION:PT1H
X-Robots-Tag:noindex
X-PUBLISHED-TTL:PT1H
BEGIN:VTIMEZONE
TZID:America/Toronto
BEGIN:DAYLIGHT
TZOFFSETFROM:-0500
TZOFFSETTO:-0400
TZNAME:EDT
DTSTART:20240310T070000
END:DAYLIGHT
BEGIN:STANDARD
TZOFFSETFROM:-0400
TZOFFSETTO:-0500
TZNAME:EST
DTSTART:20241103T060000
END:STANDARD
BEGIN:DAYLIGHT
TZOFFSETFROM:-0500
TZOFFSETTO:-0400
TZNAME:EDT
DTSTART:20250309T070000
END:DAYLIGHT
BEGIN:STANDARD
TZOFFSETFROM:-0400
TZOFFSETTO:-0500
TZNAME:EST
DTSTART:20251102T060000
END:STANDARD
BEGIN:DAYLIGHT
TZOFFSETFROM:-0500
TZOFFSETTO:-0400
TZNAME:EDT
DTSTART:20260308T070000
END:DAYLIGHT
BEGIN:STANDARD
TZOFFSETFROM:-0400
TZOFFSETTO:-0500
TZNAME:EST
DTSTART:20261101T060000
END:STANDARD
END:VTIMEZONE
BEGIN:VEVENT
DTSTART;TZID=America/Toronto:20250719T220000
DTEND;TZID=America/Toronto:20250720T030000
DTSTAMP:20260424T120429
CREATED:20250703T211703Z
LAST-MODIFIED:20250703T213247Z
UID:58237-1752962400-1752980400@talkoftoronto.ca
SUMMARY:That Slow Jam Party - DJ Lissa Monet Rooftop Birthday Party
DESCRIPTION:Cheers 2U – A That Slow Jam Party-  Pop-Up Rooftop Birthday Party 🎉 \nPresented by: That Slow Jam Party\nHosted by: Rebeka Dawn & Marlon Palmer\nFeaturing: DJ Lissa Monet (birthday celebration) + guest DJs Jester\, DJ Shy\, DJ Steph Honey\, Phenomenal & more! \n📅 Date & Time\nSaturday July 19th\, 2025 | 10pm-3am \n \n🎟️ Tickets \n\nFriends & Family – Early Bird: SOLD OUT\nStandard Tickets: On sale now.\n\n🎧 What to Expect \n\nVibes: Laid-back rooftop energy with That Slow Jam Party’s unmistakable mix of smooth R&B\, classics\, and contemporary slow jams.\nCelebration Focus: Join us as we raise a toast to YOU—and DJ Lissa Monet’s birthday—on a next-level urban rooftop.\nLine-Up: A carefully curated mix of guest DJs—DJ Lissa Monet\, Jester\, DJ Shy\, DJ Steph Honey\, Phenomenal\, and special surprises.\n\n👗 Dress Code:\nDress to impress in Denim & White. Think fresh\, relaxed\, rooftop-ready.. \n📍 Location:\nTop-tier rooftop venue Aera Restaurant\, 38th floor\, Toronto\, ON — \n\nWhy You Should Go\n\nSummer rooftop festivities packed with memories\, energy\, and R&B vibes.\nA birthday celebration and a vibe-laden party rolled into one.\nAn intimate yet high-energy gathering—perfect for those who love city nightlife and good music.\n\n\n🥂 Get your ticket\, invite your crew\, and join us under the Toronto skyline for Cheers 2U—the ultimate rooftop birthday pop-up brought to you by That Slow Jam Party! \n 
URL:https://talkoftoronto.ca/event/that-slow-jam-party-dj-lissa-monet-rooftop-birthday-party/
LOCATION:Aera Restaurant\, 8 Spadina Ave #3800\, Toronto\, Ontario\, Canada
CATEGORIES:R&B
ATTACH;FMTTYPE=image/png:https://talkoftoronto.ca/wp-content/uploads/2025/07/that-slow-jam-party-toronto-rnb-party-event.png
END:VEVENT
END:VCALENDAR