BEGIN:VCALENDAR
VERSION:2.0
PRODID:-//Talk of Toronto - ECPv6.15.20//NONSGML v1.0//EN
CALSCALE:GREGORIAN
METHOD:PUBLISH
X-WR-CALNAME:Talk of Toronto
X-ORIGINAL-URL:https://talkoftoronto.ca
X-WR-CALDESC:Events for Talk of Toronto
REFRESH-INTERVAL;VALUE=DURATION:PT1H
X-Robots-Tag:noindex
X-PUBLISHED-TTL:PT1H
BEGIN:VTIMEZONE
TZID:America/Toronto
BEGIN:DAYLIGHT
TZOFFSETFROM:-0500
TZOFFSETTO:-0400
TZNAME:EDT
DTSTART:20240310T070000
END:DAYLIGHT
BEGIN:STANDARD
TZOFFSETFROM:-0400
TZOFFSETTO:-0500
TZNAME:EST
DTSTART:20241103T060000
END:STANDARD
BEGIN:DAYLIGHT
TZOFFSETFROM:-0500
TZOFFSETTO:-0400
TZNAME:EDT
DTSTART:20250309T070000
END:DAYLIGHT
BEGIN:STANDARD
TZOFFSETFROM:-0400
TZOFFSETTO:-0500
TZNAME:EST
DTSTART:20251102T060000
END:STANDARD
BEGIN:DAYLIGHT
TZOFFSETFROM:-0500
TZOFFSETTO:-0400
TZNAME:EDT
DTSTART:20260308T070000
END:DAYLIGHT
BEGIN:STANDARD
TZOFFSETFROM:-0400
TZOFFSETTO:-0500
TZNAME:EST
DTSTART:20261101T060000
END:STANDARD
END:VTIMEZONE
BEGIN:VEVENT
DTSTART;TZID=America/Toronto:20250329T220000
DTEND;TZID=America/Toronto:20250330T023000
DTSTAMP:20260424T065103
CREATED:20250118T145511Z
LAST-MODIFIED:20250211T190259Z
UID:57315-1743285600-1743301800@talkoftoronto.ca
SUMMARY:The 2000s Party  Returns March 29 2025\, Revival Bar
DESCRIPTION:Talk of Toronto Featured Event \n🎉 The2000sParty Returns! 🎉\nGet ready to travel back in time to the Richmond & Adelaide days of partying! The2000sParty is back\, bringing you all the hits and vibes from the early 2000s. Expect a night of throwbacks\, nostalgia\, and non-stop dancing. \n📅 Date and Time:\nSaturday\, March 29\nDoors Open: 10:00 PM\nEvent Ends: 10:30 PM \n📍 Location:\nRevival Event Venue\n783 College St\, Toronto\, ON \n🎶 Music By: \n\nDJ 2Nice\, DJ DK\, and Blax Dun Da Place will be spinning all your favorite 2000s Hip Hop\, R&B\, Dancehall\, and Soca tracks\, while Kamakacci Juice\, MC Crazy Chris and Ceaza Leon keep the energy flowing all night long.\n\n🎵 What to Expect: \n\nThe hottest tracks from the 2000s\nIconic throwbacks you forgot you loved\nAn electric atmosphere that screams early 2000s vibes\n\n🎟️ Tickets:\nLimited tickets available—secure yours now before they sell out! \n \n📸 Dress Code:\nCome dressed in your best 2000s-inspired outfit! Think denim on denim\, oversized tees\, or velour tracksuits. \nDon’t miss this epic throwback night!\nFor tickets and updates\, follow us on social media @The2000sParty. \n✨ Be there or hear about it! ✨
URL:https://talkoftoronto.ca/event/the-2000s-party-revival-bar-toronto-events-oldschool-party-2025/
LOCATION:Revival Bar\, 783 College St\, Toronto\, Ontario\, Canada
CATEGORIES:Hip Hop,Old School,Reggae & Dancehall
ATTACH;FMTTYPE=image/jpeg:https://talkoftoronto.ca/wp-content/uploads/2025/01/The-2000s-Party-Returns-March-29-2025-Revival-Bar-Toronto-Events-Party-Nightlife.jpg
END:VEVENT
END:VCALENDAR