BEGIN:VCALENDAR
VERSION:2.0
PRODID:-//Talk of Toronto - ECPv6.15.20//NONSGML v1.0//EN
CALSCALE:GREGORIAN
METHOD:PUBLISH
X-WR-CALNAME:Talk of Toronto
X-ORIGINAL-URL:https://talkoftoronto.ca
X-WR-CALDESC:Events for Talk of Toronto
REFRESH-INTERVAL;VALUE=DURATION:PT1H
X-Robots-Tag:noindex
X-PUBLISHED-TTL:PT1H
BEGIN:VTIMEZONE
TZID:America/Toronto
BEGIN:DAYLIGHT
TZOFFSETFROM:-0500
TZOFFSETTO:-0400
TZNAME:EDT
DTSTART:20240310T070000
END:DAYLIGHT
BEGIN:STANDARD
TZOFFSETFROM:-0400
TZOFFSETTO:-0500
TZNAME:EST
DTSTART:20241103T060000
END:STANDARD
BEGIN:DAYLIGHT
TZOFFSETFROM:-0500
TZOFFSETTO:-0400
TZNAME:EDT
DTSTART:20250309T070000
END:DAYLIGHT
BEGIN:STANDARD
TZOFFSETFROM:-0400
TZOFFSETTO:-0500
TZNAME:EST
DTSTART:20251102T060000
END:STANDARD
BEGIN:DAYLIGHT
TZOFFSETFROM:-0500
TZOFFSETTO:-0400
TZNAME:EDT
DTSTART:20260308T070000
END:DAYLIGHT
BEGIN:STANDARD
TZOFFSETFROM:-0400
TZOFFSETTO:-0500
TZNAME:EST
DTSTART:20261101T060000
END:STANDARD
END:VTIMEZONE
BEGIN:VEVENT
DTSTART;TZID=America/Toronto:20250919T230000
DTEND;TZID=America/Toronto:20250920T030000
DTSTAMP:20260423T200517
CREATED:20250826T212914Z
LAST-MODIFIED:20250826T214416Z
UID:58608-1758322800-1758337200@talkoftoronto.ca
SUMMARY:The Cotton Candy Soca Fete
DESCRIPTION:🍭 The Cotton Candy Soca Fete – Soca Nut Official Release Party 🍭\nDate: Saturday\, September 13th\, 2025Time: 3:00 PM – 8:00 PM (Day Fete)Venue: Half Note 416 – 3357 Kingston Rd\, Scarborough\, ON \n \n\nAbout This Event\nGet ready for the sweetest day party of the year! 🎉 The Cotton Candy Fete is the Official Soca Nut Release Party\, bringing you: \n\n\nFree cotton candy 🍬 \n\n\nSweet Soca vibes 🎶 \n\n\nMerch giveaways 👕 \n\n\nA full day of Caribbean energy 🌴 \n\n\nStep into pastel skies\, sweet treats\, and the hottest Soca beats while we celebrate Soca Nut’s big launch in style! \n\nWhat to Expect\n✅ FREE Cotton Candy for everyone!✅ FREE ENTRY when you wear Soca Nut gear!✅ Exclusive Merch Giveaways – represent the culture!✅ Top DJs & Sweet Vibes all day long! \n\n🎧 DJ Line-Up\n\n\nDJ Steph Honey \n\n\nDJ Kaza \n\n\nTyhoon Sound \n\n\nSoundseekerz \n\n\n\n🎟 Tickets\n\n\n$10 Online (Early Bird – Limited) \n\n\n$15 Online (Tier 2) \n\n\n$25 At The Door \n\n\n\nTheme & Dress Code\n✨ Think cotton candy vibes – pastel colors\, fun\, and full Soca energy!✨ Come photo-ready & make it Instagram-worthy 📸 \n\nLocation\n📍 Half Note 4163357 Kingston Rd\, Scarborough\, ON \n🚗 Free parking available! \n\nFAQs\nIs there an age requirement?Yes – this is a 19+ event. \nDo I need Soca Nut gear for entry?No\, but wearing Soca Nut gear = FREE ENTRY! \nWhat’s the vibe?Pure Caribbean energy\, sweet treats\, and Soca music – day party style! \n\n🔥 Don’t miss the Official Soca Nut Release Party – where sweet meets Soca! \n👉 Secure your tickets now and celebrate with us!
URL:https://talkoftoronto.ca/event/the-cotton-candy-soca-fete-2025/
LOCATION:Half Note 416\, 3357 Kingston Rd\, Scarborough\, Ontario\, Canada
CATEGORIES:Soca
ATTACH;FMTTYPE=image/png:https://talkoftoronto.ca/wp-content/uploads/2025/08/the-cotton-candy-soca-fete-event-toronto-2025.png
END:VEVENT
END:VCALENDAR