BEGIN:VCALENDAR
VERSION:2.0
PRODID:-//Talk of Toronto - ECPv6.15.20//NONSGML v1.0//EN
CALSCALE:GREGORIAN
METHOD:PUBLISH
X-WR-CALNAME:Talk of Toronto
X-ORIGINAL-URL:https://talkoftoronto.ca
X-WR-CALDESC:Events for Talk of Toronto
REFRESH-INTERVAL;VALUE=DURATION:PT1H
X-Robots-Tag:noindex
X-PUBLISHED-TTL:PT1H
BEGIN:VTIMEZONE
TZID:America/Toronto
BEGIN:DAYLIGHT
TZOFFSETFROM:-0500
TZOFFSETTO:-0400
TZNAME:EDT
DTSTART:20230312T070000
END:DAYLIGHT
BEGIN:STANDARD
TZOFFSETFROM:-0400
TZOFFSETTO:-0500
TZNAME:EST
DTSTART:20231105T060000
END:STANDARD
BEGIN:DAYLIGHT
TZOFFSETFROM:-0500
TZOFFSETTO:-0400
TZNAME:EDT
DTSTART:20240310T070000
END:DAYLIGHT
BEGIN:STANDARD
TZOFFSETFROM:-0400
TZOFFSETTO:-0500
TZNAME:EST
DTSTART:20241103T060000
END:STANDARD
BEGIN:DAYLIGHT
TZOFFSETFROM:-0500
TZOFFSETTO:-0400
TZNAME:EDT
DTSTART:20250309T070000
END:DAYLIGHT
BEGIN:STANDARD
TZOFFSETFROM:-0400
TZOFFSETTO:-0500
TZNAME:EST
DTSTART:20251102T060000
END:STANDARD
END:VTIMEZONE
BEGIN:VEVENT
DTSTART;TZID=America/Toronto:20240328T180000
DTEND;TZID=America/Toronto:20240328T220000
DTSTAMP:20260424T173331
CREATED:20240227T110511Z
LAST-MODIFIED:20240227T111432Z
UID:2102-1711648800-1711663200@talkoftoronto.ca
SUMMARY:The Good & Plenty | Kamakacci Juice & DJ John J Annual Aries Birthday Party Soiree
DESCRIPTION:Easter Long Weekend Thursday March 28th 2024 \nCelebrating The Birthday Of Kamakacci Juice\, DJ John J & All Other Aries \nMusic By: \nJohn J \nDK (Ovo/RepsUp) \nRych Kydd \nMC By \nRicochet (Vibe105TO) & Ma$e Tour DJ \nHosted By: Kamakacci Juice \n-The Good And Plenty- \nDresscode; Stylish & Trendy \nGood Music And Plenty of It.. \nTHE GOOD VIBE PARTY \nSECRET LOCATION ON KING STREET WEST TORONTO
URL:https://talkoftoronto.ca/event/the-good-plenty-kamakacci-juice-dj-john-j-annual-aries-birthday-party-soiree/
LOCATION:Secret Location\, King St W\, Toronto\, Ontario\, Canada
ATTACH;FMTTYPE=image/jpeg:https://talkoftoronto.ca/wp-content/uploads/2024/02/THE-GOOD-PLENTY-2024-KAMAKACCI-JUICE-DJ-JOHN-J-BIRTHDAY-SOIREE.jpg
ORGANIZER;CN="Kamakacci Juice":MAILTO:kamakacciinc@gmail.com
END:VEVENT
END:VCALENDAR