BEGIN:VCALENDAR
VERSION:2.0
PRODID:-//Talk of Toronto - ECPv6.15.20//NONSGML v1.0//EN
CALSCALE:GREGORIAN
METHOD:PUBLISH
X-WR-CALNAME:Talk of Toronto
X-ORIGINAL-URL:https://talkoftoronto.ca
X-WR-CALDESC:Events for Talk of Toronto
REFRESH-INTERVAL;VALUE=DURATION:PT1H
X-Robots-Tag:noindex
X-PUBLISHED-TTL:PT1H
BEGIN:VTIMEZONE
TZID:America/Toronto
BEGIN:DAYLIGHT
TZOFFSETFROM:-0500
TZOFFSETTO:-0400
TZNAME:EDT
DTSTART:20240310T070000
END:DAYLIGHT
BEGIN:STANDARD
TZOFFSETFROM:-0400
TZOFFSETTO:-0500
TZNAME:EST
DTSTART:20241103T060000
END:STANDARD
BEGIN:DAYLIGHT
TZOFFSETFROM:-0500
TZOFFSETTO:-0400
TZNAME:EDT
DTSTART:20250309T070000
END:DAYLIGHT
BEGIN:STANDARD
TZOFFSETFROM:-0400
TZOFFSETTO:-0500
TZNAME:EST
DTSTART:20251102T060000
END:STANDARD
BEGIN:DAYLIGHT
TZOFFSETFROM:-0500
TZOFFSETTO:-0400
TZNAME:EDT
DTSTART:20260308T070000
END:DAYLIGHT
BEGIN:STANDARD
TZOFFSETFROM:-0400
TZOFFSETTO:-0500
TZNAME:EST
DTSTART:20261101T060000
END:STANDARD
END:VTIMEZONE
BEGIN:VEVENT
DTSTART;TZID=America/Toronto:20251101T220000
DTEND;TZID=America/Toronto:20251102T020000
DTSTAMP:20260424T090521
CREATED:20251028T224727Z
LAST-MODIFIED:20251102T050157Z
UID:61086-1762034400-1762048800@talkoftoronto.ca
SUMMARY:THRILLER with TIMMY TRUMPET & COONE
DESCRIPTION:🎺 Get Ready for THRILLER with TIMMY TRUMPET & COONE! 🎃 \nINK Entertainment is bringing one of the biggest nights of the year to REBEL! Get your costumes ready for a massive night of electronic music featuring two global superstars across two stages. \nExperience the high-energy\, chart-topping sounds of TIMMY TRUMPET taking over the main room\, while Hardstyle king COONE brings the heat to NOIR inside REBEL. This is the ultimate event to kick off your November! \n\n🎶 Event Details\n  \n\n\n\nArtist\nStage\n\n\n\n\nTIMMY TRUMPET\nMain Room @ REBEL\n\n\nCOONE\nNOIR inside REBEL\n\n\n\n\n\n\nDetail\nInformation\n\n\n\n\nDate\nSaturday\, November 1\, 2025\n\n\nDoors Open\n10:00 PM EDT\n\n\nVenue\nREBEL\, Toronto\n\n\nAge\n19+ Event (Government ID Required)\n\n\nTickets\nGeneral Admission (All price tiers allow the same access)\n\n\n\n\n🎟️ Don’t Miss Out!\nSecure your spot for a night of explosive beats and unforgettable thrills. This event will sell out! \n🔥 GET YOUR TICKETS HERE! \n#Thriller #TimmyTrumpet #Coone #REBELToronto #INKEvents #EDM #Hardstyle #Nightlife \n \n\n \n \n\n\n  \n    🎟 Buy Tickets Now
URL:https://talkoftoronto.ca/event/thriller-with-timmy-trumpet-coone/
LOCATION:Rebel Nightclub\, 11 Polson St.\, Toronto\, Ontario\, Canada
CATEGORIES:Dance/Electronic,Nightlife & Parties
ATTACH;FMTTYPE=image/png:https://talkoftoronto.ca/wp-content/uploads/2025/10/TIMMY-TRUMPET-Main-Room-REBEL-Thriller-Halloween-Party-Toronto-Nightlife.png
END:VEVENT
END:VCALENDAR