BEGIN:VCALENDAR
VERSION:2.0
PRODID:-//Talk of Toronto - ECPv6.15.20//NONSGML v1.0//EN
CALSCALE:GREGORIAN
METHOD:PUBLISH
X-WR-CALNAME:Talk of Toronto
X-ORIGINAL-URL:https://talkoftoronto.ca
X-WR-CALDESC:Events for Talk of Toronto
REFRESH-INTERVAL;VALUE=DURATION:PT1H
X-Robots-Tag:noindex
X-PUBLISHED-TTL:PT1H
BEGIN:VTIMEZONE
TZID:America/Toronto
BEGIN:DAYLIGHT
TZOFFSETFROM:-0500
TZOFFSETTO:-0400
TZNAME:EDT
DTSTART:20230312T070000
END:DAYLIGHT
BEGIN:STANDARD
TZOFFSETFROM:-0400
TZOFFSETTO:-0500
TZNAME:EST
DTSTART:20231105T060000
END:STANDARD
BEGIN:DAYLIGHT
TZOFFSETFROM:-0500
TZOFFSETTO:-0400
TZNAME:EDT
DTSTART:20240310T070000
END:DAYLIGHT
BEGIN:STANDARD
TZOFFSETFROM:-0400
TZOFFSETTO:-0500
TZNAME:EST
DTSTART:20241103T060000
END:STANDARD
BEGIN:DAYLIGHT
TZOFFSETFROM:-0500
TZOFFSETTO:-0400
TZNAME:EDT
DTSTART:20250309T070000
END:DAYLIGHT
BEGIN:STANDARD
TZOFFSETFROM:-0400
TZOFFSETTO:-0500
TZNAME:EST
DTSTART:20251102T060000
END:STANDARD
END:VTIMEZONE
BEGIN:VEVENT
DTSTART;TZID=America/Toronto:20240802T220000
DTEND;TZID=America/Toronto:20240803T020000
DTSTAMP:20260423T213903
CREATED:20240627T153854Z
LAST-MODIFIED:20240627T162438Z
UID:55228-1722636000-1722650400@talkoftoronto.ca
SUMMARY:Toronto Caribana Friday: SOCA VILLAGE W/ BUNJI GARLIN\, FARMER & LYRIKAL
DESCRIPTION:PICKERING CASINO RESORT – FRIDAY AUGUST 2ND\, 2024 \nSOCA VILLAGE W/ BUNJI GARLIN\, FARMER & LYRIKAL\n\nToronto Caribana Friday Evening Soca Village Returns to the Iconic Pickering Casino Resort\nAugust 2nd 2024 \n6IXISLANDS PRESENTS LIVE CARNIVAL PERFORMANCE Featuring THE ViKING OF SOCA \nBUNJI GARLIN @bunjigarlin \nSOCA MEGA-STAR: \nLYRIKAL @iamlyrikalace \nOH You Thought We Were Done LEH WE START DE BACCHANAL w/ LIVE PERFORMANCE Featuring \nFARMER NAPPY @farmernappy \nD SWEETHEART OF SOCA\nRAE @itsrae.official \nInside: THE ICONIC PICKERING CASINO RESORT \nALONGSIDE AN ALL-STAR CAST OF INTERNATIONAL SOCA DJs in CONCERT \nDENFORCAS @denforcas\nFREEZE INTERNATIONAL @freeze_international\nDJ STEPH HONEY @djstephhoney \nOpening Set By\nDJ PANDEMONIUM @dj._pandemonium \nHosted By\nGISELLE The Wassi One @thewassione\nBASS LINE of DENFORCAS @bassline_denforcas \nVenue: THE ICONIC PICKERING CASINO RESORT \nFor Advanced $65 TICKETS CALL – 647-886-4110 or click ticket banner below to purchase online. \n#Carnival2024 #SOCAVILLAGE
URL:https://talkoftoronto.ca/event/toronto-caribana-friday-soca-village-w-bunji-garlin-farmer-lyrikal-2/
LOCATION:Pickering Casino Resort\, 888 Durham Live Ave\, Pickering\, Ontario\, L1W 0C1\, Canada
CATEGORIES:Soca
ATTACH;FMTTYPE=image/jpeg:https://talkoftoronto.ca/wp-content/uploads/2024/06/Soca-Event-Toronto-Caribana-PICKERING-CASINO-RESORT-FRIDAY-AUGUST-2ND-2024-SOCA-VILLAGE-W-BUNJI-GARLIN-FARMER-LYRIKAL.jpeg
END:VEVENT
END:VCALENDAR