BEGIN:VCALENDAR
VERSION:2.0
PRODID:-//Talk of Toronto - ECPv6.15.20//NONSGML v1.0//EN
CALSCALE:GREGORIAN
METHOD:PUBLISH
X-WR-CALNAME:Talk of Toronto
X-ORIGINAL-URL:https://talkoftoronto.ca
X-WR-CALDESC:Events for Talk of Toronto
REFRESH-INTERVAL;VALUE=DURATION:PT1H
X-Robots-Tag:noindex
X-PUBLISHED-TTL:PT1H
BEGIN:VTIMEZONE
TZID:America/Toronto
BEGIN:DAYLIGHT
TZOFFSETFROM:-0500
TZOFFSETTO:-0400
TZNAME:EDT
DTSTART:20240310T070000
END:DAYLIGHT
BEGIN:STANDARD
TZOFFSETFROM:-0400
TZOFFSETTO:-0500
TZNAME:EST
DTSTART:20241103T060000
END:STANDARD
BEGIN:DAYLIGHT
TZOFFSETFROM:-0500
TZOFFSETTO:-0400
TZNAME:EDT
DTSTART:20250309T070000
END:DAYLIGHT
BEGIN:STANDARD
TZOFFSETFROM:-0400
TZOFFSETTO:-0500
TZNAME:EST
DTSTART:20251102T060000
END:STANDARD
BEGIN:DAYLIGHT
TZOFFSETFROM:-0500
TZOFFSETTO:-0400
TZNAME:EDT
DTSTART:20260308T070000
END:DAYLIGHT
BEGIN:STANDARD
TZOFFSETFROM:-0400
TZOFFSETTO:-0500
TZNAME:EST
DTSTART:20261101T060000
END:STANDARD
END:VTIMEZONE
BEGIN:VEVENT
DTSTART;TZID=America/Toronto:20250803T220000
DTEND;TZID=America/Toronto:20250804T030000
DTSTAMP:20260423T200718
CREATED:20250608T213022Z
LAST-MODIFIED:20250608T214740Z
UID:58107-1754258400-1754276400@talkoftoronto.ca
SUMMARY:TORONTO CARIBANA SUNDAY - HOT 97 BET ALL STAR CELEBRITY PARTY
DESCRIPTION:TORONTO CARIBANA SUNDAY – HOT 97 x BET ALL-STAR CELEBRITY PARTY\n📅 Sunday\, August 3rd\, 2025🕙 10:00 PM – 3:00 AM📍 ACQUA Entertainment Complex | Downtown Toronto \nGet ready to turn up for the 25th Anniversary of one of the most legendary Caribana events of all time! The Hot 97 x BET All-Star Celebrity Party returns to ACQUA Entertainment Complex for a night of unforgettable vibes\, star-studded performances\, and non-stop music across multiple floors — including the iconic Sky Bar Rooftop Lounge. \nWith room for over 2\,000 guests\, this is your official Caribana Sunday destination — where Toronto’s nightlife meets the biggest names in urban music. \n🔥 LIVE ON STAGE & ON THE DECKS:Top DJs & performers from across Hot 97\, BET\, and the North American club scene\, including:🎧 DJ Self • Young Chow • DJ Capone • Fire Kid Steenie • DJ Bware • MC Crazy Chris… and rumors of major surprise guests still to be announced! 👀 \n🎤 Past surprise guests have included:Drake\, Meek Mill\, J. Cole\, Fabolous\, August Alsina\, Roy Woods\, Bobby V\, Fat Joe\, Director X\, and more!Will history repeat itself? You’ll have to be there to find out… \n✨ Event Highlights: \n\n\n3 floors of music: Hip Hop\, R&B\, Soca\, Reggae\, Calypso & more \n\n\nLegendary rooftop vibes at Sky Bar Patio \n\n\nCelebrity appearances & exclusive VIP experiences \n\n\nDowntown Toronto skyline views\, dancing\, bottle service & summer energy in full effect \n\n\n\n🎟️ Tickets are going fast — secure yours now and be part of the biggest night of Caribana weekend! \n \n#CaribanaSunday #Hot97xBET #TalkOfTorontoApproved #ACQUACelebrityParty
URL:https://talkoftoronto.ca/event/toronto-caribana-sunday-hot-97-bet-all-star-celebrity-party/
LOCATION:Acqua Supper Club\, 50 Prince Edward Island Crescent - CNE Grounds\, Toronto\, Ontario\, Canada
CATEGORIES:Hip Hop,Reggae & Dancehall,Toronto Caribana Carnival
ATTACH;FMTTYPE=image/jpeg:https://talkoftoronto.ca/wp-content/uploads/2025/06/TORONTO-CARIBANA-SUNDAY-HOT-97-BET-ALL-STAR-CELEBRITY-PARTY-2025.jpg
END:VEVENT
END:VCALENDAR