BEGIN:VCALENDAR
VERSION:2.0
PRODID:-//Talk of Toronto - ECPv6.15.20//NONSGML v1.0//EN
CALSCALE:GREGORIAN
METHOD:PUBLISH
X-WR-CALNAME:Talk of Toronto
X-ORIGINAL-URL:https://talkoftoronto.ca
X-WR-CALDESC:Events for Talk of Toronto
REFRESH-INTERVAL;VALUE=DURATION:PT1H
X-Robots-Tag:noindex
X-PUBLISHED-TTL:PT1H
BEGIN:VTIMEZONE
TZID:America/Toronto
BEGIN:DAYLIGHT
TZOFFSETFROM:-0500
TZOFFSETTO:-0400
TZNAME:EDT
DTSTART:20240310T070000
END:DAYLIGHT
BEGIN:STANDARD
TZOFFSETFROM:-0400
TZOFFSETTO:-0500
TZNAME:EST
DTSTART:20241103T060000
END:STANDARD
BEGIN:DAYLIGHT
TZOFFSETFROM:-0500
TZOFFSETTO:-0400
TZNAME:EDT
DTSTART:20250309T070000
END:DAYLIGHT
BEGIN:STANDARD
TZOFFSETFROM:-0400
TZOFFSETTO:-0500
TZNAME:EST
DTSTART:20251102T060000
END:STANDARD
BEGIN:DAYLIGHT
TZOFFSETFROM:-0500
TZOFFSETTO:-0400
TZNAME:EDT
DTSTART:20260308T070000
END:DAYLIGHT
BEGIN:STANDARD
TZOFFSETFROM:-0400
TZOFFSETTO:-0500
TZNAME:EST
DTSTART:20261101T060000
END:STANDARD
END:VTIMEZONE
BEGIN:VEVENT
DTSTART;TZID=America/Toronto:20250803T220000
DTEND;TZID=America/Toronto:20250804T030000
DTSTAMP:20260423T200639
CREATED:20250608T210858Z
LAST-MODIFIED:20250702T165702Z
UID:58101-1754258400-1754276400@talkoftoronto.ca
SUMMARY:TORONTO CARIBANA SUNDAY - KRAFF LIVE AT REBEL
DESCRIPTION:CARIBANA SUNDAY @ REBEL FT. KRAFF LIVE!\n📅 Sunday\, August 3rd\, 2025📍 Rebel Entertainment Complex | Toronto \nGet ready for one of the BIGGEST nights of Caribana 2025 as KRAFF takes over the iconic Rebel stage for an electrifying live performance that will set the city on fire! \nExperience the high energy\, the bass-heavy beats\, and the pure island vibes as we celebrate Caribana Sunday in true Toronto fashion. From Dancehall to Hip Hop\, Afrobeats\, RNB\, and Soca — this party will keep you moving all night long. \n🎤 KRAFF LIVE – Performing All His Hits🎧 Top DJs Spinning Your Favorite Caribbean & Urban Anthems🔥 5\,000+ People | Epic Light Shows | State-of-the-Art Sound \nWhether you’re visiting for Caribana or a Toronto native\, this is the event you don’t want to miss. Grab your crew\, dress to impress\, and come catch the wave. \n🎟️ Tickets are flying — get yours now before it’s a full sell-off! \n  \n \n\n#CaribanaSundayKraffLiveAtRebel#TalkOfTorontoApproved#RebelToronto #Caribana2025 #KraffLive #TorontoCarnivalVibes
URL:https://talkoftoronto.ca/event/toronto-caribana-sunday-kraff-live-at-rebel/
LOCATION:Rebel Nightclub\, 11 Polson St.\, Toronto\, Ontario\, Canada
CATEGORIES:Reggae & Dancehall,Toronto Caribana Carnival
ATTACH;FMTTYPE=image/jpeg:https://talkoftoronto.ca/wp-content/uploads/2025/06/Caribana-Sunday-Toronto-2025-Kraff-Concert-Dancehall-Reggae-Event-Rebel-Nightclub.jpg
END:VEVENT
END:VCALENDAR