BEGIN:VCALENDAR
VERSION:2.0
PRODID:-//Talk of Toronto - ECPv6.15.20//NONSGML v1.0//EN
CALSCALE:GREGORIAN
METHOD:PUBLISH
X-WR-CALNAME:Talk of Toronto
X-ORIGINAL-URL:https://talkoftoronto.ca
X-WR-CALDESC:Events for Talk of Toronto
REFRESH-INTERVAL;VALUE=DURATION:PT1H
X-Robots-Tag:noindex
X-PUBLISHED-TTL:PT1H
BEGIN:VTIMEZONE
TZID:America/Toronto
BEGIN:DAYLIGHT
TZOFFSETFROM:-0500
TZOFFSETTO:-0400
TZNAME:EDT
DTSTART:20240310T070000
END:DAYLIGHT
BEGIN:STANDARD
TZOFFSETFROM:-0400
TZOFFSETTO:-0500
TZNAME:EST
DTSTART:20241103T060000
END:STANDARD
BEGIN:DAYLIGHT
TZOFFSETFROM:-0500
TZOFFSETTO:-0400
TZNAME:EDT
DTSTART:20250309T070000
END:DAYLIGHT
BEGIN:STANDARD
TZOFFSETFROM:-0400
TZOFFSETTO:-0500
TZNAME:EST
DTSTART:20251102T060000
END:STANDARD
BEGIN:DAYLIGHT
TZOFFSETFROM:-0500
TZOFFSETTO:-0400
TZNAME:EDT
DTSTART:20260308T070000
END:DAYLIGHT
BEGIN:STANDARD
TZOFFSETFROM:-0400
TZOFFSETTO:-0500
TZNAME:EST
DTSTART:20261101T060000
END:STANDARD
END:VTIMEZONE
BEGIN:VEVENT
DTSTART;TZID=America/Toronto:20250927T140000
DTEND;TZID=America/Toronto:20250927T220000
DTSTAMP:20260423T172012
CREATED:20250805T200130Z
LAST-MODIFIED:20250922T184752Z
UID:58367-1758981600-1759010400@talkoftoronto.ca
SUMMARY:ULTRA CARIBBEAN FESTIVAL – TORONTO
DESCRIPTION:🌴🔥 ULTRA CARIBBEAN – TORONTO 🔥🌴\n📅 Saturday\, September 27\, 2025\n📍 50 Esna Park Drive\, Markham\, Ontario\, Canada\n🕐 Doors Open: 2 PM | Event Ends: 10 PM \n \n\nToronto — get ready for the Caribbean takeover of the year. \nUltra Caribbean is pulling up with raw Dancehall energy\, bass-heavy riddims\, and unapologetic vibes that represent one culture\, one movement\, one heartbeat. 🇯🇲🇹🇹🇧🇧 \nAidonia\, Masicka\, Malie Don & MORE — you won’t want to miss this highly anticipated event in the heart of the city. \nOne stage. One culture. One movement\, for the people\, by the people 🇯🇲🇹🇹🇧🇧 \n🎟️ Tickets on sale now come catch the wave. \nThis isn’t just a party — it’s a full Caribbean experience. \n\n💥 Introducing: THE BAD GYAL SEGMENT\nA high-octane celebration of female power\, attitude\, and style.\nThis one’s for the gyaldem who run the place — bold\, beautiful\, and bad to the bone. \nExpect heavy-hitting sets\, vibrant energy\, and a crowd that comes to wine\, wave\, and represent. \n\n🎟️ Tickets are on sale now — don’t sleep on this one.\nCome catch the wave. Come rep the culture. \n#UltraCaribbean #BadGyalSegment #DancehallEnergy #TorontoVibes #CaribbeanCulture #FortYork #PalmNations #TalkOfToronto #TorontoCarnivalVibes #ReggaeAndDancehall \n \n\n\n  \n    🎟 Buy Tickets Now
URL:https://talkoftoronto.ca/event/ultra-caribbean-festival-toronto/
LOCATION:50 Esna Park Drive\, 50 Esna Park Drive\, Markham\, Ontario\, Canada
CATEGORIES:Reggae & Dancehall
ATTACH;FMTTYPE=image/jpeg:https://talkoftoronto.ca/wp-content/uploads/2025/08/ULTRA-CARIBBEAN-TORONTO-Reggae-Festival-Concert-Event.jpg
END:VEVENT
END:VCALENDAR