BEGIN:VCALENDAR
VERSION:2.0
PRODID:-//Talk of Toronto - ECPv6.15.20//NONSGML v1.0//EN
CALSCALE:GREGORIAN
METHOD:PUBLISH
X-WR-CALNAME:Talk of Toronto
X-ORIGINAL-URL:https://talkoftoronto.ca
X-WR-CALDESC:Events for Talk of Toronto
REFRESH-INTERVAL;VALUE=DURATION:PT1H
X-Robots-Tag:noindex
X-PUBLISHED-TTL:PT1H
BEGIN:VTIMEZONE
TZID:America/Toronto
BEGIN:DAYLIGHT
TZOFFSETFROM:-0500
TZOFFSETTO:-0400
TZNAME:EDT
DTSTART:20240310T070000
END:DAYLIGHT
BEGIN:STANDARD
TZOFFSETFROM:-0400
TZOFFSETTO:-0500
TZNAME:EST
DTSTART:20241103T060000
END:STANDARD
BEGIN:DAYLIGHT
TZOFFSETFROM:-0500
TZOFFSETTO:-0400
TZNAME:EDT
DTSTART:20250309T070000
END:DAYLIGHT
BEGIN:STANDARD
TZOFFSETFROM:-0400
TZOFFSETTO:-0500
TZNAME:EST
DTSTART:20251102T060000
END:STANDARD
BEGIN:DAYLIGHT
TZOFFSETFROM:-0500
TZOFFSETTO:-0400
TZNAME:EDT
DTSTART:20260308T070000
END:DAYLIGHT
BEGIN:STANDARD
TZOFFSETFROM:-0400
TZOFFSETTO:-0500
TZNAME:EST
DTSTART:20261101T060000
END:STANDARD
END:VTIMEZONE
BEGIN:VEVENT
DTSTART;TZID=America/Toronto:20250213T190000
DTEND;TZID=America/Toronto:20250213T220000
DTSTAMP:20260423T195406
CREATED:20250206T012437Z
LAST-MODIFIED:20250206T012650Z
UID:57463-1739473200-1739484000@talkoftoronto.ca
SUMMARY:Valentines Day  2025 - Candle Making Workshop
DESCRIPTION:Candle Lovers\, This One’s for You! 🕯️✨\nValentines Day 2025 – Candle Making Workshop\n💘 SAVE THE DATE & SECURE YOUR SPOT! 🍾 \nGet ready for a one-of-a-kind sustainability candle making masterclass led by @artbybottleserwick! This exclusive event is perfect for those who love candles\, creativity\, and a good time. \n🔥 What’s in store?\n✔️ Customize & pour your own candle using a bottle you love ♻️\n🥂 Sip champagne & enjoy a delicious spread of finger foods\n🎤 End the night with Karaoke – because why not? \n📅 When? Thursday\, FEBRUARY 13\, 2025 💖\n📍 Where? @hapatoronto (602 College St\, Downtown Toronto\, ON M6G 1B4) \nLimited seats available! 🎟 Secure your spot via Partiful & Eventbrite \n \n#candlemakingtoronto #bottleserwick #repurposingbottlesyoulove #sustainability #champagnelover #torontoevents #datenightideas
URL:https://talkoftoronto.ca/event/valentines-day-candle-making-workshop/
LOCATION:Hapa Toronto\, 602 College St\, Toronto\, Ontario\, M6G 1B4\, Canada
CATEGORIES:Art
ATTACH;FMTTYPE=image/jpeg:https://talkoftoronto.ca/wp-content/uploads/2025/02/valentines-2025-candle-making-workshop-toronto-events.jpg
END:VEVENT
END:VCALENDAR