BEGIN:VCALENDAR
VERSION:2.0
PRODID:-//Talk of Toronto - ECPv6.15.20//NONSGML v1.0//EN
CALSCALE:GREGORIAN
METHOD:PUBLISH
X-WR-CALNAME:Talk of Toronto
X-ORIGINAL-URL:https://talkoftoronto.ca
X-WR-CALDESC:Events for Talk of Toronto
REFRESH-INTERVAL;VALUE=DURATION:PT1H
X-Robots-Tag:noindex
X-PUBLISHED-TTL:PT1H
BEGIN:VTIMEZONE
TZID:America/Toronto
BEGIN:DAYLIGHT
TZOFFSETFROM:-0500
TZOFFSETTO:-0400
TZNAME:EDT
DTSTART:20250309T070000
END:DAYLIGHT
BEGIN:STANDARD
TZOFFSETFROM:-0400
TZOFFSETTO:-0500
TZNAME:EST
DTSTART:20251102T060000
END:STANDARD
BEGIN:DAYLIGHT
TZOFFSETFROM:-0500
TZOFFSETTO:-0400
TZNAME:EDT
DTSTART:20260308T070000
END:DAYLIGHT
BEGIN:STANDARD
TZOFFSETFROM:-0400
TZOFFSETTO:-0500
TZNAME:EST
DTSTART:20261101T060000
END:STANDARD
BEGIN:DAYLIGHT
TZOFFSETFROM:-0500
TZOFFSETTO:-0400
TZNAME:EDT
DTSTART:20270314T070000
END:DAYLIGHT
BEGIN:STANDARD
TZOFFSETFROM:-0400
TZOFFSETTO:-0500
TZNAME:EST
DTSTART:20271107T060000
END:STANDARD
END:VTIMEZONE
BEGIN:VEVENT
DTSTART;TZID=America/Toronto:20260214T180000
DTEND;TZID=America/Toronto:20260214T230000
DTSTAMP:20260424T024316
CREATED:20260211T005727Z
LAST-MODIFIED:20260211T011616Z
UID:61704-1771092000-1771110000@talkoftoronto.ca
SUMMARY:VALIANT Live in Concert Toronto -"Passenger Princess Deluxe Tour"
DESCRIPTION:Valiant Live in Concert Toronto: Passenger Princess Deluxe Tour – A Valentine’s Day Special at REBEL\nToronto\, the “Dunce Cheque” king is coming to take over Valentine’s Day. \n\n  \nThis February 14th\, skip the standard dinner reservations and head to the waterfront for a high-voltage night with the hottest name in Dancehall. Valiant is bringing his “Passenger Princess Deluxe Tour” to REBEL\, and it’s officially the ultimate “Valiantine’s” plan for the city’s lovers and ravers alike. \n\nFresh off a historic run of global hits like “Mad Out\,” “Speed Off\,” and “St. Mary\,” Valiant has redefined the modern Dancehall sound. Known for his melodic flow and infectious “Kotch” energy\, he’s set to turn REBEL into a tropical oasis for one night only. Whether you’re a “Passenger Princess” yourself or just looking for the best vibe in the 6ix\, this is the place to be. \n \n\nWhy You Can’t Miss It\n\n\nThe Atmosphere: There is no better place to celebrate Valentine’s Day than REBEL\, Toronto’s premier nightlife destination\, featuring world-class sound and a view of the skyline. \n\n\nThe Vibes: Expect a special “Valiantine” setlist designed for the ladies\, featuring his smooth ballads mixed with the high-energy anthems that have dominated the charts. \n\n \n\nThe Tour: Following a massive North American run\, the Passenger Princess Deluxe Tour is an upgraded\, high-production experience that brings the spirit of Jamaica straight to Polson Pier. \n\n\nEvent Details\n\n\nDate: Saturday\, February 14\, 2026 (Valentine’s Day) \n\n \n\nTime: Doors open at 6:00 PM \n\n \n\nLocation: REBEL\, 11 Polson Street\, Toronto\, ON \n\n \n\nAge Requirement: 19+ (Valid Photo ID Required) \n\n \n\nTickets: $63.15 – $144.79 (Prices vary by tier and VIP access) \n\n \n\n\nSecure Your Spot\nTickets for Valiant are known to move fast\, and with a Valentine’s Day date\, this show is guaranteed to be a sell-out. Treat yourself or your partner to a night of pure Caribbean energy. \n[BUY TICKETS + VIP HERE] \n\n \n\n\n  \n    🎟 Buy Tickets Now
URL:https://talkoftoronto.ca/event/valiant-live-in-concert-toronto-passenger-princess-deluxe-tour/
CATEGORIES:Concerts & Live Music,Nightlife & Parties,Reggae & Dancehall
ATTACH;FMTTYPE=image/jpeg:https://talkoftoronto.ca/wp-content/uploads/2026/02/Valiant-reggae-concert-event-talkof-toronto.jpg
END:VEVENT
END:VCALENDAR