BEGIN:VCALENDAR
VERSION:2.0
PRODID:-//Talk of Toronto - ECPv6.15.20//NONSGML v1.0//EN
CALSCALE:GREGORIAN
METHOD:PUBLISH
X-WR-CALNAME:Talk of Toronto
X-ORIGINAL-URL:https://talkoftoronto.ca
X-WR-CALDESC:Events for Talk of Toronto
REFRESH-INTERVAL;VALUE=DURATION:PT1H
X-Robots-Tag:noindex
X-PUBLISHED-TTL:PT1H
BEGIN:VTIMEZONE
TZID:America/Toronto
BEGIN:DAYLIGHT
TZOFFSETFROM:-0500
TZOFFSETTO:-0400
TZNAME:EDT
DTSTART:20230312T070000
END:DAYLIGHT
BEGIN:STANDARD
TZOFFSETFROM:-0400
TZOFFSETTO:-0500
TZNAME:EST
DTSTART:20231105T060000
END:STANDARD
BEGIN:DAYLIGHT
TZOFFSETFROM:-0500
TZOFFSETTO:-0400
TZNAME:EDT
DTSTART:20240310T070000
END:DAYLIGHT
BEGIN:STANDARD
TZOFFSETFROM:-0400
TZOFFSETTO:-0500
TZNAME:EST
DTSTART:20241103T060000
END:STANDARD
BEGIN:DAYLIGHT
TZOFFSETFROM:-0500
TZOFFSETTO:-0400
TZNAME:EDT
DTSTART:20250309T070000
END:DAYLIGHT
BEGIN:STANDARD
TZOFFSETFROM:-0400
TZOFFSETTO:-0500
TZNAME:EST
DTSTART:20251102T060000
END:STANDARD
END:VTIMEZONE
BEGIN:VEVENT
DTSTART;TZID=America/Toronto:20240802T170000
DTEND;TZID=America/Toronto:20240804T233000
DTSTAMP:20260424T052119
CREATED:20240716T214625Z
LAST-MODIFIED:20240716T214812Z
UID:55437-1722618000-1722814200@talkoftoronto.ca
SUMMARY:Veld Music Festival 2024
DESCRIPTION:Veld Music Festival 2024\nAugust 2nd – 4th\, 2024 \nDownsview Park\, Toronto \nUnveiling the Lineup \nWith a legacy of delivering extraordinary moments\, VELD 2024 is poised to showcase an impressive roster of international and local talent. Artists like Alan Walker\, Alesso\, Marshmello\, Martin Garrix\, Kaskade\, and Eric Prydz\, debuting his mesmerizing HOLO visual spectacle in Canada\, will headline this year’s festivities.\nCheck out the full lineup here: https://veldmusicfestival.com/lineup/\n\n \nWhat’s New This Year:\nThis year\, VELD introduces several exciting enhancements: \n\nHOLO by Eric Prydz: Experience the debut of HOLO\, a breathtaking visual spectacle transforming the main stage.\nRedesigned Stages: Enjoy new\, innovative stage designs that elevate the festival’s production quality.\nSirkus Stage: Introducing the Sirkus Stage\, offering a unique setting and atmosphere unlike ever before.\nNew Lost and Found System: A revamped system to facilitate the safe return of lost items.\nNew Festival App: Designed by the creators of Tomorrowland\, our new app enhances your festival experience with innovative features and real-time updates.\n\n 
URL:https://talkoftoronto.ca/event/veld-music-festival-2024-toronto/
LOCATION:Downsview Park\, 35 Carl Hall Road\, Toronto\, Ontario\, M3K 2B6\, Canada
CATEGORIES:House
ATTACH;FMTTYPE=image/jpeg:https://talkoftoronto.ca/wp-content/uploads/2024/07/Veld-2024-Full-Lineup-Square.jpg
END:VEVENT
END:VCALENDAR