BEGIN:VCALENDAR
VERSION:2.0
PRODID:-//Talk of Toronto - ECPv6.15.20//NONSGML v1.0//EN
CALSCALE:GREGORIAN
METHOD:PUBLISH
X-ORIGINAL-URL:https://talkoftoronto.ca
X-WR-CALDESC:Events for Talk of Toronto
REFRESH-INTERVAL;VALUE=DURATION:PT1H
X-Robots-Tag:noindex
X-PUBLISHED-TTL:PT1H
BEGIN:VTIMEZONE
TZID:America/Toronto
BEGIN:DAYLIGHT
TZOFFSETFROM:-0500
TZOFFSETTO:-0400
TZNAME:EDT
DTSTART:20250309T070000
END:DAYLIGHT
BEGIN:STANDARD
TZOFFSETFROM:-0400
TZOFFSETTO:-0500
TZNAME:EST
DTSTART:20251102T060000
END:STANDARD
BEGIN:DAYLIGHT
TZOFFSETFROM:-0500
TZOFFSETTO:-0400
TZNAME:EDT
DTSTART:20260308T070000
END:DAYLIGHT
BEGIN:STANDARD
TZOFFSETFROM:-0400
TZOFFSETTO:-0500
TZNAME:EST
DTSTART:20261101T060000
END:STANDARD
BEGIN:DAYLIGHT
TZOFFSETFROM:-0500
TZOFFSETTO:-0400
TZNAME:EDT
DTSTART:20270314T070000
END:DAYLIGHT
BEGIN:STANDARD
TZOFFSETFROM:-0400
TZOFFSETTO:-0500
TZNAME:EST
DTSTART:20271107T060000
END:STANDARD
END:VTIMEZONE
BEGIN:VEVENT
DTSTART;TZID=America/Toronto:20260418T220000
DTEND;TZID=America/Toronto:20260419T020000
DTSTAMP:20260424T022536
CREATED:20260211T031901Z
LAST-MODIFIED:20260324T161555Z
UID:61723-1776549600-1776564000@talkoftoronto.ca
SUMMARY:Kranium Live Concert in Toronto 2026 -
DESCRIPTION:Kranium Live: The Melody Master Takes Over NOIR at REBEL\nToronto\, the “King of Melody” is back to set the night on fire. \nOn Saturday\, April 18th\, 2026\, the undisputed heavyweight of melodic Dancehall\, Kranium\, is bringing his signature smooth vocals and heavy basslines to NOIR. Tucked inside the legendary REBEL Entertainment Complex\, NOIR provides the perfect intimate\, high-end atmosphere for a night of pure Caribbean heat. \nKranium has spent the last decade bridge-building between Kingston and the global charts. From the timeless “Nobody Has to Know” to more recent anthems like “Gal Policy” and “Mind Games\,” he knows exactly how to work a Toronto crowd. This isn’t just a concert; it’s an up-close-and-personal vibe in the city’s most luxurious dance space. \nThe NOIR Experience\nLocated on the second floor of REBEL\, NOIR offers a distinct\, clandestine feel. With its own floor-to-ceiling glass windows overlooking the dramatic Toronto skyline and Lake Ontario\, you get the energy of a stadium show with the exclusivity of a private lounge. \nWhat to Expect\n\n\nSmooth Foundations: All the hits that made Kranium a household name in the 6ix. \n\n\nThe Atmosphere: A sophisticated\, 19+ crowd ready to dance until the early morning. \n\n\nThe View: Unmatched panoramic views of the city as the soundtrack of the night plays out. \n\n\nEvent Details\n\n\nArtist: Kranium (Live in Concert) \n\n\nDate: Saturday\, April 18\, 2026 \n\n\nTime: Doors open at 10:00 PM \n\n\nLocation: NOIR (Inside REBEL)\, 11 Polson Street\, Toronto\, ON \n\n\nAge Requirement: 19+ (Valid Photo ID Required) \n\n\nDress Code: Fashionable Attire (Dress to impress!) \n\n\n\nSecure Your Spot\nNOIR is an intimate space and tickets for an artist of Kranium’s caliber are guaranteed to sell out. Don’t wait—secure your entry to the smoothest party of the spring. \n[BUY TICKETS HERE] \n\n \n\n\n  \n    🎟 Buy Tickets Now\n  \n\n\nSponsored Ad:
URL:https://talkoftoronto.ca/event/kranium-live-concert-in-toronto-2026/
LOCATION:Noir Inside Rebel\, 11 Polson Street\, Toronto\, Ontario\, m5a1a4\, Canada
CATEGORIES:Concerts & Live Music,Nightlife & Parties,Reggae & Dancehall
ATTACH;FMTTYPE=image/jpeg:https://talkoftoronto.ca/wp-content/uploads/2026/02/Kranium-Live-Concert-in-Toronto-at-REBEL-2026-Reggae-Dancehall.jpg
END:VEVENT
END:VCALENDAR