BEGIN:VCALENDAR
VERSION:2.0
PRODID:-//Talk of Toronto - ECPv6.15.20//NONSGML v1.0//EN
CALSCALE:GREGORIAN
METHOD:PUBLISH
X-WR-CALNAME:Talk of Toronto
X-ORIGINAL-URL:https://talkoftoronto.ca
X-WR-CALDESC:Events for Talk of Toronto
REFRESH-INTERVAL;VALUE=DURATION:PT1H
X-Robots-Tag:noindex
X-PUBLISHED-TTL:PT1H
BEGIN:VTIMEZONE
TZID:America/Toronto
BEGIN:DAYLIGHT
TZOFFSETFROM:-0500
TZOFFSETTO:-0400
TZNAME:EDT
DTSTART:20240310T070000
END:DAYLIGHT
BEGIN:STANDARD
TZOFFSETFROM:-0400
TZOFFSETTO:-0500
TZNAME:EST
DTSTART:20241103T060000
END:STANDARD
BEGIN:DAYLIGHT
TZOFFSETFROM:-0500
TZOFFSETTO:-0400
TZNAME:EDT
DTSTART:20250309T070000
END:DAYLIGHT
BEGIN:STANDARD
TZOFFSETFROM:-0400
TZOFFSETTO:-0500
TZNAME:EST
DTSTART:20251102T060000
END:STANDARD
BEGIN:DAYLIGHT
TZOFFSETFROM:-0500
TZOFFSETTO:-0400
TZNAME:EDT
DTSTART:20260308T070000
END:DAYLIGHT
BEGIN:STANDARD
TZOFFSETFROM:-0400
TZOFFSETTO:-0500
TZNAME:EST
DTSTART:20261101T060000
END:STANDARD
END:VTIMEZONE
BEGIN:VEVENT
DTSTART;TZID=America/Toronto:20251116T120000
DTEND;TZID=America/Toronto:20251116T170000
DTSTAMP:20260424T090335
CREATED:20251029T220212Z
LAST-MODIFIED:20251029T220855Z
UID:61178-1763294400-1763312400@talkoftoronto.ca
SUMMARY:BLACKxBLACK - All Black Affair @ Future (Sunday November 16th 2025)
DESCRIPTION:Get ready to experience the ultimate BLACKxBLACK event at Future Nightclub . Dresscode all Black\n\n\nMogul Minute & North Division Presents \nBlackxBlack \nAll Black Affair \n– \nSunday November 16th 2025 \nFuture Nightclub | 570 Queen St West \nMusic By: Summer Knocks\, Fling\, Dj D1 & Tre Mollie \nHosted By: Matt Mogul & Brandon Billions \n– \nA Stylish Dresscode will be inforced \nNo Sport Attire – No Hoodies – No Sport jerseys -No Tracksuits \nFor More Information \nContact: (437)981-1742 \n#BlackxBlack #NorthxDivision #MogulMinute #Toronto \n  \n\n\n\n\n\n \n\n\n  \n    🎟 Buy Tickets Now
URL:https://talkoftoronto.ca/event/blackxblack-all-black-affair-future-sunday-november-16th-2025/
LOCATION:Future\, 570 Queen Street West\, Toronto\, ON M5V 2B5\, Toronto\, M5V 2B5\, Canada
CATEGORIES:Afro Beats,Amapiano,Hip-Hop/Rap,Nightlife & Parties,Reggae & Dancehall
ATTACH;FMTTYPE=image/jpeg:https://talkoftoronto.ca/wp-content/uploads/2025/10/BLACK-BLACK-All-Black-Affair-Future-Toronto-nightlife-.jpg
END:VEVENT
BEGIN:VEVENT
DTSTART;TZID=America/Toronto:20251031T220000
DTEND;TZID=America/Toronto:20251101T020000
DTSTAMP:20260424T090335
CREATED:20251017T214238Z
LAST-MODIFIED:20251017T214839Z
UID:60819-1761948000-1761962400@talkoftoronto.ca
SUMMARY:MONSTERS BALL Invades Dave & Buster's for Halloween!
DESCRIPTION:Game On\, Ghoul Style: MONSTERS BALL Invades Dave & Buster’s for Halloween!\n\nGet ready for the most fun Halloween party in the GTA\, guaranteed to be better than any trick-or-treating you did as a kid! Upper Echelon Events is breaking tradition and bringing their infamous MONSTERS BALL: Sinners & Winners party out of the club and into one of the city’s most exciting venues: Dave & Buster’s Toronto! \nThis isn’t just a dance party—it’s a massive\, multi-sensory Halloween playground where you can Vibe\, Play\, Dance\, Sing\, Socialize & Taste all night long. \n \nThe Details\n\nWhat: MONSTERS BALL: Sinners & Winners\nWhen: Friday\, October 31st\, 2025\nTime: 10:00 PM – 3:00 AM EDT\nWhere: Dave & Buster’s Toronto (120 Interchange Way\, Vaughan\, ON L4K 5C3)\nHosted By: Upper Echelon Events\n\nNo Bottle Service\, Just Max Fun\nForget the velvet ropes and VIP booths. This party is all about pure\, unadulterated fun\, leveraging the incredible space at Dave & Buster’s: \n\nArcade & Games: Enjoy the massive arcade with interactive and multiplayer games.\nKaraoke Room: Take the mic and sing your heart out in the dedicated karaoke room!\nPool Tables: Multiple pool tables are available for some friendly competition.\nDancefloor: Groove across multiple rooms and bars.\n\n \nTreats & Prizes Galore!\nYour admission includes some sweet\, complimentary treats to keep you energized for the night: \n\nComplimentary Appetizers (Chicken\, Beef & Vegan options)\nComplimentary Churro Bar\nComplimentary Snack & Candy Bars\n\nDon’t forget the Costume Contest! Prizes will be awarded for the best individual and group costumes. \n  \nThe Soundtrack & Vibe Setters\nThe music will keep the energy high across multiple rooms with a diverse soundtrack: \n\nSoundtrack: Hip Hop x R&B x Reggae x Soca x Afrobeats x Latin x More\nVibe Setters: DJ Rych Kydd\, DJ Spoonz\, and DJ Suga B\n\n \nCostumes & Game Play\n\nAttire: Costumes\, cosplay\, lingerie\, or masks are highly encouraged\, but not mandatory. Be creative or wear what you dare! (Note: No metal\, sharp\, or overly realistic weapon props allowed.)\nGame Play: Get the most out of the venue! Unlimited Game Play on non-prize games and Discounted Game Play on prize games are available exclusively through advance “Ticket Add-Ons.” Games will be regular price if purchased on-site.\n\nGet your tickets now and join us for Toronto’s most interactive and memorable Halloween experience! \n\n#MonstersBall #DaveAndBusters #HalloweenTO #VaughanEvents #ArcadeParty #UpperEchelonEvents #TalkofToronto \n \n \n \n  \n\n \n\n\n  \n    🎟 Buy Tickets Now
URL:https://talkoftoronto.ca/event/monsters-ball-invades-dave-busters-for-halloween/
LOCATION:Dave & Buster’s Toronto\, 120 Interchange Way\, Vaughan\, Ontario\, L4K 5C3\, Canada
CATEGORIES:Afro Beats,Amapiano,Reggae & Dancehall,Soca
ATTACH;FMTTYPE=image/jpeg:https://talkoftoronto.ca/wp-content/uploads/2025/10/MONSTERS-BALL-Sinners-Winners-Vibe-Play-Karaoke-Eat.jpg
END:VEVENT
BEGIN:VEVENT
DTSTART;TZID=America/Toronto:20250926T200000
DTEND;TZID=America/Toronto:20250927T003000
DTSTAMP:20260424T090335
CREATED:20250918T145005Z
LAST-MODIFIED:20250918T145005Z
UID:59588-1758916800-1758933000@talkoftoronto.ca
SUMMARY:Uncle Waffles LIVE Concert in Toronto
DESCRIPTION:🔥 Uncle Waffles LIVE in Toronto 🔥 \nToronto\, the wait is over! Uncle Waffles\, the international amapiano sensation\, is bringing her electrifying performance to History this fall. Known for her infectious energy\, viral dance moves\, and genre-defining DJ sets\, she’s taking over the city for one unforgettable night. \nFrom South Africa to the world\, Uncle Waffles has quickly become one of the most talked-about DJs and performers on the global stage — and now it’s Toronto’s turn to experience her unmatched vibe. \n\n📍 Venue\nHistory\n1663 Queen St E\, Toronto\, ON \n📅 Date & Time\nFriday\, September 26\, 2025\nDoors Open: 8:00 PM \n\n🎶 Why You Need to Be There\n\nExperience the queen of amapiano live in action\nDance all night to the hottest sounds direct from South Africa\nA high-energy show that blends culture\, music\, and vibe like no other\n\n\n🎟️ Tickets are moving fast – don’t wait!\n👉 Buy tickets here \n#UncleWaffles #TorontoConcerts #TalkofToronto #Amapiano #TorontoEvents \n 
URL:https://talkoftoronto.ca/event/uncle-waffles-live-concert-in-toronto-2025/
LOCATION:History\, 1663 Queen St. East\, Toronto\, Ontario\, M4L 1G5\,\, Canada
CATEGORIES:Afro Beats,Amapiano
ATTACH;FMTTYPE=image/jpeg:https://talkoftoronto.ca/wp-content/uploads/2025/09/uncle-waffles-toronto-concert.jpg
END:VEVENT
END:VCALENDAR