BEGIN:VCALENDAR
VERSION:2.0
PRODID:-//Talk of Toronto - ECPv6.15.20//NONSGML v1.0//EN
CALSCALE:GREGORIAN
METHOD:PUBLISH
X-WR-CALNAME:Talk of Toronto
X-ORIGINAL-URL:https://talkoftoronto.ca
X-WR-CALDESC:Events for Talk of Toronto
REFRESH-INTERVAL;VALUE=DURATION:PT1H
X-Robots-Tag:noindex
X-PUBLISHED-TTL:PT1H
BEGIN:VTIMEZONE
TZID:America/Toronto
BEGIN:DAYLIGHT
TZOFFSETFROM:-0500
TZOFFSETTO:-0400
TZNAME:EDT
DTSTART:20240310T070000
END:DAYLIGHT
BEGIN:STANDARD
TZOFFSETFROM:-0400
TZOFFSETTO:-0500
TZNAME:EST
DTSTART:20241103T060000
END:STANDARD
BEGIN:DAYLIGHT
TZOFFSETFROM:-0500
TZOFFSETTO:-0400
TZNAME:EDT
DTSTART:20250309T070000
END:DAYLIGHT
BEGIN:STANDARD
TZOFFSETFROM:-0400
TZOFFSETTO:-0500
TZNAME:EST
DTSTART:20251102T060000
END:STANDARD
BEGIN:DAYLIGHT
TZOFFSETFROM:-0500
TZOFFSETTO:-0400
TZNAME:EDT
DTSTART:20260308T070000
END:DAYLIGHT
BEGIN:STANDARD
TZOFFSETFROM:-0400
TZOFFSETTO:-0500
TZNAME:EST
DTSTART:20261101T060000
END:STANDARD
END:VTIMEZONE
BEGIN:VEVENT
DTSTART;TZID=America/Toronto:20251106T190000
DTEND;TZID=America/Toronto:20251107T010000
DTSTAMP:20260424T155129
CREATED:20251028T231628Z
LAST-MODIFIED:20251102T143753Z
UID:61085-1762455600-1762477200@talkoftoronto.ca
SUMMARY:Lil Tecca Live Concert in Toronto: The Dopamine Experience
DESCRIPTION:🤯 Lil Tecca: The Dopamine Experience is Coming to Toronto! 🚀 \nGet ready to experience the high-energy sounds and infectious vibe of hip-hop star LIL TECCA as he brings his acclaimed “The Dopamine Experience” tour to the city! \nKnown for hits like “Ransom\,” “Did It Again\,” and tracks from his latest album DOPAMINE\, Tecca is set to deliver an unforgettable night. Don’t miss the chance to catch one of the biggest young names in rap live! \n\n🎤 Event Details\n\nArtist: Lil Tecca\nTour: The Dopamine Experience\nDate: Thursday\, November 6\, 2025\nTime: 7:00 PM (Doors)\nVenue: REBEL\, Toronto\, ON\n\n\n🎟️ Secure Your Tickets!\nThis is an ALL AGES event (with a 19+ mezzanine section available)! Tickets are selling fast. \n➡️ BUY TICKETS HERE: \n#LilTecca #DopamineExperience #REBELToronto #TorontoConcert #HipHop #AllAges \n \n  \n\n \n\n\n  \n    🎟 Buy Tickets Now
URL:https://talkoftoronto.ca/event/lil-tecca-the-dopamine-experience-concert-toronto/
LOCATION:Rebel Nightclub\, 11 Polson St.\, Toronto\, Ontario\, Canada
CATEGORIES:Concerts & Live Music,Hip-Hop/Rap
ATTACH;FMTTYPE=image/jpeg:https://talkoftoronto.ca/wp-content/uploads/2025/10/unnamed-file-scaled.jpg
END:VEVENT
BEGIN:VEVENT
DTSTART;TZID=America/Toronto:20251110T190000
DTEND;TZID=America/Toronto:20251110T233000
DTSTAMP:20260424T155129
CREATED:20250916T160433Z
LAST-MODIFIED:20250927T025730Z
UID:59487-1762801200-1762817400@talkoftoronto.ca
SUMMARY:Sabrina Carpenter: Short n’ Sweet Tour — Toronto Concert - Day 1
DESCRIPTION:Sabrina Carpenter: Short n’ Sweet Tour — Toronto Concert – Day 1🇨🇦\nPop sensation Sabrina Carpenter is bringing her Short n’ Sweet Tour to Scotiabank Arena in Toronto on Monday\, November 10\, 2025 at 7:00 PM. \nFrom her latest album Short n’ Sweet\, Sabrina promises a night full of catchy pop hits\, high-energy performance\, and supporting acts including Amber Mark and Ravyn Lenae. \nTickets are going fast—don’t miss your chance to see Sabrina live! \n👉 Click here to buy tickets 🎟️ \n \n \n\n \n\n\n  \n    🎟 Buy Tickets Now
URL:https://talkoftoronto.ca/event/sabrina-carpenter-short-n-sweet-tour-toronto-concert/
LOCATION:Scotiabank Arena\, 50 Bay Street\, Suite 500\, Toronto\, Ontario\, M5J 2L2\, Canada
CATEGORIES:Concerts & Live Music,Pop / Indie Pop
ATTACH;FMTTYPE=image/jpeg:https://talkoftoronto.ca/wp-content/uploads/2025/09/Sabrina-Carpenter-brings-her-Short-n-Sweet-Tour-to-Toronto-on-Nov-10-2025.jpg
END:VEVENT
BEGIN:VEVENT
DTSTART;TZID=America/Toronto:20251111T190000
DTEND;TZID=America/Toronto:20251111T233000
DTSTAMP:20260424T155129
CREATED:20250916T163921Z
LAST-MODIFIED:20250927T030518Z
UID:59496-1762887600-1762903800@talkoftoronto.ca
SUMMARY:Sabrina Carpenter: Short n’ Sweet Tour — Toronto Concert - Day 2
DESCRIPTION:Sabrina Carpenter: Short n’ Sweet Tour — Toronto – Day 2 🇨🇦\nPop sensation Sabrina Carpenter is bringing her Short n’ Sweet Tour for a 2nd day to Scotiabank Arena in Toronto on Tuesday\, November 11\, 2025 at 7:00 PM. \nFrom her latest album Short n’ Sweet\, Sabrina promises a night full of catchy pop hits\, high-energy performance\, and supporting acts including Amber Mark and Ravyn Lenae. \nTickets are going fast—don’t miss your chance to see Sabrina live! \n👉 Click here to buy tickets 🎟️ \n \n \n\n \n\n\n  \n    🎟 Buy Tickets Now
URL:https://talkoftoronto.ca/event/sabrina-carpenter-short-n-sweet-tour-toronto-concert-day2/
LOCATION:Scotiabank Arena\, 50 Bay Street\, Suite 500\, Toronto\, Ontario\, M5J 2L2\, Canada
CATEGORIES:Concerts & Live Music,Pop / Indie Pop
ATTACH;FMTTYPE=image/jpeg:https://talkoftoronto.ca/wp-content/uploads/2025/09/Sabrina-Carpenter-brings-her-Short-n-Sweet-Tour-to-Toronto-on-Nov-10-2025.jpg
END:VEVENT
BEGIN:VEVENT
DTSTART;TZID=America/Toronto:20251112T190000
DTEND;TZID=America/Toronto:20251113T010000
DTSTAMP:20260424T155129
CREATED:20251029T003555Z
LAST-MODIFIED:20251102T143754Z
UID:61088-1762974000-1762995600@talkoftoronto.ca
SUMMARY:DANNY BROWN  Live Concert in Toronto- STARDUST TOUR
DESCRIPTION:⭐ RAPSEASON Presents: DANNY BROWN – STARDUST TOUR ⭐ \nDetroit’s experimental hip-hop icon DANNY BROWN is bringing the STARDUST TOUR to Toronto! This is your chance to hear new music from his anticipated album\, Stardust\, which he has described as his most different and surprising work yet. \nKnown for his distinctive voice\, chaotic energy\, and critical acclaim\, Danny Brown’s live show is a one-of-a-kind experience that blurs the lines of hip-hop and electronic music. \nGet ready for an explosive night with special guests Femtanyl and Underscores! \n\n🎤 Event Details\n\nArtist: Danny Brown\nTour: STARDUST TOUR\nSpecial Guests: Femtanyl and Underscores\nDate: Wednesday\, November 12\, 2025\nVenue: REBEL\, Toronto\, ON\nDoors: 7:00 PM EST\nShow: 8:00 PM EST\n\n\n🎟️ Tickets & Info\nPresented by RAPSEASON\, this is an ALL AGES event (19+ mezzanine available). Don’t miss the only Canadian stop on this tour! \n➡️ BUY TICKETS HERE: \n#DannyBrown #StardustTour #REBELToronto #HipHop #RAPSEASON #Femtanyl #Underscores \n \n \n\n \n\n\n  \n    🎟 Buy Tickets Now
URL:https://talkoftoronto.ca/event/danny-brown-live-concert-in-toronto-stardust-tour/
LOCATION:Rebel Nightclub\, 11 Polson St.\, Toronto\, Ontario\, Canada
CATEGORIES:Concerts & Live Music,Hip-Hop/Rap
ATTACH;FMTTYPE=image/jpeg:https://talkoftoronto.ca/wp-content/uploads/2025/10/DANNY-BROWN-Live-Concert-in-Toronto.jpg
END:VEVENT
BEGIN:VEVENT
DTSTART;TZID=America/Toronto:20251113T190000
DTEND;TZID=America/Toronto:20251114T003000
DTSTAMP:20260424T155129
CREATED:20251105T045800Z
LAST-MODIFIED:20251105T050304Z
UID:61416-1763060400-1763080200@talkoftoronto.ca
SUMMARY:Tobi Toronto Concert 2025 - Come Back Home
DESCRIPTION:  \nJUNO Winner TOBi Brings His “Unapologetic Soul Music” Back Home to The Opera House\nGet ready\, Toronto! Nigerian-Canadian rapper\, singer\, and 4-time JUNO Award winner TOBi is returning to his city for an electrifying night of “unapologetic soul music.” \nKnown for his smooth flow and powerful\, introspective lyrics\, TOBi masterfully blends elements of hip-hop\, R&B\, soul\, jazz\, and Afrobeat. His music is both a personal journey of growth and a powerful form of social commentary\, earning him critical acclaim and major awards\, including the 2024 JUNO for Rap Album of the Year for his project\, PANIC. \nFollowing the release of his mixtape ELEMENTS Vol. 2 earlier this year\, don’t miss one of Canada’s most compelling storytellers live on stage at a Toronto institution. \n\n  \nTOBi Live in Toronto\n\nWHAT: TOBi\nWHEN: Thursday\, November 13\, 2025 at 7:00 PM\nWHERE: The Opera House\, Toronto\, ON\nTICKETS: Get Your Tickets Here\n\n#TalkofToronto #TorontoEvents #TOBi #TheOperaHouse #HipHop #SoulMusic #TorontoConcerts #JUNOwinner \n  \n\n \n\n\n  \n    🎟 Buy Tickets Now
URL:https://talkoftoronto.ca/event/tobi-toronto-concert-2025-come-back-home/
LOCATION:The Opera House\, 735 Queen St. E\, Toronto\, Ontario\, M4M 1H1\, Canada
CATEGORIES:Concerts & Live Music,Hip-Hop/Rap
ATTACH;FMTTYPE=image/jpeg:https://talkoftoronto.ca/wp-content/uploads/2025/11/Tobi-Toronto-Concert-Come-Back-Home-.jpg
END:VEVENT
BEGIN:VEVENT
DTSTART;TZID=America/Toronto:20251115T220000
DTEND;TZID=America/Toronto:20251116T020000
DTSTAMP:20260424T155129
CREATED:20251029T143139Z
LAST-MODIFIED:20251102T143753Z
UID:61079-1763244000-1763258400@talkoftoronto.ca
SUMMARY:Pervert Live Concert in Toronto
DESCRIPTION:🔥 PRISM EVENTS Presents: PERVERT at REBEL Toronto 🔥\nGet ready for one of the most anticipated party events of the season! PRISM EVENTS brings the legendary international circuit party PERVERT back to REBEL Toronto for a night of high-energy beats\, world-class DJs\, and the city’s most perverse and fabulous Go-Gos. \nJoin thousands on the main room floor for a massive\, hot\, and heavy dance experience that runs late into the morning. Dress to impress and prepare for the ultimate party takeover! \n\n✨ Event Details\n\nEvent: PERVERT (International Circuit Party)\nPresented by: PRISM EVENTS\nDate: Saturday\, November 15\, 2025\nVenue: REBEL\, Toronto\, ON\nTime: 10:00 PM EST (Doors) – 5:00 AM (Close)\nAge Restriction: LEGAL AGE 19+ EVENT (Valid photo ID required)\n\n\n🎟️ Secure Your Spot!\n  \nDon’t miss out on this spectacular party. Tickets are General Admission\, with all price tiers granting the same access to the party experience. \n➡️ BUY TICKETS HERE \n \n  \n\n \n\n\n  \n    🎟 Buy Tickets Now
URL:https://talkoftoronto.ca/event/pervert-concert-toronto-rebel/
LOCATION:Rebel Nightclub\, 11 Polson St.\, Toronto\, Ontario\, Canada
CATEGORIES:Concerts & Live Music,Dance/Electronic,House / EDM
ATTACH;FMTTYPE=image/png:https://talkoftoronto.ca/wp-content/uploads/2025/10/matinee-Pervert-toronto-concert-rebel.png
END:VEVENT
BEGIN:VEVENT
DTSTART;TZID=America/Toronto:20251116T203000
DTEND;TZID=America/Toronto:20251117T010000
DTSTAMP:20260424T155129
CREATED:20250930T232859Z
LAST-MODIFIED:20251002T213632Z
UID:60188-1763325000-1763341200@talkoftoronto.ca
SUMMARY:Sexyy Red Concert — Live in Toronto
DESCRIPTION:Sexyy Red — Live Concert in Toronto (FIRST TIME!)\nToronto\, it’s up! 🚨 For the first time ever\, @sexyyred touches down live in concert — one night only. \nDate: Sunday\, November 16\, 2025Doors: 5:00 PMShowtime: 8:30 PMAge: 19+ (Government ID required)Tickets: On sale Thursday at 10:00 AMVenue: Rebel Nightclub – Toronto\, ON \nAbout the show\nFrom viral anthems to chart-climbing hits\, Sexyy Red brings the energy and the internet’s favorite moments to the stage. Expect a full-throttle performance\, special guests\, and a wild Toronto crowd. If you’ve been waiting for the first-ever Sexyy Red show in the city\, this is your chance. \nTickets\n\n\nGeneral Admission & VIP available when the sale goes live (limited quantities). \n\n\nPrices increase as tiers sell out — buy early to lock in the best rate. \n\n\nFinal sale; upgrades subject to availability. \n\n\nGood to know\n\n\n19+ event. Valid government-issued photo ID required. \n\n\nBags subject to search; venue policies apply. \n\n\nDoors at 5 PM; arrive early to avoid lines. \n\n\nSet times subject to change. \n\n\nFollow for updates: @TalkOfToronto \n \n \n\n\n  \n    🎟 Buy Tickets Now
URL:https://talkoftoronto.ca/event/sexyy-red-concert-live-in-toronto/
LOCATION:Rebel Nightclub\, 11 Polson St.\, Toronto\, Ontario\, Canada
CATEGORIES:Concerts & Live Music,Hip Hop
ATTACH;FMTTYPE=image/jpeg:https://talkoftoronto.ca/wp-content/uploads/2025/09/banner-Sexyy-Red-Toronto-concert-2025-Rebel-Nightclub-e1759275333380.jpg
END:VEVENT
BEGIN:VEVENT
DTSTART;TZID=America/Toronto:20251121T193000
DTEND;TZID=America/Toronto:20251122T020000
DTSTAMP:20260424T155129
CREATED:20250822T183925Z
LAST-MODIFIED:20251016T184943Z
UID:58594-1763753400-1763776800@talkoftoronto.ca
SUMMARY:SOUL NOSTALGIC LIVE PRESENTS: Dear R&B
DESCRIPTION:Talk of Toronto Nightlife Featured Event: \n🎶 SOUL NOSTALGIC LIVE PRESENTS: Dear R&B 🎶\n✨ An Immersive Vegas-Style Live Music Experience ✨ \nBack by popular demand\, Soul Nostalgic makes a triumphant return to where it all began — Acqua Supper Club — for a night of live music like no other. Enjoy table side entertainment\, with food\, drinks and the beautiful ambiance of the venue. \nGet ready for a grown & sexy night out filled with timeless vibes\, a live musical performance of smooth R&B\, soulful classics\, and rare throwback renditions that will take you straight back to the golden era. \n \n🔥 Live Performance by Soul Nostalgic led by Juno Award winner Dru Grange🎤 Featured Guest by Comedian Jay Martin🎧 Music by DJ Gary C \n📍 Location: Acqua Supper Club – 50 Prince Edward Cres\, Toronto ON (CNE Grounds)\n📅 Date: Friday\, November 21st\, 2025\n⏰ Time: Live Music Performance 7:30-11:30pm | Afterparty 11:30pm – 2am \n  \n⏰ Schedule for the Night: \n7:30pm: Doors Open\n\n7:30pm: Dj GaryC spins your favorite throwbacks to set the vibe. \n9:15pm: (SET 1) Soul Nostalgic hits the stage for an unforgettable experience. \n10:00pm: Intermission – DJ Rock Star keeps the vibes going. \n10:25pm: (SET 2) Soul Nostalgic returns to the stage for an unforgettable finale. \n11:15pm: DJ GaryC keeps the vibes going till 2 am \n🥂 Come toast with us & enjoy: \n\nTable-side entertainment\nR&B & Soul classics\nNew Jack Swing favorites\nRare throwback renditions\n\n👔 Dress Code: Grown\, Sexy & Stylish – bring your best look for the flyest throwback event in the city. \n  \n\n✨ This is more than just a concert — it’s a live music soulful celebration of R&B nostalgia. Don’t miss your chance to experience the vibes\, the energy\, and the unforgettable music. \n📌 Secure your tables & tickets early. \n#DearRnB #SoulNostalgicLive #TalkOfToronto #TorontoEvents #RBClassics #AcquaSupperClub \n \n\n\n  \n    🎟 Buy Tickets Now
URL:https://talkoftoronto.ca/event/soul-nostalgic-live-presents-dear-rb-2025/
LOCATION:Acqua Supper Club\, 50 Prince Edward Island Crescent - CNE Grounds\, Toronto\, Ontario\, Canada
CATEGORIES:Concerts & Live Music,R&B
ATTACH;FMTTYPE=image/jpeg:https://talkoftoronto.ca/wp-content/uploads/2025/08/Soul-Nostalgic-Dear-RnB-November-2025-ACQUA-TORONTO-EVENTS.jpg
END:VEVENT
BEGIN:VEVENT
DTSTART;TZID=America/Toronto:20251122T210000
DTEND;TZID=America/Toronto:20251122T233000
DTSTAMP:20260424T155129
CREATED:20251103T221139Z
LAST-MODIFIED:20251103T221343Z
UID:61404-1763845200-1763854200@talkoftoronto.ca
SUMMARY:BUMP N GRIND- 90’s vibes all night—HipHop\, R&B\, Dancehall & House Classics
DESCRIPTION:90’s vibes all night—HipHop\, R&B\, Dancehall & House classics. Good energy\, fly fits & real vibes. Miss it & hear about it later ✨\n\n\nStep into the ultimate throwback! We’re bringing the golden era back with 90’s HipHop\, R&B\, Dancehall & House Music—pure vibes all night long. Think the energy of your favourite house party: good people\, fire outfits\, and the kind of music that keeps you moving. \nWe’ll be turning up at 1188 Queen St W (upper level)\, where the vibe is intimate\, electric\, and unforgettable. To turn it up even more\, we’re giving away raffle prizes throughout the night—just for showing up and vibing with us. \nThis isn’t just a party… it’s the one everyone will be talking about after. 🔥✨🎶 \n\n \n\n \n\n\n  \n    🎟 Buy Tickets Now
URL:https://talkoftoronto.ca/event/bump-n-grind-90s-vibes-all-night-hiphop-rb-dancehall-house-classics/
LOCATION:1188 Queen St W\, 1188 Queen Street West\, Toronto\, ON M6J 1J6\, Toronto\, M6J 1J6\, CA
CATEGORIES:Afro Beats,Concerts & Live Music,Hip-Hop/Rap,House / EDM,R&B,Reggae & Dancehall
ATTACH;FMTTYPE=image/png:https://talkoftoronto.ca/wp-content/uploads/2025/11/61404_image.png
END:VEVENT
BEGIN:VEVENT
DTSTART;TZID=America/Toronto:20251122T223000
DTEND;TZID=America/Toronto:20251123T020000
DTSTAMP:20260424T155129
CREATED:20250930T235706Z
LAST-MODIFIED:20250930T235706Z
UID:60195-1763850600-1763863200@talkoftoronto.ca
SUMMARY:Skillibeng — Live in Concert in Toronto
DESCRIPTION:Skillibeng — Live in Concert in Toronto\n🔥 Dancehall fans\, get ready — Skillibeng is coming to Toronto for a massive live show you don’t want to miss! \nDate: Saturday\, November 22\, 2025\nTime: 10:30 PM\nVenue: REBEL — 11 Polson Street\, Toronto\, ON M5A 1A4 \nFrom “Crocodile Teeth” to dancehall anthems that set the global stage on fire\, Skillibeng is bringing the energy straight to the 6ix. This is set to be one of the biggest Caribbean music nights of the year at one of Toronto’s premier venues. \n🎟 Get Your Tickets Here \n\nEvent Details\n\nDoors Open: 10:30 PM\nAge: 19+ (Government ID required)\nVenue: REBEL Nightclub\, 11 Polson Street\, Toronto\, ON\n\n💡 Pro tip: Grab tickets early before they sell out — Toronto dancehall shows at Rebel are always a full house! \n\nQuick Copy for Socials\n🚨 Toronto! Skillibeng live in concert at REBEL 🔥\n📅 Sat Nov 22\, 2025 | ⏰ 10:30 PM | 19+\n📍 11 Polson St\, Toronto\, ON\n🎟 Tickets on sale now \n  \n \n\n\n  \n    🎟 Buy Tickets Now
URL:https://talkoftoronto.ca/event/skillibeng-live-in-concert-in-toronto-2025/
LOCATION:Rebel Nightclub\, 11 Polson St.\, Toronto\, Ontario\, Canada
CATEGORIES:Concerts & Live Music,Reggae & Dancehall
ATTACH;FMTTYPE=image/jpeg:https://talkoftoronto.ca/wp-content/uploads/2025/09/Skillibeng-Toronto-concert-2025.jpg
END:VEVENT
BEGIN:VEVENT
DTSTART;TZID=America/Toronto:20251124T190000
DTEND;TZID=America/Toronto:20251125T010000
DTSTAMP:20260424T155129
CREATED:20251013T173207Z
LAST-MODIFIED:20251013T173546Z
UID:60691-1764010800-1764032400@talkoftoronto.ca
SUMMARY:Roy Woods: 10-Year Anniversary Concert in Toronto
DESCRIPTION:🎤 Roy Woods: 10-Year Anniversary Concert in Toronto\n📅 Date: Monday\, November 24\, 2025\n⏰ Time: 7:00 PM\n📍 Venue: The Mod Club (formerly known as The Axis Club)\, Toronto\, ON\n🎟️ Get Tickets: Click here to buy now \n\nToronto’s own Roy Woods is celebrating 10 years of music\, milestones\, and memories — and he’s bringing the energy home for a special anniversary concert at The Mod Club. \nFrom his OVO Sound debut to hits like Drama\, Instinct\, and Gwan Big Up Urself\, Roy Woods has been a defining voice of Toronto’s new R&B wave. Expect a night filled with soulful performances\, fan-favourite tracks\, and a celebration of his journey from local prodigy to international star. \n🔥 Don’t miss this one-night-only event — a homecoming show that marks a full decade of Roy’s artistry\, growth\, and connection with the city that raised him. \n\n🎶 Event Highlights\n\nLive performances spanning Roy’s 10-year catalog\nSpecial guest appearances (rumoured 👀)\nExclusive anniversary merch available on-site\nIntimate atmosphere inside Toronto’s iconic Mod Club\n\n\n🎫 Tickets\nTickets are already moving fast — grab yours before they’re gone:\n👉 Buy Tickets on Ticketmaster \n \n \n\n\n  \n    🎟 Buy Tickets Now
URL:https://talkoftoronto.ca/event/roy-woods-10-year-anniversary-concert-in-toronto/
LOCATION:The Mod Club\, 722 College St\, Toronto\, Ontario\, M6G 1C4\, Canada
CATEGORIES:Concerts & Live Music,R&B
ATTACH;FMTTYPE=image/jpeg:https://talkoftoronto.ca/wp-content/uploads/2025/10/roy-woods-toronto-concert-exis-10-year-anniversary.jpg
END:VEVENT
BEGIN:VEVENT
DTSTART;TZID=America/Toronto:20251124T200000
DTEND;TZID=America/Toronto:20251124T233000
DTSTAMP:20260424T155129
CREATED:20251010T040152Z
LAST-MODIFIED:20251010T040446Z
UID:60567-1764014400-1764027000@talkoftoronto.ca
SUMMARY:GUNNA - Wun World Tour Concert - Toronto
DESCRIPTION:🎶 GUNNA – WUN WORLD TOUR 🎶\n📍 Toronto\, ON\n🗓 Monday\, Nov 24\, 2025\n⏰ 8:00 PM\n🏟 Coca-Cola Coliseum \nGunna is bringing the Wun World Tour to Toronto! Experience an unforgettable night of hits and high energy as he takes the stage. \n✨ Giving Back with Every Ticket\nIn partnership with Live Nation\, $1 from every ticket sold will go to Gunna’s Great Giveaway\, supporting inner-city communities in Atlanta\, GA. Together\, Gunna and his fans are driving positive change and transforming lives in his hometown. \n🎟 Get Your Tickets Now: Click Here To Purchase On Ticketmaster \n✈️ Plan Your Trip: \n\nExpedia Deal – 25%+ Off Hotels & Packages: Book Here\nCheapOAir – Flight Deals + Promo Code RT40: Book Here\n\nDon’t miss this chance to see Gunna live in Toronto while supporting a great cause! 💥
URL:https://talkoftoronto.ca/event/gunna-wun-world-tour-concert-toronto-2025/
LOCATION:Coca-Cola Coliseum\, 19 Nunavut Rd\, Toronto\, Ontario\, M6K 3C3\, Canada
CATEGORIES:Concerts & Live Music,Hip Hop
ATTACH;FMTTYPE=image/jpeg:https://talkoftoronto.ca/wp-content/uploads/2025/10/Gunna_2026_National_World-Tour-Concert-LiveNation-Toronto.jpg
END:VEVENT
BEGIN:VEVENT
DTSTART;TZID=America/Toronto:20251126T190000
DTEND;TZID=America/Toronto:20251127T010000
DTSTAMP:20260424T155129
CREATED:20251014T140742Z
LAST-MODIFIED:20251105T042922Z
UID:60696-1764183600-1764205200@talkoftoronto.ca
SUMMARY:Leon Thomas Concert – Mutts Don’t Heel Tour Hits Toronto
DESCRIPTION:🎶 Leon Thomas – Mutts Don’t Heel Tour Hits Toronto\n📅 Date: Wednesday\, November 26\, 2025\n⏰ Time: 7:00 PM\n📍 Venue: The Danforth Music Hall\, Toronto\, ON\n🎟️ Get Tickets: Buy Now on Ticketmaster \n\nGrammy-winning artist\, producer\, and rising R&B powerhouse Leon Thomas is bringing his highly anticipated Mutts Don’t Heel Tour to Toronto this November. Known for his smooth vocals\, soulful production\, and collaborations with icons like SZA\, Ariana Grande\, and Drake\, Leon is ready to deliver an unforgettable live performance at The Danforth Music Hall. \nFans can expect a mix of new hits\, fan favourites\, and deep cuts that showcase his evolution as one of the most exciting voices in contemporary R&B. With his raw emotion and electrifying stage presence\, this show promises to be one of Toronto’s must-see concerts of the fall. \n\n🌟 What to Expect\n\nLive performances from Electric Dusk and other top tracks\nSoulful vocals backed by a live band\nStunning visuals and intimate vibes inside The Danforth Music Hall\nA night celebrating authenticity\, artistry\, and soul\n\n\n🎫 Tickets\nTickets are selling quickly — don’t wait to secure your spot.\n👉 Get Your Tickets Here \n \n \n  \n \n\n\n  \n    🎟 Buy Tickets Now
URL:https://talkoftoronto.ca/event/leon-thomas-concert-mutts-dont-heel-tour-hits-toronto/
LOCATION:The Danforth Music Hall\, 147 Danforth Ave\, Toronto\, Ontario\, M4K 1N2\, Canada
CATEGORIES:Concerts & Live Music,R&B
ATTACH;FMTTYPE=image/jpeg:https://talkoftoronto.ca/wp-content/uploads/2025/10/Leon-Thomas-Concert-Tour.jpg
END:VEVENT
END:VCALENDAR