BEGIN:VCALENDAR
VERSION:2.0
PRODID:-//Talk of Toronto - ECPv6.15.20//NONSGML v1.0//EN
CALSCALE:GREGORIAN
METHOD:PUBLISH
X-WR-CALNAME:Talk of Toronto
X-ORIGINAL-URL:https://talkoftoronto.ca
X-WR-CALDESC:Events for Talk of Toronto
REFRESH-INTERVAL;VALUE=DURATION:PT1H
X-Robots-Tag:noindex
X-PUBLISHED-TTL:PT1H
BEGIN:VTIMEZONE
TZID:America/Toronto
BEGIN:DAYLIGHT
TZOFFSETFROM:-0500
TZOFFSETTO:-0400
TZNAME:EDT
DTSTART:20240310T070000
END:DAYLIGHT
BEGIN:STANDARD
TZOFFSETFROM:-0400
TZOFFSETTO:-0500
TZNAME:EST
DTSTART:20241103T060000
END:STANDARD
BEGIN:DAYLIGHT
TZOFFSETFROM:-0500
TZOFFSETTO:-0400
TZNAME:EDT
DTSTART:20250309T070000
END:DAYLIGHT
BEGIN:STANDARD
TZOFFSETFROM:-0400
TZOFFSETTO:-0500
TZNAME:EST
DTSTART:20251102T060000
END:STANDARD
BEGIN:DAYLIGHT
TZOFFSETFROM:-0500
TZOFFSETTO:-0400
TZNAME:EDT
DTSTART:20260308T070000
END:DAYLIGHT
BEGIN:STANDARD
TZOFFSETFROM:-0400
TZOFFSETTO:-0500
TZNAME:EST
DTSTART:20261101T060000
END:STANDARD
END:VTIMEZONE
BEGIN:VEVENT
DTSTART;TZID=America/Toronto:20251213T223000
DTEND;TZID=America/Toronto:20251214T020000
DTSTAMP:20260424T155257
CREATED:20251102T184307Z
LAST-MODIFIED:20251102T190415Z
UID:61279-1765665000-1765677600@talkoftoronto.ca
SUMMARY:50 Cent Live in Toronto at Rebel Nightclub
DESCRIPTION:👑 50 Cent Live in Toronto at Rebel Nightclub 👑 \nHe’s not just hosting\, he’s taking over! The one and only 50 CENT is coming to REBEL for an exclusive Saturday night party you can’t miss. \nExpect the biggest hits\, the loudest beats\, and pure high-roller energy at Toronto’s premier waterfront venue. This is your chance to party with a rap icon. \nGo\, go\, go\, go\, go\, go\, go\, GO get your tickets now! \n\n🥂 EVENT DETAILS 🍾\n\nHost: 50 CENT\nEvent: 50 Cent Hosts Rebel\nDate: Saturday\, December 13\, 2025\nTime: Doors open at 10:00 PM EST\nVenue: REBEL Nightclub (11 Polson Street\, Toronto)\nAge: Legal Age 19+ Event (Valid photo ID required)\nDress Code: Fashionable attire (No hats\, athletic wear\, or baggy clothing)\n\n\n🎟️ SECURE YOUR SPOT 🎟️\nThis will sell out fast! Don’t wait to grab tickets or book a VIP Table! \n➡️ Buy Tickets Here \n\n#50Cent #TorontoNightlife #REBELToronto #GetRichOrDieTryin #HipHopParty #TorontoEvents #SaturdayNightTO #Fiddy #PartyHost #TicketAlert \n\n \n\n\n  \n    🎟 Buy Tickets Now
URL:https://talkoftoronto.ca/event/50-cent-live-in-toronto-at-rebel-nightclub/
LOCATION:Rebel Nightclub\, 11 Polson St.\, Toronto\, Ontario\, Canada
CATEGORIES:Concerts & Live Music,Hip-Hop/Rap,Nightlife & Parties
ATTACH;FMTTYPE=image/jpeg:https://talkoftoronto.ca/wp-content/uploads/2025/11/50cent-hosting-concert-event-toronto-2025.jpg
END:VEVENT
END:VCALENDAR