BEGIN:VCALENDAR
VERSION:2.0
PRODID:-//Talk of Toronto - ECPv6.15.20//NONSGML v1.0//EN
CALSCALE:GREGORIAN
METHOD:PUBLISH
X-ORIGINAL-URL:https://talkoftoronto.ca
X-WR-CALDESC:Events for Talk of Toronto
REFRESH-INTERVAL;VALUE=DURATION:PT1H
X-Robots-Tag:noindex
X-PUBLISHED-TTL:PT1H
BEGIN:VTIMEZONE
TZID:America/Toronto
BEGIN:DAYLIGHT
TZOFFSETFROM:-0500
TZOFFSETTO:-0400
TZNAME:EDT
DTSTART:20250309T070000
END:DAYLIGHT
BEGIN:STANDARD
TZOFFSETFROM:-0400
TZOFFSETTO:-0500
TZNAME:EST
DTSTART:20251102T060000
END:STANDARD
BEGIN:DAYLIGHT
TZOFFSETFROM:-0500
TZOFFSETTO:-0400
TZNAME:EDT
DTSTART:20260308T070000
END:DAYLIGHT
BEGIN:STANDARD
TZOFFSETFROM:-0400
TZOFFSETTO:-0500
TZNAME:EST
DTSTART:20261101T060000
END:STANDARD
BEGIN:DAYLIGHT
TZOFFSETFROM:-0500
TZOFFSETTO:-0400
TZNAME:EDT
DTSTART:20270314T070000
END:DAYLIGHT
BEGIN:STANDARD
TZOFFSETFROM:-0400
TZOFFSETTO:-0500
TZNAME:EST
DTSTART:20271107T060000
END:STANDARD
END:VTIMEZONE
BEGIN:VEVENT
DTSTART;TZID=America/Toronto:20260410T190000
DTEND;TZID=America/Toronto:20260410T230000
DTSTAMP:20260424T033254
CREATED:20260323T190343Z
LAST-MODIFIED:20260324T161518Z
UID:62019-1775847600-1775862000@talkoftoronto.ca
SUMMARY:Martin Lawrence  Comedy Show Live in Toronto 2026
DESCRIPTION:Martin Lawrence Live: The ‘Y’all Still Know What It Is!’ Tour at Massey Hall\nToronto\, get ready for a night with a living legend. On Friday\, April 10\, 2026\, the one and only Martin Lawrence brings his signature “real talk” and high-octane humor to the historic Massey Hall. \nFrom his groundbreaking start in Do the Right Thing to the cultural phenomenon of Martin and the global success of Bad Boys\, Lawrence has defined a generation of laughter. Now\, he’s back on stage to find the funny in everything from family and fame to modern culture. \nEvent Details: A Night with a Legend\n\nDate: Friday\, April 10\, 2026\nTime: Show starts at 8:00 PM (Doors open at 7:00 PM)\nVenue: Massey Hall – 178 Victoria Street\, Toronto\nVibe: Classic Stand-up Comedy\n\n\nWhy Massey Hall?\nWhile Martin could easily sell out a stadium\, choosing Massey Hall offers fans a rare\, “up close and personal” experience. Following its massive multi-million dollar renovation\, Massey Hall provides the perfect acoustic and aesthetic backdrop for a masterclass in comedy. \nTicket Information\nTickets for Martin Lawrence are among the most sought-after in the city. \n\nOfficial Outlet: Always purchase directly through the Massey Hall Box Office to ensure guaranteed entry and avoid inflated third-party prices.\nCashless Venue: Please note that Massey Hall is a fully cashless venue. All transactions at the bars and merchandise stands require credit or debit.\nMobile Entry: Tickets are delivered digitally. Be sure to have your mobile ticket ready on your phone via the Ticketmaster or Massey Hall app for scanning.\n\n\nPlan Your Visit to Massey Hall\n\nGetting There: Massey Hall is a 2-minute walk from Queen Station or Dundas Station on the Yonge subway line.\nParking: While the venue doesn’t have a lot\, the Eaton Centre underground lot (entrance at Yonge & Shuter) is the most convenient nearby option.\nPre-Show Drinks: Floor-level guests can access the Muskoka Spirits Basement Bar\, while Balcony and Gallery guests can enjoy the Grolsch Lounges on Levels 2 and 3.\n\n\nPro Tip: This tour is titled “Y’all Still Know What It Is!” for a reason—Martin is at the top of his game. If you’re searching for “Best Comedy Shows in Toronto 2026\,” this is the heavyweight champion of the spring calendar. \n\n[Buy Your Martin Lawrence Toronto Tickets Here] \n \n\n\n  \n    🎟 Buy Tickets Now\n  \n\n\nSponsored Ad:
URL:https://talkoftoronto.ca/event/martin-lawrence-comedy-show-live-in-toronto-2026/
LOCATION:Massey Hall\, 178 Victoria St\, Toronto\, Ontario\, M5B 1T7\, Canada
CATEGORIES:Comedy & Theatre,Concerts & Live Music
ATTACH;FMTTYPE=image/jpeg:https://talkoftoronto.ca/wp-content/uploads/2026/03/Martin-Lawrence-Comedy-Show-Toronto-2026.jpg
END:VEVENT
END:VCALENDAR