BEGIN:VCALENDAR
VERSION:2.0
PRODID:-//Talk of Toronto - ECPv6.15.20//NONSGML v1.0//EN
CALSCALE:GREGORIAN
METHOD:PUBLISH
X-ORIGINAL-URL:https://talkoftoronto.ca
X-WR-CALDESC:Events for Talk of Toronto
REFRESH-INTERVAL;VALUE=DURATION:PT1H
X-Robots-Tag:noindex
X-PUBLISHED-TTL:PT1H
BEGIN:VTIMEZONE
TZID:America/Toronto
BEGIN:DAYLIGHT
TZOFFSETFROM:-0500
TZOFFSETTO:-0400
TZNAME:EDT
DTSTART:20250309T070000
END:DAYLIGHT
BEGIN:STANDARD
TZOFFSETFROM:-0400
TZOFFSETTO:-0500
TZNAME:EST
DTSTART:20251102T060000
END:STANDARD
BEGIN:DAYLIGHT
TZOFFSETFROM:-0500
TZOFFSETTO:-0400
TZNAME:EDT
DTSTART:20260308T070000
END:DAYLIGHT
BEGIN:STANDARD
TZOFFSETFROM:-0400
TZOFFSETTO:-0500
TZNAME:EST
DTSTART:20261101T060000
END:STANDARD
BEGIN:DAYLIGHT
TZOFFSETFROM:-0500
TZOFFSETTO:-0400
TZNAME:EDT
DTSTART:20270314T070000
END:DAYLIGHT
BEGIN:STANDARD
TZOFFSETFROM:-0400
TZOFFSETTO:-0500
TZNAME:EST
DTSTART:20271107T060000
END:STANDARD
END:VTIMEZONE
BEGIN:VEVENT
DTSTART;TZID=America/Toronto:20260902T193000
DTEND;TZID=America/Toronto:20260902T233000
DTSTAMP:20260424T085815
CREATED:20260323T211629Z
LAST-MODIFIED:20260324T165818Z
UID:62039-1788377400-1788391800@talkoftoronto.ca
SUMMARY:TLC & Salt-N-Pepa\, En Vogue – Live in Concert Toronto 2026
DESCRIPTION:IT’S ICONIC: TLC & Salt-N-Pepa with Special Guest En Vogue – Live in Toronto\nWhat a tour\, what a tour\, what a mighty good tour! On Wednesday\, September 2\, 2026\, the RBC Amphitheatre will host a landmark co-headlining event. TLC and Salt-N-Pepa are joining forces for the “IT’S ICONIC” tour\, with the legendary En Vogue set to open the night. \nFrom “No Scrubs” and “Waterfalls” to “Push It\,” “Shoop\,” and “Free Your Mind\,” this concert is a back-to-back celebration of era-defining hits and empowerment. \nEvent Details: The Ultimate 90s Throwback\n\nDate: Wednesday\, September 2\, 2026\nVenue: RBC Amphitheatre – 909 Lakeshore Blvd W\, Toronto\nDoors Open: 6:30 PM | Show Starts: 7:30 PM\nThe Vibe: A “mixtape style” live show with seamless transitions between three legendary acts.\n\n \n\nTicket & Presale Information\nThe “IT’S ICONIC” tour was officially announced on March 23\, and tickets are expected to vanish instantly. \n\nAMEX Presale: Tuesday\, March 24\, 2026\, at 10:00 AM EDT.\nArtist Presale: Tuesday\, March 24\, 2026\, at 12:00 PM EDT.\nLive Nation & Spotify Presale: Wednesday\, March 25\, 2026.\nGeneral Onsale: Thursday\, March 26\, 2026\, at 10:00 AM EDT via Ticketmaster.\n\nVIP Packages & Meet & Greets\nFans looking to elevate their experience can choose from several exclusive VIP offerings: \n\nSalt-N-Pepa VIP: Includes a Meet & Greet\, individual photo op\, and a signed tour poster.\nTLC VIP: Includes premium seating\, access to a private VIP bar\, and a specially designed gift item.\nEn Vogue Meet & Greet: A dedicated upgrade that includes a photo op and early entry to the venue.\n\n\nKnow Before You Go: Budweiser Stage Tips\n\nThe Venue Name: Note that the venue is now officially the RBC Amphitheatre.\nRain or Shine: This is an outdoor show. The 100 and 200 levels are covered\, but the 300\, 400\, and Lawn sections are open to the elements.\nTransportation: The GO Train to Exhibition Station remains the fastest way to the venue. If you’re driving\, be prepared for heavy CNE-area traffic and premium parking rates.\n\n\nPro Tip: This is the only Canadian date on the entire tour. If you are searching for “TLC Toronto 2026 tickets” or “Salt-N-Pepa En Vogue tour Canada\,” this September 2nd date is the only chance to see these three legends share a single stage. \n\n[Secure Your ‘IT’S ICONIC’ Tour Tickets Here] \n \n\n\n  \n    🎟 Buy Tickets Now\n  \n\n\nSponsored Ad:
URL:https://talkoftoronto.ca/event/tlc-salt-n-pepa-en-vogue-live-in-concert-toronto-2026/
LOCATION:RBC Amphitheatre\, 909 Lake Shore Blvd W\, Toronto\, Ontario\, M6K 3L3\, Canada
CATEGORIES:Concerts & Live Music,Hip Hop,R&B
ATTACH;FMTTYPE=image/jpeg:https://talkoftoronto.ca/wp-content/uploads/2026/03/TLC-Salt-N-Pepa-EnVogue-Concert-Toronto-2026-Event.jpg
END:VEVENT
BEGIN:VEVENT
DTSTART;TZID=America/Toronto:20260916T190000
DTEND;TZID=America/Toronto:20260917T010000
DTSTAMP:20260424T085815
CREATED:20251103T182149Z
LAST-MODIFIED:20260324T165852Z
UID:61354-1789585200-1789606800@talkoftoronto.ca
SUMMARY:AC/DC Live Concert Toronto - Pwr Up Tour
DESCRIPTION:  \n⚡ AC/DC Live Concert Toronto: The POWER UP TOUR Hits Rogers Stadium in 2026\nAC/DC Live Concert Toronto is Locked In: Get Ready to Rock!\nThe news every rock fan in Canada has been waiting for is finally here: AC/DC is bringing their massive POWER UP TOUR 2026 to Toronto! This is more than just a concert; it’s a stadium-shaking event featuring one of the biggest rock bands of all time. \nMark your calendars: the legends of loud rock will be taking over Rogers Stadium on Wednesday\, September 16\, 2026\, starting at 7:00 p.m. \nThis show is set to be one of the biggest musical events of the year. If you want to hear those famous guitar riffs and iconic vocals live\, now is the time to secure your spot. \n\nEssential Details for the AC/DC Live Concert Toronto Event\nThe POWER UP TOUR has already earned praise for its raw energy and massive production\, proving that Angus Young\, Brian Johnson\, and the band still rock harder than anyone. Here is everything you need to know about the show. \nShow Date\, Time\, and Venue\n\nEvent: AC/DC – POWER UP TOUR 2026\nDate: Wednesday\, September 16\, 2026\nTime: 7:00 p.m.\nVenue: Rogers Stadium\, Toronto\, ON\n\n  \nWhat to Expect from the POWER UP TOUR Setlist\nAC/DC’s concerts are a high-voltage mix of new anthems and all-time classics. Fans can look forward to hearing huge tracks like: \n\n“Thunderstruck”\n“Highway to Hell”\n“Back in Black”\n“You Shook Me All Night Long”\n“Hells Bells”\n\nThe band is also playing tracks from their newest chart-topping album\, POWER UP\, including “Shot in the Dark” and “Demon Fire\,” blending decades of rock and roll greatness into one explosive night. This setlist guarantees a true AC/DC experience. \n\n  \nHow to Score Tickets for AC/DC Live Concert Toronto\nThe demand for the AC/DC Live Concert Toronto date is extremely high. Stadium seats will sell out fast\, especially for a band that only tours every few years. If you want to be there to see Angus Young light up the stage\, you need to be ready to purchase your tickets the moment they are available. \nDon’t wait for the last minute and risk missing out or paying inflated prices. This is your chance to witness music history and experience the sheer volume of rock at Rogers Stadium. \nSecure Your Seats Today!\n  \nClick the link below to go straight to the official ticket sales page and lock in your tickets for the AC/DC – POWER UP TOUR 2026! \n  \n➡️ Buy Tickets Now\n \n  \n\n \n\n\n  \n    🎟 Buy Tickets Now\n  \n\n\nSponsored Ad:
URL:https://talkoftoronto.ca/event/ac-dc-live-concert-toronto-pwr-up-tour/
LOCATION:Rogers Stadium\, 105 Carl Hall Road\, Toronto\, Ontario\, ToM3K0A1\, Canada
CATEGORIES:Concerts & Live Music,Rock
ATTACH;FMTTYPE=image/jpeg:https://talkoftoronto.ca/wp-content/uploads/2025/11/ACDC-Live-Concert-Toronto-event-2026-Web-Banner.jpg
END:VEVENT
BEGIN:VEVENT
DTSTART;TZID=America/Toronto:20260921T190000
DTEND;TZID=America/Toronto:20260922T233000
DTSTAMP:20260424T085815
CREATED:20260210T171434Z
LAST-MODIFIED:20260324T165935Z
UID:61661-1790017200-1790119800@talkoftoronto.ca
SUMMARY:Zach Bryan Concert in Toronto: With Heaven On Tour
DESCRIPTION:Zach Bryan Brings the ‘With Heaven On Tour’ to the Rogers Centre for Two Nights of Magic\nToronto\, get ready to feel every word. \nThis September\, the 6ix is trading the city lights for the raw\, soulful sounds of the country-folk revolution. We are thrilled to announce that Zach Bryan is bringing his highly anticipated “With Heaven On Tour” to the iconic Rogers Centre for an unforgettable two-night residency on September 21 and 22\, 2026. \nKnown for his raspy vocals and “pour-your-heart-out” songwriting\, Zach Bryan has become the voice of a generation. Whether you’re a lifelong fan of the “Orange” era or a newcomer to his grit and grace\, these back-to-back nights under the dome are set to be the highlight of the autumn season. \nThe Lineup\nThe energy starts early with a stacked supporting bill that perfectly complements the night’s acoustic-driven roots: \n\n\nZach Bryan: The man of the hour\, performing hits from his latest project With Heaven On Top alongside the anthems we all know by heart. \n\n\nTrampled By Turtles: Bringing their signature high-octane bluegrass and indie-folk spirit all the way from Duluth. \n\n\nGabriella Rose: Opening the evening with her hauntingly beautiful melodies and storytelling. \n\n\nEvent Details\n \n\n\nDay 1: Monday\, September 21\, 2026 | Get Tickets Here \n\n\nDay 2: Tuesday\, September 22\, 2026 | Get Tickets Here \n\n\nVenue: Rogers Centre\, Toronto \n\n\nShowtime: 7:00 PM (Doors open at 5:30 PM) \n\n\nTickets: On sale now! Don’t wait—these shows are expected to sell out fast. \n\n\nWhether you’re coming for the stomp-along choruses or the quiet\, intimate ballads\, this is more than a concert; it’s a revival. Grab your denim\, call your crew\, and let’s show Zach how Toronto does it. \n[GET YOUR TICKETS HERE] \n \n\n\n  \n    🎟 Buy Tickets Now\n  \n\n\nSponsored Ad:
URL:https://talkoftoronto.ca/event/zach-bryan-concert-in-toronto-with-heaven-on-tour/
LOCATION:Rogers Centre\, 1 Blue Jays Way\, Toronto\, Ontario
CATEGORIES:Concerts & Live Music,Rock
ATTACH;FMTTYPE=image/jpeg:https://talkoftoronto.ca/wp-content/uploads/2026/02/zachbryan-2026-heaven-tour-toronto-concert.jpg
END:VEVENT
BEGIN:VEVENT
DTSTART;TZID=America/Toronto:20260928T193000
DTEND;TZID=America/Toronto:20260928T233000
DTSTAMP:20260424T085815
CREATED:20260323T205553Z
LAST-MODIFIED:20260324T161725Z
UID:62033-1790623800-1790638200@talkoftoronto.ca
SUMMARY:Wu-Tang Forever: The Final Chamber Concert in Toronto 2026
DESCRIPTION:Wu-Tang Forever Concert: The Final Chamber – The Farewell Tour Comes to RBC Amphitheatre – Toronto 2026!\nThe saga continues… one last time. On Tuesday\, September 8\, 2026\, the most influential collective in music history\, the Wu-Tang Clan\, brings their global farewell tour\, “The Final Chamber\,” to Toronto’s RBC Amphitheatre. \nThis isn’t just a concert; it’s a historic gathering. For the final time\, RZA\, GZA\, Method Man\, Raekwon\, Ghostface Killah\, Inspectah Deck\, U-God\, and Masta Killa will share the stage\, joined by Cappadonna and Young Dirty Bastard (honoring the legacy of ODB). To make the night even more legendary\, Midwest icons Bone Thugs-N-Harmony will join as special guests. \n \nEvent Details: The Final Chapter\n\nDate: Tuesday\, September 8\, 2026\nVenue: RBC Amphitheatre (Budweiser Stage) – 909 Lakeshore Blvd W\, Toronto\nDoors Open: 6:30 PM | Show Starts: 7:30 PM\nThe Lineup: Wu-Tang Clan + Bone Thugs-N-Harmony\n\n\nWhat to Expect: 36 Chambers & Beyond\nThe “Final Chamber” tour is a career-spanning celebration. Based on the 2025 international legs\, fans can expect a deep dive into the Wu-Tang discography\, including: \n\nThe Essentials: “C.R.E.A.M.”\, “Protect Ya Neck”\, and “Triumph.”\nSolo Classics: Dedicated segments for GZA’s Liquid Swords\, Raekwon’s Only Built 4 Cuban Linx\, and Method Man’s Tical.\nThe Tribute: A moving tribute to Ol’ Dirty Bastard featuring his son\, Young Dirty Bastard.\n\nSupport from the Crossroads\nAdding Bone Thugs-N-Harmony to the bill brings a unique energy to the night. Expect the Cleveland legends to run through their rapid-fire harmonies on classics like “Thuggish Ruggish Bone” and “Tha Crossroads\,” setting the stage for the Clan’s arrival. \n\nTicket & Presale Information\nAs this is the group’s final tour\, demand is at an all-time high. \n\nPresales: Starting Tuesday\, March 24\, 2026\, at 10:00 AM (Citi/Mastercard) followed by Live Nation and Spotify presales throughout the week.\nGeneral Onsale: Friday\, March 27\, 2026\, at 10:00 AM via Ticketmaster.\nVIP Packages: “The Final Chamber” VIP upgrades are available\, including limited-edition merchandise vouchers\, early entry\, and access to the RBC VIP Club.\n\n\nPlan Your Night at the Waterfront\n\nVenue Policy: RBC Amphitheatre is an outdoor venue. The show will go on rain or shine.\nLawn Seating: If you’re in the General Admission Lawn\, arrive early to secure your spot. Small blankets are permitted\, but professional lawn chairs must be rented on-site.\nTransportation: Skip the Lakeshore traffic. Take the GO Train to Exhibition Station or the 509/511 Streetcars to the Fleet St. loop for a short walk to the gates.\n\n\nPro Tip: This is widely considered the final North American tour for the Wu-Tang Clan. If you’re searching for “Wu-Tang Clan Farewell Tour Toronto” or “Hip-Hop concerts at Budweiser Stage 2026\,” this is the most significant rap event of the year. \n\n[Secure Your Tickets for Wu-Tang Forever: The Final Chamber Here] \n \n\n\n  \n    🎟 Buy Tickets Now\n  \n\n\nSponsored Ad:
URL:https://talkoftoronto.ca/event/wu-tang-forever-the-final-chamber-concert-in-toronto-2026/
LOCATION:RBC Amphitheatre\, 909 Lake Shore Blvd W\, Toronto\, Ontario\, M6K 3L3\, Canada
CATEGORIES:Concerts & Live Music,Hip Hop
ATTACH;FMTTYPE=image/jpeg:https://talkoftoronto.ca/wp-content/uploads/2026/03/Wu-Tang-Concert-Toronto-2026-Bone-Thugs-Harmony-Event.jpg
END:VEVENT
BEGIN:VEVENT
DTSTART;TZID=America/Toronto:20261125T190000
DTEND;TZID=America/Toronto:20261126T233000
DTSTAMP:20260424T085815
CREATED:20251020T175308Z
LAST-MODIFIED:20260324T170038Z
UID:60984-1795633200-1795735800@talkoftoronto.ca
SUMMARY:Doja Cat Concert Toronto - 'Ma Vie World' Tour
DESCRIPTION:DOJA CAT CONCERT ‘MA VIE WORLD’ TOUR IN TORONTO TAKES OVER SCOTIABANK ARENA \n\nGet ready\, Toronto! Global sensation and multi-platinum artist Doja Cat is bringing her highly anticipated ‘Ma Vie World’ Tour to the city’s premier venue for an unforgettable night of music\, stunning visuals\, and electrifying performance. \nKnown for her electrifying stage presence and chart-topping hits that span pop\, rap\, and R&B\, Doja Cat’s ‘Ma Vie’ tour is expected to be her most ambitious spectacle yet. Secure your spot now for the biggest show of 2026! \n\n  \nEVENT DETAILS\n  \n\n\n\nDetail\nInformation\n\n\n\n\nArtist/Event\nDoja Cat ‘Ma Vie World’ Tour\n\n\nWhere\nScotiabank Arena\, 40 Bay St.\, Toronto\, ON M5J 3A5\n\n\nWhen\nWednesday\, November 25\, 2026\n\n\nTime\n7:30 PM EST (Show Start)\n\n\n\n  \nTICKETS\nGet Tickets Here! \n\n \n\n \n\n\n  \n    🎟 Buy Tickets Now\n  \n\n\nSponsored Ad:
URL:https://talkoftoronto.ca/event/doja-cat-concert-toronto-ma-vie-world-tour/
LOCATION:Scotiabank Arena\, 50 Bay Street\, Suite 500\, Toronto\, Ontario\, M5J 2L2\, Canada
CATEGORIES:Concerts & Live Music,House / EDM,Pop / Indie Pop
ATTACH;FMTTYPE=image/webp:https://talkoftoronto.ca/wp-content/uploads/2025/10/dojacat-tour-toronto-concert.webp
END:VEVENT
END:VCALENDAR