BEGIN:VCALENDAR
VERSION:2.0
PRODID:-//Talk of Toronto - ECPv6.15.20//NONSGML v1.0//EN
CALSCALE:GREGORIAN
METHOD:PUBLISH
X-ORIGINAL-URL:https://talkoftoronto.ca
X-WR-CALDESC:Events for Talk of Toronto
REFRESH-INTERVAL;VALUE=DURATION:PT1H
X-Robots-Tag:noindex
X-PUBLISHED-TTL:PT1H
BEGIN:VTIMEZONE
TZID:America/Toronto
BEGIN:DAYLIGHT
TZOFFSETFROM:-0500
TZOFFSETTO:-0400
TZNAME:EDT
DTSTART:20250309T070000
END:DAYLIGHT
BEGIN:STANDARD
TZOFFSETFROM:-0400
TZOFFSETTO:-0500
TZNAME:EST
DTSTART:20251102T060000
END:STANDARD
BEGIN:DAYLIGHT
TZOFFSETFROM:-0500
TZOFFSETTO:-0400
TZNAME:EDT
DTSTART:20260308T070000
END:DAYLIGHT
BEGIN:STANDARD
TZOFFSETFROM:-0400
TZOFFSETTO:-0500
TZNAME:EST
DTSTART:20261101T060000
END:STANDARD
BEGIN:DAYLIGHT
TZOFFSETFROM:-0500
TZOFFSETTO:-0400
TZNAME:EDT
DTSTART:20270314T070000
END:DAYLIGHT
BEGIN:STANDARD
TZOFFSETFROM:-0400
TZOFFSETTO:-0500
TZNAME:EST
DTSTART:20271107T060000
END:STANDARD
END:VTIMEZONE
BEGIN:VEVENT
DTSTART;TZID=America/Toronto:20260328T200000
DTEND;TZID=America/Toronto:20260329T020000
DTSTAMP:20260423T220903
CREATED:20260325T175736Z
LAST-MODIFIED:20260325T180024Z
UID:62160-1774728000-1774749600@talkoftoronto.ca
SUMMARY:THE SOULCIAL HOUSE - DJ KEMIT + TYRONE SOLOMON + DJ AGILE
DESCRIPTION:Goodbeat + Jeff Chow presents a new house music experience inside the stunning OBJX\n\n\nTHE SOULCIAL HOUSE: GOODBEAT + JEFF CHOW\nSomething special is happening. \nGOODBEAT and JEFF CHOW join forces to bring you SOULCIAL HOUSE — an intimate experience where music\, community\, and art come together. \nTHE MUSIC\nWe’re thrilled to welcome back DJ KEMIT from ATL\, whose soulful\, deep\, and groove-driven selections move both body and spirit. \nJoining him is TYRONE SOLOMON\, known for his masterful track selection and refined house grooves that keep the floor locked\, and DJ AGILE\, a versatile and dynamic selector whose sets ignite the room. \n \nTHE SPACE\nSet inside the stunning OBJX\, the striking design and creative spirit of the space become a part of the experience itself. This is a carefully curated dance floor built for connection\, movement\, and shared energy. The backdrop is as much a part of the night as the rhythm. \nTHE EXPERIENCE\nMore than a party\, we are creating a night of high vibrations. Immerse yourself in a full sensory environment featuring: \n\nSignature Cocktails crafted for the night\nArt installations\nCurated Food offerings\nIntimate Community vibes\n\nTHE DETAILS\n\nDate: Saturday\, March 28\nTime: 10:00 PM – Late\nVenue: OBJX | 100 Symes Rd\, Unit 200A\n\nDon’t miss your chance to be part of the energy. Limited tickets available at the door. Secure your advance tickets today and join us for a night where the music moves more than just your feet. \n\n\n \n\n\n  \n    🎟 Buy Tickets Now\n  \n\n\nSponsored Ad:
URL:https://talkoftoronto.ca/event/the-soulcial-house-dj-kemit-tyrone-solomon-dj-agile/
LOCATION:OBJX Studio\, 100 Symes Road #Unit 200a\, Toronto\, ON M6N 5C9\, Toronto\, M6N 5C9\, CA
CATEGORIES:Hip Hop,House / EDM,Nightlife & Parties
ATTACH;FMTTYPE=image/jpeg:https://talkoftoronto.ca/wp-content/uploads/2026/03/62160_image.jpg
END:VEVENT
END:VCALENDAR