BEGIN:VCALENDAR
VERSION:2.0
PRODID:-//Talk of Toronto - ECPv6.15.20//NONSGML v1.0//EN
CALSCALE:GREGORIAN
METHOD:PUBLISH
X-ORIGINAL-URL:https://talkoftoronto.ca
X-WR-CALDESC:Events for Talk of Toronto
REFRESH-INTERVAL;VALUE=DURATION:PT1H
X-Robots-Tag:noindex
X-PUBLISHED-TTL:PT1H
BEGIN:VTIMEZONE
TZID:America/Toronto
BEGIN:DAYLIGHT
TZOFFSETFROM:-0500
TZOFFSETTO:-0400
TZNAME:EDT
DTSTART:20250309T070000
END:DAYLIGHT
BEGIN:STANDARD
TZOFFSETFROM:-0400
TZOFFSETTO:-0500
TZNAME:EST
DTSTART:20251102T060000
END:STANDARD
BEGIN:DAYLIGHT
TZOFFSETFROM:-0500
TZOFFSETTO:-0400
TZNAME:EDT
DTSTART:20260308T070000
END:DAYLIGHT
BEGIN:STANDARD
TZOFFSETFROM:-0400
TZOFFSETTO:-0500
TZNAME:EST
DTSTART:20261101T060000
END:STANDARD
BEGIN:DAYLIGHT
TZOFFSETFROM:-0500
TZOFFSETTO:-0400
TZNAME:EDT
DTSTART:20270314T070000
END:DAYLIGHT
BEGIN:STANDARD
TZOFFSETFROM:-0400
TZOFFSETTO:-0500
TZNAME:EST
DTSTART:20271107T060000
END:STANDARD
END:VTIMEZONE
BEGIN:VEVENT
DTSTART;TZID=America/Toronto:20260215T170000
DTEND;TZID=America/Toronto:20260215T210000
DTSTAMP:20260424T005011
CREATED:20260210T200237Z
LAST-MODIFIED:20260210T200237Z
UID:61697-1771174800-1771189200@talkoftoronto.ca
SUMMARY:Cupids Playground - Long Weekend Sunday at Isabelle's
DESCRIPTION:Cupid’s Playground takes over Isabelle’s – powered by Grey Goose. Sunday Feb 15th\, doors at 10PM upstairs at 548 King St W.\n\n\nGet your tickets while supplies last (subject to capacity). Happy Hour pricing until 11pm (drinks and bottles). \n  \nMusic: Open Format \nDress Code: Dress to impress. No hoodies\, sweatpants or sweatsuits. \nBottle Service inquiries: Isabelles-toronto@freehouse.co. Reservations must put down a deposit and arrive between 10–11 pm. 48 hours’ notice required for cancellations. \nOur events are primarily 23+ but we welcome 21+ as space and event suitability allow. Please bring valid government-issued ID. Management reserves the right to refuse admission or remove any guest at any time\, at our sole discretion\, to maintain the safety and comfort of all patrons. \nDoors at 10 PM. \nGet your Guestlist & Bottle Service Reservations while supplies last. First Come\, First Serve. \n_____________________________________________________________ \n  \n\n\n\n \n\n\n  \n    🎟 Buy Tickets Now
URL:https://talkoftoronto.ca/event/cupids-playground-long-weekend-sunday-at-isabelles/
LOCATION:Isabelle’s\, 548 King Street West #200\, Toronto\, ON M5V 1M3\, Toronto\, M5V 1M3\, CA
CATEGORIES:Hip-Hop/Rap,House / EDM,Nightlife & Parties
ATTACH;FMTTYPE=image/jpeg:https://talkoftoronto.ca/wp-content/uploads/2026/02/61697_image.jpg
END:VEVENT
BEGIN:VEVENT
DTSTART;TZID=America/Toronto:20260215T220000
DTEND;TZID=America/Toronto:20260216T030000
DTSTAMP:20260424T005011
CREATED:20260211T021624Z
LAST-MODIFIED:20260211T021954Z
UID:61717-1771192800-1771210800@talkoftoronto.ca
SUMMARY:Steve Aoki Live Concert in Toronto at REBEL
DESCRIPTION:Steve Aoki Takes Over REBEL: A Sunday Night Cake-Smashing Spectacle\nToronto\, the legend of Dim Mak is back. \nPrepare for a high-voltage end to your weekend as the world’s most energetic DJ\, Steve Aoki\, returns to Toronto’s premier nightlife destination. On Sunday\, February 15th\, 2026\, REBEL will be transformed into a bass-heavy sanctuary for a night of pure EDM adrenaline. \nWhether you’re there for the chart-topping hits\, the legendary stage dives\, or the chance to be “caked” in the front row\, Aoki’s return to the 6ix is more than just a club night—it’s a rite of passage. \nThe Lineup: Bass House & Beyond\nThis isn’t just a solo mission. Steve Aoki is bringing heavy hitters to ensure the energy never dips: \n\n\nSteve Aoki: The 2x Grammy-nominated visionary behind “Boneless” and “Pursuit of Happiness.” \n\n\nJOYRYDE: Bringing his signature high-octane “Brave” bass house sound to the main room. \n\n\nNostalgix: Toronto’s own rising star\, delivering gritty vocals and house beats that have been taking the global scene by storm. \n\n\nThe REBEL Experience\nWith 45\,000 square feet of immersive design and a breathtaking view of the Toronto skyline\, REBEL provides the perfect canvas for Aoki’s massive production. Expect a sensory overload of CO2 cannons\, synchronized LED visuals\, and the cleanest sound system in the city. \n  \nEvent Details\n\n\nDate: Sunday\, February 15\, 2026 \n\n\nDoors: 10:00 PM \n\n\nLocation: REBEL\, 11 Polson Street\, Toronto\, ON \n\n\nAge Requirement: 19+ (Valid government-issued photo ID mandatory) \n\n\nTickets: General Admission and VIP options available. \n\n\n\nDon’t Wait—Grab Your Tickets!\nThis is a long-weekend vibe you won’t want to miss. Secure your spot on the dance floor and witness why Steve Aoki remains one of the most in-demand entertainers on the planet. \n[GET TICKETS HERE] \n\n \n\n\n  \n    🎟 Buy Tickets Now
URL:https://talkoftoronto.ca/event/steve-aoki-live-concert-in-toronto-at-rebel/
LOCATION:Rebel Nightclub\, 11 Polson St.\, Toronto\, Ontario\, Canada
CATEGORIES:Concerts & Live Music,House / EDM,Nightlife & Parties
ATTACH;FMTTYPE=image/jpeg:https://talkoftoronto.ca/wp-content/uploads/2026/02/Steve-Aoki-Live-Concert-in-Toronto-at-REBEL.jpg
END:VEVENT
END:VCALENDAR