BEGIN:VCALENDAR
VERSION:2.0
PRODID:-//Talk of Toronto - ECPv6.15.20//NONSGML v1.0//EN
CALSCALE:GREGORIAN
METHOD:PUBLISH
X-WR-CALNAME:Talk of Toronto
X-ORIGINAL-URL:https://talkoftoronto.ca
X-WR-CALDESC:Events for Talk of Toronto
REFRESH-INTERVAL;VALUE=DURATION:PT1H
X-Robots-Tag:noindex
X-PUBLISHED-TTL:PT1H
BEGIN:VTIMEZONE
TZID:America/Toronto
BEGIN:DAYLIGHT
TZOFFSETFROM:-0500
TZOFFSETTO:-0400
TZNAME:EDT
DTSTART:20250309T070000
END:DAYLIGHT
BEGIN:STANDARD
TZOFFSETFROM:-0400
TZOFFSETTO:-0500
TZNAME:EST
DTSTART:20251102T060000
END:STANDARD
BEGIN:DAYLIGHT
TZOFFSETFROM:-0500
TZOFFSETTO:-0400
TZNAME:EDT
DTSTART:20260308T070000
END:DAYLIGHT
BEGIN:STANDARD
TZOFFSETFROM:-0400
TZOFFSETTO:-0500
TZNAME:EST
DTSTART:20261101T060000
END:STANDARD
BEGIN:DAYLIGHT
TZOFFSETFROM:-0500
TZOFFSETTO:-0400
TZNAME:EDT
DTSTART:20270314T070000
END:DAYLIGHT
BEGIN:STANDARD
TZOFFSETFROM:-0400
TZOFFSETTO:-0500
TZNAME:EST
DTSTART:20271107T060000
END:STANDARD
END:VTIMEZONE
BEGIN:VEVENT
DTSTART;TZID=America/Toronto:20260403T230000
DTEND;TZID=America/Toronto:20260404T030000
DTSTAMP:20260423T220840
CREATED:20260326T070951Z
LAST-MODIFIED:20260326T071641Z
UID:62186-1775257200-1775271600@talkoftoronto.ca
SUMMARY:Global Late Night: Brazilian DJ Collective BR House ft. ANKNWN
DESCRIPTION:High-energy global beats\, live bands & DJs\, bring the world together on the Lula dance floor every Friday following our weekly salsa party\n\n\nToronto’s Weekly Global Afterparty!\nEvery Friday night\, Lula takes the party to an even higher level. Following our weekly live Latin band\, Lula features local and international bands and DJs playing high-energy global beats to keep the dance floor moving late into the night. \nTickets\n$10 Early Bird | $15 Advance \n \nBrazilian DJ Collective BR House\nLula Lounge welcomes a night of powerful Brazilian electronic energy as Showzaço Artistic Productions presents BR HOUSE\, one of Toronto’s most exciting Brazilian DJ collectives 🇧🇷✨ \nCreated by RAFA\, KAÎA\, and HEL-D\, BR HOUSE is a collective built around community\, rhythm\, and the shared experience of the dance floor. Their parties celebrate connection through sound — where Brazilian musical roots meet contemporary electronic vibes. \nExpect a high-energy mix of house\, tech house\, bass house\, funk-house\, dark house\, and Brazilian grooves\, all driven by movement and the pulse of the crowd. \n  \n🎧 Line-up: \nBR HOUSE – @hel_d.wav @kaiaa.dj @rafaondecks \nWith Special Guest DJ: ANKNWN @anknwnmusic \n  \nArrive at right at 11 pm and enjoy some of the Latin orchestra before the Brazilian House party begins. \n  \nPowered by: Showzaço Artistic Productions & Lula Music and Arts Centre \n  \nBottle Service\nReservations for bottle service can be made by calling 416 588 0307. \n  \nPlease note that these tickets are general admission and do not guarantee seating. Buy early and get the early bird discount! \n\n\n\n\n\n\n \n\n\n  \n    🎟 Buy Tickets Now\n  \n\n\nSponsored Ad:
URL:https://talkoftoronto.ca/event/global-late-night-brazilian-dj-collective-br-house-ft-anknwn/
LOCATION:Lula Lounge\, 1585 Dundas Street W\, Toronto\, ON M6K 1T9\, Toronto\, M6K 1T9\, CA
CATEGORIES:House / EDM,Nightlife & Parties
ATTACH;FMTTYPE=image/png:https://talkoftoronto.ca/wp-content/uploads/2026/03/62186_image-scaled.png
END:VEVENT
END:VCALENDAR