BEGIN:VCALENDAR
VERSION:2.0
PRODID:-//Talk of Toronto - ECPv6.15.20//NONSGML v1.0//EN
CALSCALE:GREGORIAN
METHOD:PUBLISH
X-WR-CALNAME:Talk of Toronto
X-ORIGINAL-URL:https://talkoftoronto.ca
X-WR-CALDESC:Events for Talk of Toronto
REFRESH-INTERVAL;VALUE=DURATION:PT1H
X-Robots-Tag:noindex
X-PUBLISHED-TTL:PT1H
BEGIN:VTIMEZONE
TZID:America/Toronto
BEGIN:DAYLIGHT
TZOFFSETFROM:-0500
TZOFFSETTO:-0400
TZNAME:EDT
DTSTART:20250309T070000
END:DAYLIGHT
BEGIN:STANDARD
TZOFFSETFROM:-0400
TZOFFSETTO:-0500
TZNAME:EST
DTSTART:20251102T060000
END:STANDARD
BEGIN:DAYLIGHT
TZOFFSETFROM:-0500
TZOFFSETTO:-0400
TZNAME:EDT
DTSTART:20260308T070000
END:DAYLIGHT
BEGIN:STANDARD
TZOFFSETFROM:-0400
TZOFFSETTO:-0500
TZNAME:EST
DTSTART:20261101T060000
END:STANDARD
BEGIN:DAYLIGHT
TZOFFSETFROM:-0500
TZOFFSETTO:-0400
TZNAME:EDT
DTSTART:20270314T070000
END:DAYLIGHT
BEGIN:STANDARD
TZOFFSETFROM:-0400
TZOFFSETTO:-0500
TZNAME:EST
DTSTART:20271107T060000
END:STANDARD
END:VTIMEZONE
BEGIN:VEVENT
DTSTART;TZID=America/Toronto:20260613T140000
DTEND;TZID=America/Toronto:20260613T190000
DTSTAMP:20260424T102704
CREATED:20260419T204526Z
LAST-MODIFIED:20260420T165558Z
UID:62300-1781359200-1781377200@talkoftoronto.ca
SUMMARY:SKJMS Scholarship Award Ceremony
DESCRIPTION:Culture\, Excellence & Impact: SKJMS Scholarship Awards Ceremony 🎓✨\nLooking to make a difference while celebrating the next generation of leaders? Join us for an inspiring afternoon at the SKJMS Scholarship Awards Ceremony Fundraising Event. \nThis isn’t just a gathering—it’s a movement to support and empower students of Caribbean descent. We’re coming together to recognize outstanding student achievements and community impact\, ensuring that the bright minds of tomorrow have the resources they need to succeed today. \n\n\nEvent Highlights\n\nAwards Presentation: Honoring students for their excellence and dedication.\nNetworking: Connect with community leaders\, professionals\, and like-minded supporters.\nFood & Culture: Enjoy a catered experience as we celebrate our shared heritage.\nPurpose-Driven: 100% of ticket proceeds go directly toward scholarships and educational opportunities.\n\n\nThe Details\n\n📅 Date: Saturday June 13th\, 2026\n🕒 Time: 2:00 PM – 7:00 PM\n📍 Location: The Learning Enrichment Foundation\, 116 Industry St\, York\, ON\n🎟️ Tickets: $90\n\n\nWhy Attend?\nEducation is the bridge to the future. Your presence helps lower the barriers for students of Caribbean descent\, providing them with the financial support to access higher education. Let’s celebrate our culture and invest in excellence together. \nReady to make an impact? Secure your spot and be part of the change. \nGet your tickets now at TalkofToronto.ca! \n\n \n\n\n  \n    🎟 Buy Tickets Now
URL:https://talkoftoronto.ca/event/skjms-caribbean-scholarship-fundraiser-toronto/
LOCATION:The Learning Enrichment Foundation\, 116 Industry St\, Toronto\, Ontario\, Canada
CATEGORIES:Food & Drink Event,Nightlife & Parties
ATTACH;FMTTYPE=image/jpeg:https://talkoftoronto.ca/wp-content/uploads/2026/04/SKJMS-Scholarship-Awards-Fundraiser.jpeg
END:VEVENT
BEGIN:VEVENT
DTSTART;TZID=America/Toronto:20260614T150000
DTEND;TZID=America/Toronto:20260614T210000
DTSTAMP:20260424T102704
CREATED:20260321T225640Z
LAST-MODIFIED:20260321T230816Z
UID:61879-1781449200-1781470800@talkoftoronto.ca
SUMMARY:LEGENDARY feat David Rodigan & DJ Starting from Scratch - Toronto Day Party
DESCRIPTION:David Rodigan & Starting From Scratch: A Legendary Toronto Day Party at Acqua\nToronto\, the wait is officially over. On Sunday\, June 14\, 2026\, the city will witness a musical collision decades in the making. For the first time in history\, two of the most influential figures in global DJ culture—David Rodigan and DJ Starting From Scratch—are joining forces for an exclusive outdoor day party at Acqua. \nEvent Details: Legends United\n\nDate: Sunday\, June 14\, 2026\nTime: 3:00 PM – 9:00 PM (Outdoor Day Party)\nVenue: Acqua Supper Club – 50 Prince Edward Island Crescent (CNE Grounds)\nSoundtrack: Soul\, Hip Hop\, R&B\, Soca\, and Reggae\nHosted by: Timbrrr & Junior Jones\nPresented by: SFS ENT & Rickey D Events\n\n\nWhy This Event is ‘Legendary’\nThis isn’t just another Sunday session; it’s a cultural milestone for the 6ix. \nDavid “Ram Jam” Rodigan is a British icon whose career spans over 40 years. Known as the ultimate “Selector\,” he has championed reggae and dancehall globally\, earning an MBE for his services to broadcasting and music. To see him in an intimate Toronto setting is a rare privilege. \nSharing the stage is Toronto’s own DJ Starting From Scratch. As one of the most versatile DJs on the planet\, Scratch has toured with legends like Russell Peters and Usher. His ability to blend genres—from old-school R&B to high-energy Soca—makes him the perfect counterpart to Rodigan’s reggae mastery. \nWhat to Expect at Acqua\nLocated on the historic CNE grounds\, Acqua provides the perfect upscale\, sun-drenched backdrop for this 3 PM to 9 PM event. Expect a high-energy atmosphere\, “music right across the board\,” and unannounced special guests that only a lineup of this caliber could pull. \nIf you’re looking for “Summer 2026 Toronto Events” or the best “Reggae parties in Toronto\,” this is the definitive answer. With the lake breeze and world-class selectors\, it’s the centerpiece of the June entertainment calendar. \nTickets & Availability\nWarning: This event is 100% expected to sell out. Because of the “first time ever” nature of this collaboration\, tickets are moving fast. \n[Click Here to Buy Tickets Now] \nDon’t be the one hearing about it on Monday morning. Secure your spot at the CNE Grounds for a day of musical history. \n \n\n\n \n\n\n  \n    🎟 Buy Tickets Now
URL:https://talkoftoronto.ca/event/legendary-feat-david-rodigan-dj-starting-from-scratch-toronto-day-party/
LOCATION:Acqua Supper Club\, 50 Prince Edward Island Crescent\, Toronto\, ON M6K 3C3\, Toronto\, M6K 3C3\, CA
CATEGORIES:Nightlife & Parties,Reggae & Dancehall
ATTACH;FMTTYPE=image/jpeg:https://talkoftoronto.ca/wp-content/uploads/2026/03/61879_image.jpg
END:VEVENT
END:VCALENDAR