BEGIN:VCALENDAR
VERSION:2.0
PRODID:-//Talk of Toronto - ECPv6.15.20//NONSGML v1.0//EN
CALSCALE:GREGORIAN
METHOD:PUBLISH
X-ORIGINAL-URL:https://talkoftoronto.ca
X-WR-CALDESC:Events for Talk of Toronto
REFRESH-INTERVAL;VALUE=DURATION:PT1H
X-Robots-Tag:noindex
X-PUBLISHED-TTL:PT1H
BEGIN:VTIMEZONE
TZID:America/Toronto
BEGIN:DAYLIGHT
TZOFFSETFROM:-0500
TZOFFSETTO:-0400
TZNAME:EDT
DTSTART:20240310T070000
END:DAYLIGHT
BEGIN:STANDARD
TZOFFSETFROM:-0400
TZOFFSETTO:-0500
TZNAME:EST
DTSTART:20241103T060000
END:STANDARD
BEGIN:DAYLIGHT
TZOFFSETFROM:-0500
TZOFFSETTO:-0400
TZNAME:EDT
DTSTART:20250309T070000
END:DAYLIGHT
BEGIN:STANDARD
TZOFFSETFROM:-0400
TZOFFSETTO:-0500
TZNAME:EST
DTSTART:20251102T060000
END:STANDARD
BEGIN:DAYLIGHT
TZOFFSETFROM:-0500
TZOFFSETTO:-0400
TZNAME:EDT
DTSTART:20260308T070000
END:DAYLIGHT
BEGIN:STANDARD
TZOFFSETFROM:-0400
TZOFFSETTO:-0500
TZNAME:EST
DTSTART:20261101T060000
END:STANDARD
END:VTIMEZONE
BEGIN:VEVENT
DTSTART;TZID=America/Toronto:20251116T120000
DTEND;TZID=America/Toronto:20251116T170000
DTSTAMP:20260424T155213
CREATED:20251029T220212Z
LAST-MODIFIED:20251029T220855Z
UID:61178-1763294400-1763312400@talkoftoronto.ca
SUMMARY:BLACKxBLACK - All Black Affair @ Future (Sunday November 16th 2025)
DESCRIPTION:Get ready to experience the ultimate BLACKxBLACK event at Future Nightclub . Dresscode all Black\n\n\nMogul Minute & North Division Presents \nBlackxBlack \nAll Black Affair \n– \nSunday November 16th 2025 \nFuture Nightclub | 570 Queen St West \nMusic By: Summer Knocks\, Fling\, Dj D1 & Tre Mollie \nHosted By: Matt Mogul & Brandon Billions \n– \nA Stylish Dresscode will be inforced \nNo Sport Attire – No Hoodies – No Sport jerseys -No Tracksuits \nFor More Information \nContact: (437)981-1742 \n#BlackxBlack #NorthxDivision #MogulMinute #Toronto \n  \n\n\n\n\n\n \n\n\n  \n    🎟 Buy Tickets Now
URL:https://talkoftoronto.ca/event/blackxblack-all-black-affair-future-sunday-november-16th-2025/
LOCATION:Future\, 570 Queen Street West\, Toronto\, ON M5V 2B5\, Toronto\, M5V 2B5\, Canada
CATEGORIES:Afro Beats,Amapiano,Hip-Hop/Rap,Nightlife & Parties,Reggae & Dancehall
ATTACH;FMTTYPE=image/jpeg:https://talkoftoronto.ca/wp-content/uploads/2025/10/BLACK-BLACK-All-Black-Affair-Future-Toronto-nightlife-.jpg
END:VEVENT
BEGIN:VEVENT
DTSTART;TZID=America/Toronto:20251109T150000
DTEND;TZID=America/Toronto:20251109T200000
DTSTAMP:20260424T155213
CREATED:20251103T211152Z
LAST-MODIFIED:20251103T211855Z
UID:61382-1762700400-1762718400@talkoftoronto.ca
SUMMARY:GIVE ME SOCA | Toronto Event |  BLACK RODEO
DESCRIPTION:🤠 GIVE ME SOCA – Black Rodeo 🖤\nSHOWCASING THE ART + JOY OF SOCA MUSIC! \nY’all ready for this? Actually\, this is our First Rodeo… but we’re bringing the heat! \nSTEPH HONEY PRESENTS… GIVE ME SOCA – Black Rodeo—an afternoon dedicated to 100% pure\, vibrant Soca music! \n\n  \n🎶 Event Details\n\n📅 NEW DATE: Sunday\, November 9th\, 2025\n⏰ Time: 3:00 PM – 8:00 PM\n📍 Location: Last Call – 584 College St. Toronto\n🔞 Entry: 19+\, Valid ID Required\n\n  \n🔥 Your DJs for the Ride\nWe’ve rounded up a stellar crew to keep the energy high: \n\nSteph Honey\nFlexx Got Next\nMenace\nVybz Kid\nReece\n\n  \n👕 Dress Code: Black Rodeo\nSaddle up in style! The theme is Black Rodeo. We’re looking for: \n\nAll Black Western Chic\nOR All Black Anything—come fresh!\n\n\n🥂 Bottle Service & Special Celebrations\nWant to make it an extra special day? \nPLEASE NOTE: To inquire about bottle service and special celebrations\, please email: Info@TalkofToronto.ca \n\nGet your tickets and get ready for a Sunday Funday filled with maximum vibes! \n \n  \n\n\n\n \n\n\n  \n    🎟 Buy Tickets Now
URL:https://talkoftoronto.ca/event/give-me-soca-black-rodeo-toronto-event/
LOCATION:Last Call Cocktail Club\, 584 College Street\, Toronto\, ON M6G 1B3\, Toronto\, Ontario\, M6G 1B3\, Canada
CATEGORIES:Nightlife & Parties,Soca
ATTACH;FMTTYPE=image/png:https://talkoftoronto.ca/wp-content/uploads/2025/11/61382_image.png
END:VEVENT
BEGIN:VEVENT
DTSTART;TZID=America/Toronto:20251109T111500
DTEND;TZID=America/Toronto:20251109T133000
DTSTAMP:20260424T155213
CREATED:20251103T205013Z
LAST-MODIFIED:20251103T211755Z
UID:61374-1762686900-1762695000@talkoftoronto.ca
SUMMARY:Dr Jay's Soca Brunch 2025- Aera - Toronto - 11:15am Seating
DESCRIPTION:Bites\, beats and a little Caribbean heat – Dr Jay’s Soca Brunch\n\n\nTurn your Sunday into a Caribbean celebration at Dr. Jay’s Soca Brunch! Get ready for a Sunday like no other! Dr. Jay’s Soca Brunch returns and will bring the ultimate island vibes to the incredible ambiance at Aera with infectious energy\, and nonstop Soca rhythms.  \nIndulge in mouthwatering brunch favourites while sipping on your favorite cocktails.Whether you’re here for the food\, the music\, or the vibrant atmosphere\, this isn’t just brunch; it’s an experience. A movement. A full-on taste of the islands that will have you singing\, laughing\, and creating unforgettable memories. \nDon’t just brunch\, vibe with us! \nFor assistance with groups of 6 or larger\, celebrations\, special events\, or VIP booth inquiries please contact partybrunch@aerarestaurant.com \n  \nSunday\, November 9th\, 2025 \nVenue: Aera Restaurant. 8 Spadina\, 38th floor\, Toronto. \nBrunch: 11:15 AM – 1:30 PM – Ticket purchase required to reserve your table. \nDress Code: Come ready to have fun! \nBrunch Tickets\nEach ticket comes with an included entree from the menu listed on this page. \nFor assistance with larger parties or VIP booth inquiries\, email partybrunch@aerarestaurant.com \nPlease note: All tickets are non-refundable \n\n\n\n\n\n \n\n\n  \n    🎟 Buy Tickets Now
URL:https://talkoftoronto.ca/event/dr-jays-soca-brunch-aera-toronto-event/
LOCATION:8 Spadina Ave. 38th floor\, 8 Spadina Avenue #38th floor\, Toronto\, ON M5V 2H6\, Toronto\, M5V 2H6\, CA
CATEGORIES:Nightlife & Parties,Soca
ATTACH;FMTTYPE=image/jpeg:https://talkoftoronto.ca/wp-content/uploads/2025/11/61374_image.jpg
END:VEVENT
BEGIN:VEVENT
DTSTART;TZID=America/Toronto:20251108T220000
DTEND;TZID=America/Toronto:20251109T030000
DTSTAMP:20260424T155213
CREATED:20251103T215447Z
LAST-MODIFIED:20251103T215606Z
UID:61397-1762639200-1762657200@talkoftoronto.ca
SUMMARY:GET ON UP - 90s R&B and Hip Hop - SCRATCH'S BDAY NOV 8TH
DESCRIPTION:Get On Up – Strictly 90s R&B/Hip Hop All Night\nCELEBRATING THE BIRTHDAY OF DJ STARTING FROM SCRATCH\n\n\nStrictly 90s R&B/Hip Hop All Night Long.\nfeat DJ Starting From Scratch \nDigging deep in the crates & playing all those forgotten gems along with all your favorite 90s records \nINFO/BOOTHS : Info@TalkofToronto.ca \n#GETONUP \n \n\n\n \n\n\n  \n    🎟 Buy Tickets Now
URL:https://talkoftoronto.ca/event/get-on-up-90s-rb-and-hip-hop-scratchs-bday-nov-8th/
LOCATION:Phoenix Concert Theatre\, 410 Sherbourne Street\, Toronto\, ON M5X 1K2\, Toronto\, M5X 1K2\, CA
CATEGORIES:Hip-Hop/Rap,Nightlife & Parties,Old School,R&B
ATTACH;FMTTYPE=image/png:https://talkoftoronto.ca/wp-content/uploads/2025/11/61397_image.png
END:VEVENT
BEGIN:VEVENT
DTSTART;TZID=America/Toronto:20251108T220000
DTEND;TZID=America/Toronto:20251109T020000
DTSTAMP:20260424T155213
CREATED:20251102T223226Z
LAST-MODIFIED:20251102T223436Z
UID:61096-1762639200-1762653600@talkoftoronto.ca
SUMMARY:Duke Dumont Live at REBEL Toronto
DESCRIPTION:🔊 Dance Into November: Duke Dumont Live at REBEL Toronto – Get Tickets Now!\nDuke Dumont Live at REBEL Toronto – Your Must-Attend Event This November\nGet ready\, Toronto! One of the biggest names in UK House music is taking over the city’s top venue. Duke Dumont live at REBEL Toronto is happening on Saturday\, November 8th\, 2025. If you want a night full of platinum-selling hits\, high-energy vibes\, and massive basslines\, this is your chance to see a true legend on the decks. \nThe British producer\, famous for dance floor anthems like “Ocean Drive\,” “I Got U\,” and “Need U (100%)\,” is known for putting on live shows that are truly unforgettable. Don’t sit on this—tickets are selling fast for this 19+ event at the waterfront’s number one spot. \n  \nDUKE DUMONT LIVE IN TORONTO \nDate: Saturday\, November 8\, 2025 \nTime: Doors open at 10:00 PM EST \nVenue: REBEL\, 11 Polson Street\, Toronto\, ON M5A1A4 \n  \n\nWhy You Need to See Duke Dumont Live\nDuke Dumont is not just a DJ; he is one of the most important names in modern electronic music. His tracks are perfectly designed to make a crowd move\, mixing classic house sounds with a fresh\, pop-friendly feel. \n  \nThe Hits That Defined a Decade\nIf you’ve been to a pool party\, driven on a summer night\, or stepped inside a nightclub in the last ten years\, you know his work. This show is your chance to hear those tracks played loud—the way they were meant to be heard. Expect to hear every huge song that has made him a star. \n\nThe REBEL Experience\nDuke Dumont live at REBEL Toronto is a match made in dance heaven. REBEL is known for its amazing sound system\, great lights\, and massive dance floor. It is the perfect place to feel the beat of deep house music and enjoy a world-class performance. Get ready for an electrifying night right by the water. \n\nFinal Warning: Secure Your Tickets Today!\nEvents of this size\, especially at a venue like REBEL\, sell out quickly. You don’t want to be the one listening to your friends talk about the show on Monday morning. Lock in your spot now to be part of the biggest dance party of the fall. \n  \nReady to join the party?\n  \n➡️ Buy Tickets Now\nNote: This is a legal age 19+ event. Please have valid photo ID ready. \n\n  \nEvent Quick Details\n  \n\n\n\nDetail\nInformation\n\n\n\n\nArtist\nDuke Dumont\n\n\nLocation\nREBEL Toronto (11 Polson Street)\n\n\nDate\nSaturday\, November 8\, 2025\n\n\nDoors\n10:00 PM EST\n\n\nAge\n19+ (Valid ID required)\n\n\n\n  \n\n \n\n\n  \n    🎟 Buy Tickets Now\n  \n\nNote:  For this part of the script use the ###Market Affiliate Link### for the href url  and the name of the post for the aria-label=
URL:https://talkoftoronto.ca/event/duke-dumont-live-at-rebel-toronto/
LOCATION:Rebel Nightclub\, 11 Polson St.\, Toronto\, Ontario\, Canada
CATEGORIES:Dance/Electronic,Nightlife & Parties
ATTACH;FMTTYPE=image/png:https://talkoftoronto.ca/wp-content/uploads/2025/10/unnamed-file.png
END:VEVENT
BEGIN:VEVENT
DTSTART;TZID=America/Toronto:20251102T100000
DTEND;TZID=America/Toronto:20251102T170000
DTSTAMP:20260424T155213
CREATED:20251031T190730Z
LAST-MODIFIED:20251031T191017Z
UID:61235-1762077600-1762102800@talkoftoronto.ca
SUMMARY:Chillin' & Grillin' presents: CHAMPION SOUND
DESCRIPTION:A celebration for the Blue Jays incredible season and a fundraiser for the victims of hurricane Melissa in Jamaica.\n\n\nChillin’ & Grillin’ presents: CHAMPION SOUND 🔊🔥\n🗓️ THIS SUNDAY! November 2nd from 3pm-10pm. \nWe promised y’all — and like our beloved Blue Jays this season\, we plan on delivering!!! 💙⚾️ \nBut before we celebrate one of our city’s biggest W’s\, we have to acknowledge the massive loss and devastation faced by the people of Jamaica earlier this week. Our hearts are heavy\, but our spirit is strong and in true Toronto fashion\, we’re moving from words to action. \nSo\, we’ve put the call out to some of our favourite\, biggest-hearted\, and most Toronto (and Jaysiest) DJ homies to help us do what we do best: celebrate community\, spread good vibes\, and give back. 🇯🇲💫 \n🎟️ $15 advance tickets — with ALL proceeds going directly to the Jamaica Hurricane Relief Fund. \nStay tuned — full DJ lineup and venue announcement – TBA 👀🔥 \nJoin us as we turn up for another Sunday and rally together to bring some much-needed relief to a country that has given C&G\, Toronto\, and the world so much. \nOne Love. Always. 🖤💛💚 \n\n\n#TorontoNightlife #TorontoEvents\n\n\n \n\n\n  \n    🎟 Buy Tickets Now
URL:https://talkoftoronto.ca/event/chillin-grillin-presents-champion-sound/
CATEGORIES:Hip-Hop/Rap,Nightlife & Parties
ATTACH;FMTTYPE=image/jpeg:https://talkoftoronto.ca/wp-content/uploads/2025/10/61235_image.jpg
END:VEVENT
BEGIN:VEVENT
DTSTART;TZID=America/Toronto:20251101T220000
DTEND;TZID=America/Toronto:20251102T020000
DTSTAMP:20260424T155213
CREATED:20251028T224727Z
LAST-MODIFIED:20251102T050157Z
UID:61086-1762034400-1762048800@talkoftoronto.ca
SUMMARY:THRILLER with TIMMY TRUMPET & COONE
DESCRIPTION:🎺 Get Ready for THRILLER with TIMMY TRUMPET & COONE! 🎃 \nINK Entertainment is bringing one of the biggest nights of the year to REBEL! Get your costumes ready for a massive night of electronic music featuring two global superstars across two stages. \nExperience the high-energy\, chart-topping sounds of TIMMY TRUMPET taking over the main room\, while Hardstyle king COONE brings the heat to NOIR inside REBEL. This is the ultimate event to kick off your November! \n\n🎶 Event Details\n  \n\n\n\nArtist\nStage\n\n\n\n\nTIMMY TRUMPET\nMain Room @ REBEL\n\n\nCOONE\nNOIR inside REBEL\n\n\n\n\n\n\nDetail\nInformation\n\n\n\n\nDate\nSaturday\, November 1\, 2025\n\n\nDoors Open\n10:00 PM EDT\n\n\nVenue\nREBEL\, Toronto\n\n\nAge\n19+ Event (Government ID Required)\n\n\nTickets\nGeneral Admission (All price tiers allow the same access)\n\n\n\n\n🎟️ Don’t Miss Out!\nSecure your spot for a night of explosive beats and unforgettable thrills. This event will sell out! \n🔥 GET YOUR TICKETS HERE! \n#Thriller #TimmyTrumpet #Coone #REBELToronto #INKEvents #EDM #Hardstyle #Nightlife \n \n\n \n \n\n\n  \n    🎟 Buy Tickets Now
URL:https://talkoftoronto.ca/event/thriller-with-timmy-trumpet-coone/
LOCATION:Rebel Nightclub\, 11 Polson St.\, Toronto\, Ontario\, Canada
CATEGORIES:Dance/Electronic,Nightlife & Parties
ATTACH;FMTTYPE=image/png:https://talkoftoronto.ca/wp-content/uploads/2025/10/TIMMY-TRUMPET-Main-Room-REBEL-Thriller-Halloween-Party-Toronto-Nightlife.png
END:VEVENT
BEGIN:VEVENT
DTSTART;TZID=America/Toronto:20251101T190000
DTEND;TZID=America/Toronto:20251101T220000
DTSTAMP:20260424T155213
CREATED:20251029T214217Z
LAST-MODIFIED:20251029T215240Z
UID:61170-1762023600-1762034400@talkoftoronto.ca
SUMMARY:Halloween Strikes at National at The Well
DESCRIPTION:Cinematic night of style + scares: immersive horror\, eerie sets\, surprise jumps\, and a soundtrack that puts you inside the movie.\n\n\nStep into a cinematic night of style and scares. Our team is building an immersive horror experience—think eerie set pieces\, surprise scare moments\, and a soundtrack that makes you feel inside a movie. \nVenue — National at The Well:  \n\nModern playground with bowling lanes\nElevated space perfect for bottle service and big-group fun\nCentral downtown vibe\, photo-ready everywhere\n\nMusic & Lineup:  \n\nRennie — high-energy open-format (hip-hop\, R&B\, Afrobeats\, dancehall)\nQTPI Brandon — genre-switching party starter\nDaytona (Latina DJ) — reggaeton\, urbano\, and Latin heaters\n\nWhen: \n\nDoors: 10:30 PM (arrive early)\nShowtime: 11:00 PM – 3:00 AM\n\nDress Code: \nFormal or costume. All costumed guests are automatically entered into our Best Costume Giveaway—bring your A-game for prizes and bragging rights. \nGood to know: \n\nKeep props classy; no realistic weapon replicas.\nMasks may need to come off for ID/security.\nBottle service available—limited tables; book early.\n\nGrab your tickets now and step into the story… if you dare. 👀 \n \n\n\n \n\n\n  \n    🎟 Buy Tickets Now
URL:https://talkoftoronto.ca/event/halloween-strikes-at-national-at-the-well/
LOCATION:National Toronto\, 486 Front Street West\, Toronto\, ON M5V 0V2\, Toronto\, M5V 0V2\, CA
CATEGORIES:Hip-Hop/Rap,Nightlife & Parties
ATTACH;FMTTYPE=image/png:https://talkoftoronto.ca/wp-content/uploads/2025/10/61170_image-scaled.png
END:VEVENT
BEGIN:VEVENT
DTSTART;TZID=America/Toronto:20251031T210000
DTEND;TZID=America/Toronto:20251101T020000
DTSTAMP:20260424T155213
CREATED:20251029T140534Z
LAST-MODIFIED:20251101T060336Z
UID:61092-1761944400-1761962400@talkoftoronto.ca
SUMMARY:Mortem Halloween at Rebel Nightclub 2025
DESCRIPTION:Music by Trapment\nCostume Contest: 10k in prizes for the best costume \nDoors: 9:00pm\nThis is a LEGAL AGE 19+ event.  Valid photo ID required. \nEvent tickets are general admission.  All price tiers allow the same access.  All sales are final.  No refunds or exchanges. \n  \n \n\n\n  \n    🎟 Buy Tickets Now
URL:https://talkoftoronto.ca/event/mortem-halloween-rebel-2025/
LOCATION:Rebel Nightclub\, 11 Polson St.\, Toronto\, Ontario\, Canada
CATEGORIES:Dance/Electronic,House / EDM,Nightlife & Parties
ATTACH;FMTTYPE=image/png:https://talkoftoronto.ca/wp-content/uploads/2025/10/MORTEM-HALLOWEEN-Rebel-Toronto-Party-Nightlife-2025.png
END:VEVENT
BEGIN:VEVENT
DTSTART;TZID=America/Toronto:20251030T183000
DTEND;TZID=America/Toronto:20251030T230000
DTSTAMP:20260424T155213
CREATED:20251029T012828Z
LAST-MODIFIED:20251029T013645Z
UID:61130-1761849000-1761865200@talkoftoronto.ca
SUMMARY:HAUNTED GAZA HALLOWEEN X VYBZ KARTEL OFFICIAL AFTER PARTY
DESCRIPTION:Get ready for a spooky night filled with vibes and music at the official after party of Haunted Gaza Halloween x Vybz Karte!\n\n\n📅 THURSDAY\, October 30th\, 2025\n📍 – MISS IVY 502 Queen St. West\, Toronto\, HALLOWEEN KICK OFF \nTHE WAIT IS OVER! THE HAUNTED GAZA HALLOWEEN TIP OFF!\nThe Worl’ Boss has returned — and Toronto is ready to celebrate like never before. \nJoin us for the Official after party for VYBZ KARTEL: GAZA FOREVER X HALLOWEEN \, featuring an explosive lineup of DJs and producers paying tribute to the King of Dancehall and the global Gaza movement. ( HUGE SURPRISE CELEBRITY GUEST) ITS GAZA TIME!! \n***HALLOWEEN BOTTLE SPECIAL 2 PREMIUM BOTTLES $600 ALL IN BEFORE 12! \n  \n🔥 Featuring MUSIC BY\n\nDJ BWARE\nJUDGEMENT DAY\nHOSTED BY SWEEET FLAVA\n\nExpect non-stop Kartel hits\, exclusive remixes\, and a full night of Gaza energy from start to finish. \n🎵 Music Policy\n100% Dancehall • Reggae • Soca • Afrobeats • Hip Hop \n🎫 Tickets\nEarly bird & general admissionX GUEST LIST available now – secure yours before they’re gone\, \nFor Guest list Email Info@TalkofToronto.ca \nThis event WILL SELL OUT. \n💥 Dress Code\nClean\, stylish\, and ready to represent the Gaza Nation. \n🚨 Age & ID\n19+ event | Valid government ID required \nLocation:\n📍MISS IVY\n502 Queen St. West\, Toronto
URL:https://talkoftoronto.ca/event/haunted-gaza-halloween-x-vybz-kartel-official-after-party/
LOCATION:Miss Ivy\, 502 Queen Street West\, Toronto\, ON M5V 2B3\, Toronto\, M5V 2B3\, CA
CATEGORIES:Nightlife & Parties,Reggae & Dancehall
ATTACH;FMTTYPE=image/jpeg:https://talkoftoronto.ca/wp-content/uploads/2025/10/61130_image.jpg
END:VEVENT
END:VCALENDAR