BEGIN:VCALENDAR
VERSION:2.0
PRODID:-//Talk of Toronto - ECPv6.15.20//NONSGML v1.0//EN
CALSCALE:GREGORIAN
METHOD:PUBLISH
X-WR-CALNAME:Talk of Toronto
X-ORIGINAL-URL:https://talkoftoronto.ca
X-WR-CALDESC:Events for Talk of Toronto
REFRESH-INTERVAL;VALUE=DURATION:PT1H
X-Robots-Tag:noindex
X-PUBLISHED-TTL:PT1H
BEGIN:VTIMEZONE
TZID:America/Toronto
BEGIN:DAYLIGHT
TZOFFSETFROM:-0500
TZOFFSETTO:-0400
TZNAME:EDT
DTSTART:20230312T070000
END:DAYLIGHT
BEGIN:STANDARD
TZOFFSETFROM:-0400
TZOFFSETTO:-0500
TZNAME:EST
DTSTART:20231105T060000
END:STANDARD
BEGIN:DAYLIGHT
TZOFFSETFROM:-0500
TZOFFSETTO:-0400
TZNAME:EDT
DTSTART:20240310T070000
END:DAYLIGHT
BEGIN:STANDARD
TZOFFSETFROM:-0400
TZOFFSETTO:-0500
TZNAME:EST
DTSTART:20241103T060000
END:STANDARD
BEGIN:DAYLIGHT
TZOFFSETFROM:-0500
TZOFFSETTO:-0400
TZNAME:EDT
DTSTART:20250309T070000
END:DAYLIGHT
BEGIN:STANDARD
TZOFFSETFROM:-0400
TZOFFSETTO:-0500
TZNAME:EST
DTSTART:20251102T060000
END:STANDARD
BEGIN:DAYLIGHT
TZOFFSETFROM:-0500
TZOFFSETTO:-0400
TZNAME:EDT
DTSTART:20260308T070000
END:DAYLIGHT
BEGIN:STANDARD
TZOFFSETFROM:-0400
TZOFFSETTO:-0500
TZNAME:EST
DTSTART:20261101T060000
END:STANDARD
END:VTIMEZONE
BEGIN:VEVENT
DTSTART;TZID=America/Toronto:20250720T130000
DTEND;TZID=America/Toronto:20250720T210000
DTSTAMP:20260424T023641
CREATED:20250605T185458Z
LAST-MODIFIED:20250716T020819Z
UID:58032-1753016400-1753045200@talkoftoronto.ca
SUMMARY:THE 90s PARTY: Toronto DAY FESTIVAL
DESCRIPTION:Talk of Toronto Featured Event: \nTHE 90s PARTY: TORONTO DAY FESTIVAL\n📅 Sunday\, July 20\, 2025⏰ 3:00 PM – 9:00 PM EDT📍 Acqua Supper Club – 50 Prince Edward Island Crescent\, Toronto\, ON \nNO REFUNDS | 19+ EVENT \n🎉 It’s BAAAAACK!!! 🎉The iconic 90s Party is back — and this time\, we’re taking over the city with a full-blown DAY FESTIVAL! \nGet ready for sunshine\, summer heat\, and straight 1990s nostalgia by the water — all going down at Acqua Supper Club\, one of Toronto’s hottest waterfront venues. \n🎧 Music By:\n\nSPEXX DA BOSS\n\nDJ 2Nice \n\nBlaxz Dun Da Place\n\nDJ DK (OVO) \n\n\nDJ RYCH KYDD \n\n\nThey’ll be spinning the best in 90s Hip Hop\, R&B\, Dancehall\, and House Party Anthems — from Biggie and TLC to Beenie Man and Montell Jordan. \n🎤 Hosted By:\n@mydj2nice × @kamakacci_juice × @leezyboysr × @bookdjdk \n🔥 Powered By:\n@1800tequila × @1800tequila_ca × @TalkofToronto \n🕹️ What to Expect:\n\n\nLive DJ sets & surprise performances \n\n\nRetro games\, giveaways & crowd contests \n\n\nPatio cocktails\, dancing\, and 90s fashion galore \n\n\nAll-day vibes with your crew by the lake \n\n\n📸 Snap a pic in your freshest FUBU\, Karl Kani\, or Tommy Hilfiger fit — this is a true ’90s summer celebration the city won’t forget. \n👖 Pull up in your freshest 90s outfit — denim overalls\, bucket hats\, fly kicks — and get ready for a full day of unapologetic nostalgia. \nFollow for updates: @the90spartyToronto — get ready to relive the era that raised us. \n \n#TorontoNightlife #TorontoParty #TorontoParties
URL:https://talkoftoronto.ca/event/the-90s-party-toronto-day-festival/
LOCATION:Acqua Supper Club\, 50 Prince Edward Island Crescent - CNE Grounds\, Toronto\, Ontario\, Canada
CATEGORIES:Hip Hop,Old School,R&B,Reggae & Dancehall
ATTACH;FMTTYPE=image/jpeg:https://talkoftoronto.ca/wp-content/uploads/2025/06/The-90s-Party-Day-Festival-Toronto-Old-School-Hip-Hop-Party-Nightlife.jpg
END:VEVENT
BEGIN:VEVENT
DTSTART;TZID=America/Toronto:20250621T220000
DTEND;TZID=America/Toronto:20250621T220000
DTSTAMP:20260424T023641
CREATED:20250605T182705Z
LAST-MODIFIED:20250611T165756Z
UID:58026-1750543200-1750543200@talkoftoronto.ca
SUMMARY:The 2000s Party – WHITE TEE EDITION
DESCRIPTION:Talk of Toronto Featured Event: \nThe 2000s Party – WHITE TEE EDITION\n📅 Saturday\, June 21\, 2025⏰ 10:30 PM – 3:00 AM EDT📍 Revival Event Venue – 783 College Street\, Toronto\, ON \n \nNO REFUNDS | 19+ EVENT \nToronto\, get ready to rewind the clock — because The 2000s Party is BACK with a special WHITE TEE EDITION!We’re bringing the raw\, unfiltered energy of the early 2000s straight to Revival — and it’s only right you pull up in your freshest white tee to set the vibe. \n🎵 Sounds by:\n\n\nDJ 2Nice \n\n\nBook DJ DK \n\n\nDJ RYCH KYDD \n\n\nExpect nothing but the best in 2000s Hip Hop\, R&B\, Dancehall\, and Club Anthems all night long — from Bow Wow and Beyoncé to Beenie Man and 50 Cent. \n🎤 Hosted by:\n@mydj2nice × @kamakacci_juice × @leezyboysr × @bookdjdk \n💥 Powered by:\n@1800tequila × @1800tequila_ca × @TalkofToronto \nThis is more than a party — it’s a full-blown throwback experience.Think:📼 “Baby Boy” moments📱 Sidekicks in the air🎶 Burned mix CDs👟 Air Force 1s stepping loud🎤 That real 106 & Park energy \nFollow: @the2000spartytoTag your crew\, plan your outfit\, and don’t miss out.Toronto’s #1 2000’s party is about to make history — again. 🔥 \n  \n#TorontoNightlife #TorontoParty #TorontoParties
URL:https://talkoftoronto.ca/event/the-2000s-party-toronto-white-tee-edition/
LOCATION:Revival Bar\, 783 College St\, Toronto\, Ontario\, Canada
CATEGORIES:Hip Hop,Old School,R&B
ATTACH;FMTTYPE=image/png:https://talkoftoronto.ca/wp-content/uploads/2025/06/The-2000s-Party-–-WHITE-TEE-EDITION-Toronto-Nightlife-Party-HipHop.png
END:VEVENT
BEGIN:VEVENT
DTSTART;TZID=America/Toronto:20250329T220000
DTEND;TZID=America/Toronto:20250330T023000
DTSTAMP:20260424T023641
CREATED:20250118T145511Z
LAST-MODIFIED:20250211T190259Z
UID:57315-1743285600-1743301800@talkoftoronto.ca
SUMMARY:The 2000s Party  Returns March 29 2025\, Revival Bar
DESCRIPTION:Talk of Toronto Featured Event \n🎉 The2000sParty Returns! 🎉\nGet ready to travel back in time to the Richmond & Adelaide days of partying! The2000sParty is back\, bringing you all the hits and vibes from the early 2000s. Expect a night of throwbacks\, nostalgia\, and non-stop dancing. \n📅 Date and Time:\nSaturday\, March 29\nDoors Open: 10:00 PM\nEvent Ends: 10:30 PM \n📍 Location:\nRevival Event Venue\n783 College St\, Toronto\, ON \n🎶 Music By: \n\nDJ 2Nice\, DJ DK\, and Blax Dun Da Place will be spinning all your favorite 2000s Hip Hop\, R&B\, Dancehall\, and Soca tracks\, while Kamakacci Juice\, MC Crazy Chris and Ceaza Leon keep the energy flowing all night long.\n\n🎵 What to Expect: \n\nThe hottest tracks from the 2000s\nIconic throwbacks you forgot you loved\nAn electric atmosphere that screams early 2000s vibes\n\n🎟️ Tickets:\nLimited tickets available—secure yours now before they sell out! \n \n📸 Dress Code:\nCome dressed in your best 2000s-inspired outfit! Think denim on denim\, oversized tees\, or velour tracksuits. \nDon’t miss this epic throwback night!\nFor tickets and updates\, follow us on social media @The2000sParty. \n✨ Be there or hear about it! ✨
URL:https://talkoftoronto.ca/event/the-2000s-party-revival-bar-toronto-events-oldschool-party-2025/
LOCATION:Revival Bar\, 783 College St\, Toronto\, Ontario\, Canada
CATEGORIES:Hip Hop,Old School,Reggae & Dancehall
ATTACH;FMTTYPE=image/jpeg:https://talkoftoronto.ca/wp-content/uploads/2025/01/The-2000s-Party-Returns-March-29-2025-Revival-Bar-Toronto-Events-Party-Nightlife.jpg
END:VEVENT
BEGIN:VEVENT
DTSTART;TZID=America/Toronto:20250309T150000
DTEND;TZID=America/Toronto:20250309T210000
DTSTAMP:20260424T023641
CREATED:20250301T190848Z
LAST-MODIFIED:20250307T140319Z
UID:57751-1741532400-1741554000@talkoftoronto.ca
SUMMARY:Skratch Bastid x Starting From Scratch Presents: "B2B"
DESCRIPTION:Talk of Toronto Featured Event:\nSkratch Bastid x Starting From Scratch Presents: “B2B”\nA Standard Sunday Featuring Skratch Bastid b2b Starting From Scratch! \n📅 Date: Sunday\, March 9th\, 2025\n🕒 Time: 3:00 PM – 9:00 PM\n📍 Location: 165 Geary Ave\, Toronto\, ON M6H 2B8\, Canada\n🍽 Food By: Crumbs Gourmet Patties \n\n\n\n🎶 For the True Music Lovers! 🎶 \nToronto\, get ready for an unforgettable musical experience as Skratch Bastid and Starting From Scratch go back-to-back for an epic Sunday session at 165 Geary Ave. If you’ve been searching for the perfect winter vibe\, look no further. This is the Sunday afternoon/evening you’ve been dreaming of – pure energy\, soulful beats\, and a flawless mix of hip-hop\, funk\, house\, soul\, and more. \n🔥 Not Just Open Format – It’s a Journey! 🔥 \nThese two legendary DJs are known for their insane music knowledge and insatiable appetites for audio excellence. Expect a seamless mix of genres\, vibes that move you\, and a soundtrack built for pure Toronto-style grooves. \nTell a friend to tell a friend—this is one event you don’t want to miss! 🙌 \n\n\n\n🌟 What to Expect:\n✅ Legendary DJs – Skratch Bastid & Starting From Scratch going B2B all day long.\n✅ An Electric Atmosphere – A handpicked selection of beats and rhythms to keep you moving.\n✅ Delicious Eats – Gourmet patties from Crumbs Gourmet Patties to keep you fueled.\n✅ Pure Toronto Vibes – A community gathering filled with music lovers and good energy. \n🎟 Tickets & Entry Details:\nSpots are limited\, so be sure to arrive early to secure your place! \n \n📍 Venue Address: 165 Geary Ave\, Toronto\, ON M6H 2B8\n📆 Date: Sunday\, March 9th\n🕒 Time: 3:00 PM – 9:00 PM \n🚀 Don’t miss out on this one-of-a-kind event. See you there\, Toronto! #B2B #SkratchBastid #StartingFromScratch \n 
URL:https://talkoftoronto.ca/event/skratch-bastid-x-starting-from-scratch-presents-b2b/
LOCATION:Standard Time\, 165 Geary Ave\, Toronto\, Ontario\, Canada
CATEGORIES:Hip Hop,House,Old School
ATTACH;FMTTYPE=image/webp:https://talkoftoronto.ca/wp-content/uploads/2025/03/scratch-bastid-starting-from-scratch-b2b-toronto-events-nightlife-music.webp
END:VEVENT
BEGIN:VEVENT
DTSTART;TZID=America/Toronto:20250216T220000
DTEND;TZID=America/Toronto:20250217T020000
DTSTAMP:20260424T023641
CREATED:20250114T054307Z
LAST-MODIFIED:20250114T054712Z
UID:57250-1739743200-1739757600@talkoftoronto.ca
SUMMARY:Break For LOVE! 15-Year Anniversary
DESCRIPTION:Talk of Toronto Featured Event\n“Break For LOVE! 15-Year Anniversary”\nA night filled with house music & rare groove classics \n\n📅 Date: Sunday\, February 16\, 2025 (Family Day Long Weekend)\n⏰ Time: Doors open at 10 PM\n📍 Venue: Hush Hush (Newly Renovated)\, 423 College St\, Toronto \n\nEvent Description\nToronto’s iconic Break For LOVE! is turning 15\, and we’re celebrating in style with a night of house music and rare groove classics! \nJoin us at the newly renovated Hush Hush on College Street for a legendary night featuring an all-star DJ lineup that’s sure to keep the dancefloor packed all night long: \n🎧 DJ Kenny Glasgow\n🎧 DJ Starting From Scratch\n🎧 DJ Yogi\n🎧 DJ Dave Campbell \nThe night will be hosted by the one and only Pedro HotStepper\, bringing the vibes and keeping the energy high! \nThis milestone event celebrates 15 years of unforgettable music\, dance\, and community. With deep roots in Toronto’s music scene\, these talented DJs will bring their unique styles to make this a Family Day Long Weekend you’ll never forget. \n\nTickets & Details\n \n🎟 Tickets: On sale starting January 7\, 2025\, at 12 PM via Eventbrite.\n💡 Pro Tip: This will be a sold-out event\, so grab your tickets early! \n\nWhy You Can’t Miss It\n\nCelebrate 15 years of Break For LOVE! with Toronto’s finest DJs.\nExperience the revamped Hush Hush\, a new hotspot in the city.\nDance the night away to house music and rare grooves with a crowd that loves to move!\n\n\nMark your calendars and get your tickets! Let’s make this 15-year celebration a night to remember. \nFor more Toronto events\, visit TalkofToronto.ca.
URL:https://talkoftoronto.ca/event/break-for-love-15-year-anniversary/
LOCATION:Hush Hush\, 423 College St\, Toronto\, Ontario\, Canada
CATEGORIES:Old School,R&B
ATTACH;FMTTYPE=image/jpeg:https://talkoftoronto.ca/wp-content/uploads/2025/01/Break-For-LOVE-15-Year-Anniversary-DJ-Starting-From-Scratch.jpg
END:VEVENT
BEGIN:VEVENT
DTSTART;TZID=America/Toronto:20250201T140000
DTEND;TZID=America/Toronto:20250201T180000
DTSTAMP:20260424T023642
CREATED:20250104T154005Z
LAST-MODIFIED:20250104T154311Z
UID:57164-1738418400-1738432800@talkoftoronto.ca
SUMMARY:Harlem GlobeTrotters - Live in Toronto
DESCRIPTION:Talk of Toronto Featured Event: \nHARLEM GLOBETROTTERS 2025 WORLD TOUR\nWhere\, WHAT JUST HAPPENED?!? happens all the time! \nDon’t miss your chance to be a part of the world-famous Harlem Globetrotters global 2025 tour as they take the court with moments of extreme basketball innovation and unparalleled fan FUN! See the Globetrotter stars LIVE as they DRIBBLE\, SPIN\, SLAM\, and DUNK their way past their relentless rivals\, the Washington Generals! You’ll be amazed by new levels of mind-blowing trick shots\, expert ball-handling skills\, and BIG LAUGHS with unrivaled opportunities for pre-game\, post-game and in-game fan engagement! \n \n#TorontoBasketball #TorontoEvents
URL:https://talkoftoronto.ca/event/harlem-globetrotters-live-in-toronto/
LOCATION:Paramount Fine Foods Centre\, 5500 Rose Cherry Place\, Mississauga\, Ontario\, L4Z 4B6\, Canada
CATEGORIES:Old School
ATTACH;FMTTYPE=image/jpeg:https://talkoftoronto.ca/wp-content/uploads/2025/01/Harlem-GlobeTrotters-Live-in-Toronto-2025-mississauga-basketball.jpg
END:VEVENT
BEGIN:VEVENT
DTSTART;TZID=America/Toronto:20241130T220000
DTEND;TZID=America/Toronto:20241201T020000
DTSTAMP:20260424T023642
CREATED:20240908T194533Z
LAST-MODIFIED:20240910T031532Z
UID:56158-1733004000-1733018400@talkoftoronto.ca
SUMMARY:The 2000's Party Returns November 30th 2024\, Revival Bar
DESCRIPTION:Talk of Toronto Featured Event: The 2000s Party!\nSaturday\, November 30th\, 2024\nInside Revival Night Club \nGet ready for the ultimate throwback experience as The 2000s Party is back and bigger than ever! Presented by the same promoters who brought you The 90s Party and this summer’s legendary 2000s Party Boat Cruise\, this event promises an unforgettable night filled with the best music and vibes from the 2000s. \nWhat to Expect:\n🎧 Same DJs & MCs from the 2000s Party Boat Cruise:\nDJ 2Nice\, DJ DK\, and Blax Dun Da Place will be spinning all your favorite 2000s Hip Hop\, R&B\, Dancehall\, and Soca tracks\, while MC Crazy Chris and Ceaza Leon keep the energy flowing all night long. \n👗 Dress Code:\nCome dressed in your best 2000s gear! Think oversized jerseys\, low-rise jeans\, velour tracksuits\, and bling. Get creative\, and let’s take it back to the early 2000s! \n💃 Dance\, Sing Along & Party:\nThis is your chance to relive the 2000s era with dance-offs\, crowd sing-alongs\, and non-stop party energy inside Toronto’s iconic Revival Night Club. \nBooth Reservations Available Now!\nLooking for a VIP experience? Secure your booth reservation before they sell out! Gather your crew and enjoy the night in style with bottle service and premium seating. Call Kamakacci Juice at 647-333-5262 or email Info@TalkofToronto.ca \nEvent Details:\n📅 Date: Saturday\, November 30th\, 2024\n🏢 Venue: Revival Night Club\n📍 Location: 783 College St\, Toronto\, ON \nPresented by: The Promoters Who Brought You The 90s Party \n\nFollow Us for Updates:\nStay in the loop for event announcements\, exclusive offers\, and behind-the-scenes previews by following us on Instagram:\n👉 @THE2000SPARTYTO \n\n🎟️ Don’t miss out on Toronto’s hottest 2000s event of the year! \n 
URL:https://talkoftoronto.ca/event/the-2000s-party-november-2024-revival-bar/
LOCATION:Revival Bar\, 783 College St\, Toronto\, Ontario\, Canada
CATEGORIES:Hip Hop,Old School,R&B,Reggae & Dancehall,Soca
ATTACH;FMTTYPE=image/jpeg:https://talkoftoronto.ca/wp-content/uploads/2024/09/2000S-Party-Toronto-Flyer-November-2024.jpg
END:VEVENT
BEGIN:VEVENT
DTSTART;TZID=America/Toronto:20241005T220000
DTEND;TZID=America/Toronto:20241006T020000
DTSTAMP:20260424T023642
CREATED:20240921T075152Z
LAST-MODIFIED:20250114T142415Z
UID:56369-1728165600-1728180000@talkoftoronto.ca
SUMMARY:Nostalgia Party – Hosted by Tyrone ‘T-Rex’ Edwards
DESCRIPTION:Talk of Toronto Featured Event: Nostalgia Party – Hosted by Tyrone ‘T-Rex’ Edwards\nToronto\, get ready to take a trip down memory lane with the Nostalgia Party! This one-night-only event\, hosted by the legendary Tyrone ‘T-Rex’ Edwards\, is set to be an unforgettable evening filled with classic hits\, good vibes\, and a few surprises along the way. \nJoin us on Saturday\, October 5th\, 2024\, at the iconic Rebel Nightclub for a night you won’t want to miss! \n\nEvent Details:\n📅 Date: Saturday\, October 5th\, 2024\n⏰ Time: 10:00 PM\n📍 Location: Rebel Nightclub\, 11 Polson Street\, Toronto\, ON M5A 1A4\n🍹 Sponsored By: Dusse Cognac \n\nWhat to Expect:\n\nHosted by Tyrone ‘T-Rex’ Edwards: Enjoy the night with one of Toronto’s most charismatic hosts\, known for his energy and passion for music and entertainment.\nLive Performance by Special Guest: We’ve got a surprise performance lined up by a special guest artist who will take the stage and bring the house down with some unforgettable hits.\nNostalgic Music & Vibes: Relive the golden days of music with classic tracks from the 90s and 2000s\, curated to take you on a journey through time.\nPremium Experience: Dance the night away at one of Toronto’s top venues\, with premium drinks courtesy of our sponsor\, Dusse Cognac.\n\n\nWhy You Should Attend:\nThe Nostalgia Party isn’t just an event; it’s a celebration of the music and moments that defined a generation. Whether you’re a fan of old-school R&B\, hip-hop\, or those unforgettable pop anthems\, this is your chance to dance\, sing\, and party like it’s the early 2000s again. \n\nGet Your Tickets Now!\nTickets are selling fast\, so don’t wait! Secure your spot at the Nostalgia Party and be part of an epic night that’s sure to be the talk of the town. \nBuy Tickets Now \n \n\nVenue Information:\nRebel Nightclub is one of Toronto’s premier entertainment venues\, known for its stunning views of the city skyline and state-of-the-art sound and lighting systems. With a capacity for over 2\,000 guests\, it’s the perfect place to host this nostalgic celebration. \n\nStay Connected:\nFollow us for the latest updates\, exclusive behind-the-scenes content\, and more surprises leading up to the event! \n\nInstagram: @tyronedwards\nInstagram: @dussecognac\nVenue: @rebeltoronto\n\n\nDon’t miss out on the ultimate throwback party of the year! Grab your tickets\, round up your crew\, and get ready for a night full of nostalgia\, great music\, and unforgettable memories. See you on the dance floor! \nTalkofToronto.ca – Your guide to the best events in the city! \n\n* This Event Has Ended – View Nostalgia Event Photo Recap & Review Here
URL:https://talkoftoronto.ca/event/nostalgia-party-hosted-by-tyrone-t-rex-edwards/
LOCATION:Rebel Nightclub\, 11 Polson St.\, Toronto\, Ontario\, Canada
CATEGORIES:Hip Hop,Old School,R&B
ATTACH;FMTTYPE=image/png:https://talkoftoronto.ca/wp-content/uploads/2024/09/nostalgia-party-toronto-2024-flyer.png
END:VEVENT
BEGIN:VEVENT
DTSTART;TZID=America/Toronto:20240927T223000
DTEND;TZID=America/Toronto:20240928T023000
DTSTAMP:20260424T023642
CREATED:20240909T135638Z
LAST-MODIFIED:20240909T135638Z
UID:56249-1727476200-1727490600@talkoftoronto.ca
SUMMARY:NINETIES BY NATURE - Part 7
DESCRIPTION:Talk of Toronto Featured Event: NINETIES BY NATURE- Part 7\nThe Smith House – Friday September 27th\, 2024 \nIf you love ttheh 90s Vibe or the early 2000s then this party is where you need to be every month.\nFor more information follow us on Instagram @nbn_toronto \n  \nMusic\nTop 40\, Hip Hop\, R&B\, Reggae\, Soca\, Calypso\, Dance Hall\, House\, Reggaeton\, Pop\, Retro 90’s \n  \nDJ’s\nChannel 9\, Kid C and Jayonline \n  \nMCs or Hosts\nScott Boogie \n  \nDress Code\nCasual (No Grey Tracks\, Sleeves Required for men\, Fashion Forward Encouraged)
URL:https://talkoftoronto.ca/event/nineties-by-nature-part7-toronto-oldschool-party/
LOCATION:The Smith House\, 171 College St\, Toronto\, Ontario\, Canada
CATEGORIES:Hip Hop,Old School
ATTACH;FMTTYPE=image/jpeg:https://talkoftoronto.ca/wp-content/uploads/2024/09/NINETIES-BY-NATURE-Part-7-sept-27-2024-kid-c-Toronto-Olschool-Party-Event.jpg
END:VEVENT
BEGIN:VEVENT
DTSTART;TZID=America/Toronto:20240825T190000
DTEND;TZID=America/Toronto:20240826T000000
DTSTAMP:20260424T023642
CREATED:20240510T184949Z
LAST-MODIFIED:20240701T180442Z
UID:55009-1724612400-1724630400@talkoftoronto.ca
SUMMARY:The2000sParty Boat Cruise 2024!
DESCRIPTION:FROM THE PEOPLE THA BROUGHT YOU THE90SPARTY… \n2NICE x KAMAKACI JUICE x C4L x DKAY present… \nThe2000sParty Boatcruise\non the Stella Borealis Boat \nThis event is Food Inclusive \nFeaturing the best in 2000s Hip Hop\, R&B\, Dancehall\, Soca \nFollow @the2000spartyTO on IG \nMore Info coming soon…. \n 
URL:https://talkoftoronto.ca/event/the2000sparty-boatcruise-toronto/
LOCATION:Stella Borealis\, 176 Cherry St.\, Toronto\, Ontario\, Canada
CATEGORIES:Hip Hop,Old School,Reggae & Dancehall
ATTACH;FMTTYPE=image/jpeg:https://talkoftoronto.ca/wp-content/uploads/2024/05/the-2000s-party-toronto-boat-cruise-2024-oldschool-party-nightlife.jpeg
END:VEVENT
BEGIN:VEVENT
DTSTART;TZID=America/Toronto:20240727T140000
DTEND;TZID=America/Toronto:20240728T220000
DTSTAMP:20260424T023642
CREATED:20240702T211301Z
LAST-MODIFIED:20240718T184302Z
UID:55336-1722088800-1722204000@talkoftoronto.ca
SUMMARY:DJ Skratch Bastid  Presents “BASTID’S BBQ x Monkey Shoulder” Toronto 
DESCRIPTION:DJ Skratch Bastid Presents “BASTID’S BBQ X MONKEY SHOULDER”\nCheck out the Toronto talent! Tickets are LIVE! \nYour eyes do not deceive you. All of this is going down July 27th & 28th at @thebentway space\, located at 250 Fort York Blvd in downtown Toronto (same location as the last 2 years). \nDate: July 27th & 28th\, 2024 \nTime: 2pm – 10pm\nMusical Line Up\nDon’t miss your chance to see @alanthechemist\, @officialslumvillage\, @djkocoakashimokita (rocking 2 sets)\, @skratchbastid\, @crazearoni\, @razfresco\, @startingfromscratch\, @datsunnmusic\, @hedspin\, @deejaytjr\, @mensathed\, @djlazyboy\, @djxrennie\, @djlykx\, @icedmistoplease\, @badonemec + some VERY special guests. \nSponsored by: Monkey Shoulder Whisky (enjoy responsibily) \nSingle day tickets & weekend passes available now. \n \n  \n \n 
URL:https://talkoftoronto.ca/event/dj-skratch-bastid-presents-bastids-bbq-toronto/
LOCATION:The Bentway Space\, 250 Fort York Blvd\, Toronton\, Ontario\, Canada
CATEGORIES:Hip Hop,Old School
ATTACH;FMTTYPE=image/jpeg:https://talkoftoronto.ca/wp-content/uploads/2024/07/DJ-Skratch-Bastid-BBQ-Toronto-Event.jpg
END:VEVENT
BEGIN:VEVENT
DTSTART;TZID=America/Toronto:20240714T180000
DTEND;TZID=America/Toronto:20240715T000000
DTSTAMP:20260424T023642
CREATED:20240426T011044Z
LAST-MODIFIED:20240701T180305Z
UID:54956-1720980000-1721001600@talkoftoronto.ca
SUMMARY:The 90’s Party Boat Cruise 2024 | Toronto's Favorite Old School Party on Lake Ontario!
DESCRIPTION:BACK BY POPULAR DEMAND… \n2NICE x KAMAKACCI JUICE x C4L x DKAY Presents \nThe90sParty Boat Cruise 2024\n(Food Inclusive) \nAboard the Enterprise 2000 \n176 Cherry St\, Tororonto \nMusic by:\n\nDJ 2Nice\nFirekid Steenie\nDJ DK (OVO)\nDJ Rych Kydd\nDJ OSHAWN\n\nHosted by:\n\nCEAZA LEON\nKAMAKACCI JUICE\n\nFOLLOW @THE90SPARTY ON IG FOR MORE INFO
URL:https://talkoftoronto.ca/event/the-90s-party-boat-cruise-2024-torontos-favorite-old-school-party-on-lake-ontario/
LOCATION:Enterprise 2000\, 222 Cherry Street\, Toronto\, Ontario\, Canada
CATEGORIES:Hip Hop,Old School,R&B,Reggae & Dancehall
ATTACH;FMTTYPE=image/jpeg:https://talkoftoronto.ca/wp-content/uploads/2024/04/official-annual-the-90s-party-boat-cruise-toronto-old-school.jpg
END:VEVENT
BEGIN:VEVENT
DTSTART;TZID=America/Toronto:20240705T190000
DTEND;TZID=America/Toronto:20240705T233000
DTSTAMP:20260424T023642
CREATED:20240629T162414Z
LAST-MODIFIED:20240629T163734Z
UID:55293-1720206000-1720222200@talkoftoronto.ca
SUMMARY:Soul Nostalgic Live Show
DESCRIPTION:🎶 Get ready for a summer of soul and R&B! 🎶 \nJoin us for the next Soul Nostalgic live show on July 5! 🌟 Experience the infectious energy of our upgraded throwback show with Dru and the fellas. \n🎟️ EARLY BIRD tickets are just $25 for the next 9 days—after that\, prices go up to $40 for a table or booth and $30 for standing room. Our last two shows sold out\, so get your tickets in advance to avoid disappointment! \n✨ This immersive Vegas-style production is unmatched in the country. Dress to impress\, sing and dance the night away to all your favorites\, and enjoy a delicious meal from Acqua Supper Club’s chef. \nDon’t miss out on this unforgettable night! #SoulNostalgic #LiveShow #R&B #SummerVibes #GetYourTickets
URL:https://talkoftoronto.ca/event/soul-nostalgic-live-show/
LOCATION:Acqua Supper Club\, 50 Prince Edward Island Crescent - CNE Grounds\, Toronto\, Ontario\, Canada
CATEGORIES:Old School,R&B
ATTACH;FMTTYPE=image/jpeg:https://talkoftoronto.ca/wp-content/uploads/2024/06/Soul-Nostalgic-Live-Show-July-5th-Toronto-Events.jpg
END:VEVENT
BEGIN:VEVENT
DTSTART;TZID=America/Toronto:20240621T220000
DTEND;TZID=America/Toronto:20240622T020000
DTSTAMP:20260424T023642
CREATED:20240517T182240Z
LAST-MODIFIED:20240517T183029Z
UID:55122-1719007200-1719021600@talkoftoronto.ca
SUMMARY:NINETIES BY NATURE - Summer Edition
DESCRIPTION:NINETIES BY NATURE – Part 4 – Summer Edition\nTHE SMITH HOUSE – FRIDAY JUNE 21ST\, 2024\nA mature crowd for music lovers who love the 90s Vibes with a dash of early 2000s.\nBirthday celebrations encouraged. \nHOSTED BY: Scott Boogie \nDJ’S: Channel 9\, Kid C and Che La Soul
URL:https://talkoftoronto.ca/event/nineties-by-nature-party-toronto/
LOCATION:The Smith House\, 171 College St\, Toronto\, Ontario\, Canada
CATEGORIES:Hip Hop,Old School,R&B,Reggae & Dancehall,Soca
ATTACH;FMTTYPE=image/jpeg:https://talkoftoronto.ca/wp-content/uploads/2024/05/NINETIES-BY-NATURE-Toronto-Flyer-Summer-Edition-2024.jpeg
END:VEVENT
END:VCALENDAR