BEGIN:VCALENDAR
VERSION:2.0
PRODID:-//Talk of Toronto - ECPv6.15.20//NONSGML v1.0//EN
CALSCALE:GREGORIAN
METHOD:PUBLISH
X-ORIGINAL-URL:https://talkoftoronto.ca
X-WR-CALDESC:Events for Talk of Toronto
REFRESH-INTERVAL;VALUE=DURATION:PT1H
X-Robots-Tag:noindex
X-PUBLISHED-TTL:PT1H
BEGIN:VTIMEZONE
TZID:America/Toronto
BEGIN:DAYLIGHT
TZOFFSETFROM:-0500
TZOFFSETTO:-0400
TZNAME:EDT
DTSTART:20250309T070000
END:DAYLIGHT
BEGIN:STANDARD
TZOFFSETFROM:-0400
TZOFFSETTO:-0500
TZNAME:EST
DTSTART:20251102T060000
END:STANDARD
BEGIN:DAYLIGHT
TZOFFSETFROM:-0500
TZOFFSETTO:-0400
TZNAME:EDT
DTSTART:20260308T070000
END:DAYLIGHT
BEGIN:STANDARD
TZOFFSETFROM:-0400
TZOFFSETTO:-0500
TZNAME:EST
DTSTART:20261101T060000
END:STANDARD
BEGIN:DAYLIGHT
TZOFFSETFROM:-0500
TZOFFSETTO:-0400
TZNAME:EDT
DTSTART:20270314T070000
END:DAYLIGHT
BEGIN:STANDARD
TZOFFSETFROM:-0400
TZOFFSETTO:-0500
TZNAME:EST
DTSTART:20271107T060000
END:STANDARD
END:VTIMEZONE
BEGIN:VEVENT
DTSTART;TZID=America/Toronto:20260820T173000
DTEND;TZID=America/Toronto:20260822T233000
DTSTAMP:20260424T161350
CREATED:20250928T205923Z
LAST-MODIFIED:20260324T165658Z
UID:60155-1787247000-1787441400@talkoftoronto.ca
SUMMARY:Ed Sheeran Live Concert in Toronto- Loop Tour 2026
DESCRIPTION:🎶 Ed Sheeran Live Concert in Toronto – Loop Tour 2026 🎶\n📅 Dates: August 20 – 22\, 2026📍 Venue: Rogers Centre\, Toronto \nGlobal superstar Ed Sheeran is bringing his highly anticipated “Loop Tour” 2026 to Toronto for two massive shows at the Rogers Centre this summer! \nFresh off the release of his latest album Play\, the Grammy-winning artist behind chart-topping hits like Shape of You\, Perfect\, and Bad Habits is set to light up Toronto with his signature loop pedal magic and stadium-filling energy. \nSheeran first teased the North American leg of the tour during a surprise TikTok pop-up show in New York\, sending fans into a frenzy. Now it’s official — Toronto will get its chance to experience the magic live. \nThe Loop Tour 2026 kicks off on June 13 in Glendale\, Arizona\, and will wrap up November 7 in Tampa\, Florida\, after Ed Sheeran’s sold-out run in New Zealand and Australia earlier in the year. \n🎟️ Don’t Miss Out\nTickets are expected to sell out quickly for these unforgettable Toronto nights. \n👉 Get Your Tickets Here \n💡 Travel Tip: Coming in from out of town for the show? Make it a weekend getaway. Save 25%+ on your Toronto hotel stay with Expedia — plus deals on vacation packages\, activities\, and car rentals. \n \n \n\n\n  \n    🎟 Buy Tickets Now\n  \n\n\nSponsored Ad:
URL:https://talkoftoronto.ca/event/ed-sheeran-live-in-concert-loop-tour-2026-toronto/
LOCATION:Rogers Centre\, 1 Blue Jays Way\, Toronto\, Ontario
CATEGORIES:Concerts & Live Music,Pop / Indie Pop,Rock
ATTACH;FMTTYPE=image/png:https://talkoftoronto.ca/wp-content/uploads/2025/09/ed-sheeran-toronto-concert-rogers-centre-august-2026.png
END:VEVENT
BEGIN:VEVENT
DTSTART;TZID=America/Toronto:20261125T190000
DTEND;TZID=America/Toronto:20261126T233000
DTSTAMP:20260424T161350
CREATED:20251020T175308Z
LAST-MODIFIED:20260324T170038Z
UID:60984-1795633200-1795735800@talkoftoronto.ca
SUMMARY:Doja Cat Concert Toronto - 'Ma Vie World' Tour
DESCRIPTION:DOJA CAT CONCERT ‘MA VIE WORLD’ TOUR IN TORONTO TAKES OVER SCOTIABANK ARENA \n\nGet ready\, Toronto! Global sensation and multi-platinum artist Doja Cat is bringing her highly anticipated ‘Ma Vie World’ Tour to the city’s premier venue for an unforgettable night of music\, stunning visuals\, and electrifying performance. \nKnown for her electrifying stage presence and chart-topping hits that span pop\, rap\, and R&B\, Doja Cat’s ‘Ma Vie’ tour is expected to be her most ambitious spectacle yet. Secure your spot now for the biggest show of 2026! \n\n  \nEVENT DETAILS\n  \n\n\n\nDetail\nInformation\n\n\n\n\nArtist/Event\nDoja Cat ‘Ma Vie World’ Tour\n\n\nWhere\nScotiabank Arena\, 40 Bay St.\, Toronto\, ON M5J 3A5\n\n\nWhen\nWednesday\, November 25\, 2026\n\n\nTime\n7:30 PM EST (Show Start)\n\n\n\n  \nTICKETS\nGet Tickets Here! \n\n \n\n \n\n\n  \n    🎟 Buy Tickets Now\n  \n\n\nSponsored Ad:
URL:https://talkoftoronto.ca/event/doja-cat-concert-toronto-ma-vie-world-tour/
LOCATION:Scotiabank Arena\, 50 Bay Street\, Suite 500\, Toronto\, Ontario\, M5J 2L2\, Canada
CATEGORIES:Concerts & Live Music,House / EDM,Pop / Indie Pop
ATTACH;FMTTYPE=image/webp:https://talkoftoronto.ca/wp-content/uploads/2025/10/dojacat-tour-toronto-concert.webp
END:VEVENT
END:VCALENDAR