BEGIN:VCALENDAR
VERSION:2.0
PRODID:-//Talk of Toronto - ECPv6.15.20//NONSGML v1.0//EN
CALSCALE:GREGORIAN
METHOD:PUBLISH
X-WR-CALNAME:Talk of Toronto
X-ORIGINAL-URL:https://talkoftoronto.ca
X-WR-CALDESC:Events for Talk of Toronto
REFRESH-INTERVAL;VALUE=DURATION:PT1H
X-Robots-Tag:noindex
X-PUBLISHED-TTL:PT1H
BEGIN:VTIMEZONE
TZID:America/Toronto
BEGIN:DAYLIGHT
TZOFFSETFROM:-0500
TZOFFSETTO:-0400
TZNAME:EDT
DTSTART:20250309T070000
END:DAYLIGHT
BEGIN:STANDARD
TZOFFSETFROM:-0400
TZOFFSETTO:-0500
TZNAME:EST
DTSTART:20251102T060000
END:STANDARD
BEGIN:DAYLIGHT
TZOFFSETFROM:-0500
TZOFFSETTO:-0400
TZNAME:EDT
DTSTART:20260308T070000
END:DAYLIGHT
BEGIN:STANDARD
TZOFFSETFROM:-0400
TZOFFSETTO:-0500
TZNAME:EST
DTSTART:20261101T060000
END:STANDARD
BEGIN:DAYLIGHT
TZOFFSETFROM:-0500
TZOFFSETTO:-0400
TZNAME:EDT
DTSTART:20270314T070000
END:DAYLIGHT
BEGIN:STANDARD
TZOFFSETFROM:-0400
TZOFFSETTO:-0500
TZNAME:EST
DTSTART:20271107T060000
END:STANDARD
END:VTIMEZONE
BEGIN:VEVENT
DTSTART;TZID=America/Toronto:20260425T220000
DTEND;TZID=America/Toronto:20260426T020000
DTSTAMP:20260423T194333
CREATED:20260322T174732Z
LAST-MODIFIED:20260322T180758Z
UID:61932-1777154400-1777168800@talkoftoronto.ca
SUMMARY:GLOW 2026: The Ultimate Multi-Room Experience at REBEL
DESCRIPTION:GLOW 2026: The Ultimate Multi-Room Experience at REBEL\nThe lights are going down and the neon is coming up. On Saturday\, April 25\, 2026\, INK Entertainment presents GLOW 2026—a massive takeover of the entire REBEL Entertainment Complex. \nThis isn’t just a party; it’s an all-access pass to four distinct musical worlds. Whether you’re into heavy bass\, Latin heat\, or tech-house grooves\, GLOW 2026 has a room curated specifically for your vibe. \nEvent Details: One Ticket\, Four Rooms\n\nDate: Saturday\, April 25\, 2026\nTime: Doors open at 10:00 PM\nVenue: REBEL Entertainment Complex – 11 Polson Street\, Toronto\nAdmission: 19+ (Government ID Required)\nCapacity: 2\,750 (Expect a sell-out)\n\n\nExplore the GLOW Universe\nOne ticket grants you entry to every room in the complex. Each space features its own unique soundscape and atmosphere: \n\n\n\nRoom\nMusic Genre / Vibe\n\n\n\n\nMain Room (GLOW)\nHigh-Energy Dance & EDM Anthems\n\n\nNoir\nDubstep & Heavy Bass\n\n\nSavage\nLatin\, Reggaeton & Tropical Hits\n\n\nPurple\nTech-House & Underground Grooves\n\n\n\nImmersive Production\nTrue to the “GLOW” name\, expect REBEL to be transformed with mesmerizing light shows\, themed decor\, and state-of-the-art visuals that turn the waterfront venue into a sensory masterpiece. \n\nTickets & VIP Info\n\nPricing: Tiered pricing is in effect. Early bird tickets start around $20.00 (plus fees). All tiers provide the same general admission access\, so buying early is the only way to save.\nRefunds: All sales are final. No refunds or exchanges.\n\n\nPro Tip: GLOW is famously the biggest “all-access” event in Toronto. If you’re searching for “Saturday Night Parties Toronto” or “Best EDM events at REBEL\,” this April 25th date is the gold standard for nightlife in 2026. \n\n[Get Your Tickets for GLOW 2026 Here] \n \n\n\n  \n    🎟 Buy Tickets Now
URL:https://talkoftoronto.ca/event/glow-2026-the-ultimate-multi-room-experience-at-rebel/
LOCATION:Rebel Nightclub\, 11 Polson St.\, Toronto\, Ontario\, Canada
CATEGORIES:Dance/Electronic,House / EDM,Nightlife & Parties,Pop
ATTACH;FMTTYPE=image/jpeg:https://talkoftoronto.ca/wp-content/uploads/2026/03/GLOW-2026-Rebel-Toronto-nightlife-event-talkof-toronto-ink-.jpg
END:VEVENT
BEGIN:VEVENT
DTSTART;TZID=America/Toronto:20260523T190000
DTEND;TZID=America/Toronto:20260526T233000
DTSTAMP:20260423T194333
CREATED:20260206T173924Z
LAST-MODIFIED:20260324T161916Z
UID:61642-1779562800-1779838200@talkoftoronto.ca
SUMMARY:Bruno Mars Live in Toronto - The Romantic Concert Tour
DESCRIPTION:Bruno Mars: The Romantic Tour – 5-Night Toronto Residency\nThe 24K Magic is back! Global superstar Bruno Mars is bringing his massive world tour\, The Romantic Tour\, to Toronto for an unprecedented five-night residency. This isn’t just a concert; it’s a history-making event as Bruno becomes one of the first major artists to headline the brand-new Rogers Stadium. \nExpect a high-energy setlist featuring hits from his latest project alongside timeless classics like “Uptown Funk\,” “Die With A Smile\,” and “Leave the Door Open.” \nThe Lineup\n\n\nBruno Mars: The 16-time GRAMMY winner and undisputed king of modern showmanship. \n\n\nLeon Thomas: The multi-talented singer-songwriter and producer kicks off the night with his signature soulful sound. \n\n\nDJ Pee .Wee: The vinyl-spinning alter ego of Anderson .Paak. Watch the Silk Sonic duo reunite on stage for an opening set like no other. \n\n\n\n\n📅 Event Dates & Schedule\nDoors open at 6:00 PM | Show starts at 7:00 PM \n\n\nSaturday\, May 23 – Opening Night at Rogers Stadium | Get Tickets  \n\n\nSunday\, May 24 – Weekend Finale | Get Tickets \n\n\nWednesday\, May 27 – Mid-week Groove | Get Tickets \n\n\nThursday\, May 28 – The Fourth Date | Get Tickets \n\n\nSaturday\, May 30 – The Grand Finale (Added by Popular Demand!) | Get Tickets \n\n\n\n🎟️ Ticket & VIP Information\nDemand for these shows has broken records across North America. To ensure you don’t miss out\, we recommend looking into Official Platinum and Verified Resale options for the best views in the house. \n\n\nUltimate VIP Packages: Includes premium floor seating\, exclusive tour merchandise\, and access to the pre-show lounge. \n\n\nPlatinum Seats: Secure the most sought-after views at current market prices. \n\n\nVerified Resale: The safest way to grab tickets for nights that are officially sold out. \n\n\nVenue Spotlight: Rogers Stadium\nLocated at Downsview Park\, the brand-new Rogers Stadium is Toronto’s premier open-air concert destination. With a capacity of 50\,000+\, this venue offers a massive festival-style atmosphere with state-of-the-art acoustics designed for stadium-sized performances. \nPlan your night: Be sure to check our local guides for the best parking\, transit routes\, and nearby dinner spots to hit before the show. \n \n\n\n  \n    🎟 Buy Tickets Now\n  \n\n\nSponsored Ad:
URL:https://talkoftoronto.ca/event/bruno-mars-live-in-toronto-the-romantic-concert-tour/
LOCATION:Rogers Stadium\, 105 Carl Hall Road\, Toronto\, Ontario\, ToM3K0A1\, Canada
CATEGORIES:Concerts & Live Music,Pop
ATTACH;FMTTYPE=image/webp:https://talkoftoronto.ca/wp-content/uploads/2026/02/bruno-mars-toronto-concert-romantic-tour-2026.webp
END:VEVENT
END:VCALENDAR