BEGIN:VCALENDAR
VERSION:2.0
PRODID:-//Talk of Toronto - ECPv6.15.20//NONSGML v1.0//EN
CALSCALE:GREGORIAN
METHOD:PUBLISH
X-ORIGINAL-URL:https://talkoftoronto.ca
X-WR-CALDESC:Events for Talk of Toronto
REFRESH-INTERVAL;VALUE=DURATION:PT1H
X-Robots-Tag:noindex
X-PUBLISHED-TTL:PT1H
BEGIN:VTIMEZONE
TZID:America/Toronto
BEGIN:DAYLIGHT
TZOFFSETFROM:-0500
TZOFFSETTO:-0400
TZNAME:EDT
DTSTART:20240310T070000
END:DAYLIGHT
BEGIN:STANDARD
TZOFFSETFROM:-0400
TZOFFSETTO:-0500
TZNAME:EST
DTSTART:20241103T060000
END:STANDARD
BEGIN:DAYLIGHT
TZOFFSETFROM:-0500
TZOFFSETTO:-0400
TZNAME:EDT
DTSTART:20250309T070000
END:DAYLIGHT
BEGIN:STANDARD
TZOFFSETFROM:-0400
TZOFFSETTO:-0500
TZNAME:EST
DTSTART:20251102T060000
END:STANDARD
BEGIN:DAYLIGHT
TZOFFSETFROM:-0500
TZOFFSETTO:-0400
TZNAME:EDT
DTSTART:20260308T070000
END:DAYLIGHT
BEGIN:STANDARD
TZOFFSETFROM:-0400
TZOFFSETTO:-0500
TZNAME:EST
DTSTART:20261101T060000
END:STANDARD
END:VTIMEZONE
BEGIN:VEVENT
DTSTART;TZID=America/Toronto:20251205T190000
DTEND;TZID=America/Toronto:20251205T233000
DTSTAMP:20260424T184640
CREATED:20250912T030747Z
LAST-MODIFIED:20251001T204325Z
UID:59294-1764961200-1764977400@talkoftoronto.ca
SUMMARY:Jessie Reyez Live in Concert — Paid In Memories Tour - Toronto
DESCRIPTION:🎙️ Toronto Featured Concert Event: Jessie Reyez — Paid In Memories Tour \nGet ready for an emotional\, soul-filled evening with Jessie Reyez\, as she brings her Paid In Memories Tour to Toronto. \n \n\n🗓️ When & Where\nDate: Friday\, December 5\, 2025\nDoors open at 7:00 PM • Show starts at 8:00 PM\nMassey Hall\, Toronto\, ON \n\n✨ About the Show \n\nJessie Reyez returns with her latest tour\, showcasing her new material alongside fan favorites.\nStrong storytelling\, raw vocals\, and unforgettable stage presence—all in a legendary venue.\nA final Canadian stop on the tour\, making it a must-see for fans.\n\n\n🎟️ Tickets & Access \n\n– Multiple ticket tiers available\, including premium seating options.\n– Venue has accessible seating on all levels.\n– Digital/mobile tickets will be required for entry.\n\nClick Here To Purchase Tickets \n\n🌟 Why You Should Be There \n\nExperience Jessie Reyez’s powerful voice and emotional range live.\nA chance to hear new songs up close in Massey Hall’s intimate setting.\nPerfect for lovers of R&B\, soul\, and artists who connect deeply with the audience.\n\n\n✅ Tips for Attendees \n\nArrive early to avoid long lines and to get settled in.\nPublic transit or rideshare is advised—downtown traffic & parking can be challenging.\nBring valid photo ID; check any age restrictions or seating rules.\nDress comfortable but stylish—this is going to be a memorable night.\n\n\n \n \n \n\n\n  \n    🎟 Buy Tickets Now
URL:https://talkoftoronto.ca/event/jessie-reyez-live-in-concert-paid-in-memories-tour-toronto/
LOCATION:Massey Hall\, 178 Victoria St\, Toronto\, Ontario\, M5B 1T7\, Canada
CATEGORIES:R&B
ATTACH;FMTTYPE=image/webp:https://talkoftoronto.ca/wp-content/uploads/2025/09/jessiereyez-toronto-rnb-concert-event-2025.webp
END:VEVENT
BEGIN:VEVENT
DTSTART;TZID=America/Toronto:20251206T193000
DTEND;TZID=America/Toronto:20251207T003000
DTSTAMP:20260424T184640
CREATED:20251002T190308Z
LAST-MODIFIED:20251002T191138Z
UID:60236-1765049400-1765067400@talkoftoronto.ca
SUMMARY:Jagged Edge Toronto Concert 2025 - Cuffing Season Tour
DESCRIPTION:Jagged Edge – Cuffing Season Tour 2025 in Toronto 🎶❤️\n📅 Date & Time: Thursday\, December 11\, 2025 • 7:30 PM\n📍 Venue: Great Canadian Toronto\, Toronto\, ON \nAtlanta’s own Jagged Edge is bringing their smooth harmonies and timeless R&B hits to Toronto this December as part of their Cuffing Season Tour 2025. \nFormed in 1995\, the Grammy-nominated group has been blessing fans with soulful ballads and unforgettable anthems for nearly 30 years. Signed by Jermaine Dupri’s So So Def in 1997\, Jagged Edge rose to fame with tracks like “I Gotta Be” and went on to release multi-platinum albums including J.E. Heartbreak and Jagged Little Thrill. \nTheir catalog is packed with classics: \n\n💍 Let’s Get Married\n🎉 Where the Party At (feat. Nelly)\n💔 Walked Outta Heaven\n\nStill performing with their original lineup—twin brothers Brandon & Brian Casey\, Kyle Norman\, and Richard Wingo—Jagged Edge remains one of R&B’s most enduring acts. The group continues to evolve while staying true to their sound\, most recently with their 2025 album All Original Parts\, Vol. 1. \n✨ Whether you’re reminiscing on the golden era of R&B or discovering them for the first time\, this is one night you don’t want to miss. \n🎟️ Buy Tickets Here: Ticketmaster – Jagged Edge Toronto \n🏨 Planning to stay overnight? Book your stay right at the concert venue: Great Canadian Casino Resort Toronto – Expedia \n\n \n \n\n\n  \n    🎟 Buy Tickets Now
URL:https://talkoftoronto.ca/event/jagged-edge-toronto-concert-2025-cuffing-season-tour/
LOCATION:Great Canadian Casino Resort Toronto\, 1133 Queens Plate Dr\, Toronto\, Ontario\, M9W 0G4\, Canada
CATEGORIES:Concerts & Live Music,R&B
ATTACH;FMTTYPE=image/jpeg:https://talkoftoronto.ca/wp-content/uploads/2025/10/Jagged-Edge-Toronto-Concert-2025-Cuffing-Season-Tour-Lloyd-Eric-Bellingger.jpg
END:VEVENT
BEGIN:VEVENT
DTSTART;TZID=America/Toronto:20251212T190000
DTEND;TZID=America/Toronto:20251212T233000
DTSTAMP:20260424T184640
CREATED:20250927T033500Z
LAST-MODIFIED:20250927T033730Z
UID:60090-1765566000-1765582200@talkoftoronto.ca
SUMMARY:Shawn Desman Live in Concert - Toronto
DESCRIPTION:Shawn Desman Live in Toronto 🎶\nDate & Time: Friday\, December 12\, 2025 · 7:00 PM\nVenue: History\, 1663 Queen St E\, Toronto\, ON \nToronto\, get ready—Shawn Desman is bringing his high-energy performance and timeless hits back to the stage this winter! \nThe Canadian singer\, songwriter\, dancer\, and choreographer of Portuguese and Italian descent has been making waves in music for over two decades. From his early days recording Portuguese albums to breaking into the mainstream with his gold-certified debut album Shawn Desman in 2002\, he has continued to evolve and inspire. \nCareer Highlights:\n\n🎤 Hit singles like “Shook” and “Get Ready” from his debut album.\n🏆 Back for More (2005) – winner of the Juno Award for Best R&B/Soul Recording.\n💿 Platinum success with singles like “Night Like This” and “Electric” from his 2010 album Fresh.\n🏆 Multiple award wins including Video of the Year at the MMVAs and Canadian Dance/Pop Song of the Year at the Stylus Awards.\n🎬 Alive (2013) – an album paired with a short film that won Outstanding Short Film at the Reel World Film Festival.\n🔥 A 2022 comeback after being personally invited by Drake to perform at OVO Fest\, releasing the hit single “Maniac”.\n\nBeyond his solo career\, Desman has co-founded the duo RadioClub with Tebey and has worked behind the scenes producing for artists such as Nick Carter and Kreesha Turner. \nThis show promises a mix of throwback anthems\, fresh hits\, and the electrifying stage presence that has made Shawn Desman a household name in Canadian R&B/Pop. \n📅 Mark your calendars and don’t miss the chance to see one of Canada’s most dynamic performers live in Toronto! \n👉 Tickets are on sale now at Ticketmaster. Secure yours before they’re gone! \n  \n \n  \n  \n \n\n\n  \n    🎟 Buy Tickets Now
URL:https://talkoftoronto.ca/event/shawn-desman-live-in-concert-toronto-2025/
LOCATION:History\, 1663 Queen St. East\, Toronto\, Ontario\, M4L 1G5\,\, Canada
CATEGORIES:Concerts & Live Music,Pop / Indie Pop,R&B
ATTACH;FMTTYPE=image/png:https://talkoftoronto.ca/wp-content/uploads/2025/09/shawn-desman-toronto-concert-back-to-life-tour.png
END:VEVENT
END:VCALENDAR