BEGIN:VCALENDAR
VERSION:2.0
PRODID:-//Talk of Toronto - ECPv6.15.20//NONSGML v1.0//EN
CALSCALE:GREGORIAN
METHOD:PUBLISH
X-ORIGINAL-URL:https://talkoftoronto.ca
X-WR-CALDESC:Events for Talk of Toronto
REFRESH-INTERVAL;VALUE=DURATION:PT1H
X-Robots-Tag:noindex
X-PUBLISHED-TTL:PT1H
BEGIN:VTIMEZONE
TZID:America/Toronto
BEGIN:DAYLIGHT
TZOFFSETFROM:-0500
TZOFFSETTO:-0400
TZNAME:EDT
DTSTART:20250309T070000
END:DAYLIGHT
BEGIN:STANDARD
TZOFFSETFROM:-0400
TZOFFSETTO:-0500
TZNAME:EST
DTSTART:20251102T060000
END:STANDARD
BEGIN:DAYLIGHT
TZOFFSETFROM:-0500
TZOFFSETTO:-0400
TZNAME:EDT
DTSTART:20260308T070000
END:DAYLIGHT
BEGIN:STANDARD
TZOFFSETFROM:-0400
TZOFFSETTO:-0500
TZNAME:EST
DTSTART:20261101T060000
END:STANDARD
BEGIN:DAYLIGHT
TZOFFSETFROM:-0500
TZOFFSETTO:-0400
TZNAME:EDT
DTSTART:20270314T070000
END:DAYLIGHT
BEGIN:STANDARD
TZOFFSETFROM:-0400
TZOFFSETTO:-0500
TZNAME:EST
DTSTART:20271107T060000
END:STANDARD
END:VTIMEZONE
BEGIN:VEVENT
DTSTART;TZID=America/Toronto:20260213T170000
DTEND;TZID=America/Toronto:20260213T220000
DTSTAMP:20260424T090505
CREATED:20260206T030444Z
LAST-MODIFIED:20260210T192258Z
UID:61576-1771002000-1771020000@talkoftoronto.ca
SUMMARY:DEH'YA: GYALENTINES (Toronto)
DESCRIPTION:A special night by Deh’ya\, curated for the lovers and yearners. Playing all the best Dancehall\, Lovers Rock\, Groovy Soca\, R&B and more.\n\n\nDeh’ya is back for a special Valentines Edition. Highlighting all the best Dancehall\, Reggae (Lovers Rock)\, Soca\, Bouyon\, R&B\, Hip Hop and more. \n19+ Event \nSounds by: RENNIE\, BABYVAYE\, INCREDIBLE SHY\, SMARTIEZ\, JOSHUA LUCAS\, STEPH HONEY \nHosted by: JORDANE \nTime: 10PM-3AM \n(ZERO REFUNDS ON THIS EVENT) \nLIMITED TICKETS WILL BE SOLD AT DOOR \nFood will be served at the event. \nBIO: Deh’ya is a creative event and media platform exploring Caribbean culture through the lens of second-generation immigrants of the West Indies. We aim to create a space for Caribbean-Canadians\, and all those who have been influenced by our roots\, to celebrate our culture through sound\, movement\, art and fashion. Our priority is to strengthen the connection between the Caribbean and its Diaspora. \nWe focus on event curation\, community media\, radio\, as well as production and creative direction through brand partnerships and collaborations. \n🇯🇲🇹🇹🇧🇸🇧🇧🇰🇳🇬🇾🇱🇨🇻🇨🇬🇩 \n\n\n\n\n \n\n\n  \n    🎟 Buy Tickets Now
URL:https://talkoftoronto.ca/event/dehya-gyalentines-toronto/
LOCATION:821 Runnymede Rd\, 821 Runnymede Road\, Toronto\, ON M6N 3V8\, Toronto\, M6N 3V8\, CA
CATEGORIES:Nightlife & Parties,R&B,Reggae & Dancehall,Soca
ATTACH;FMTTYPE=image/png:https://talkoftoronto.ca/wp-content/uploads/2026/02/61576_image.png
END:VEVENT
BEGIN:VEVENT
DTSTART;TZID=America/Toronto:20260213T193000
DTEND;TZID=America/Toronto:20260214T010000
DTSTAMP:20260424T090505
CREATED:20251102T151607Z
LAST-MODIFIED:20260211T030220Z
UID:61268-1771011000-1771030800@talkoftoronto.ca
SUMMARY:112\, Total\, and Case Live Concert in Toronto!
DESCRIPTION:❤️ Step Into the Room 112: R&B Legends 112\, Total\, and Case Hit The Danforth Music Hall!\nGet ready\, Toronto\, because your Valentine’s Day weekend is about to get a major dose of classic R&B romance. The iconic\, Grammy-winning group 112 is bringing the Room 112 Tour to the legendary Danforth Music Hall\, and they’re bringing a full lineup of smooth-singing 90s royalty with them! \nJoining 112 are fellow R&B heavyweights Total and Case for a night of timeless\, chart-topping hits that defined a generation. This is more than just a concert—it’s a high-energy throwback party you won’t want to miss. \n  \n🎤 The R&B Legends Lineup\n112: The Headliners\nKnown for their incredible harmonies and Bad Boy Records legacy\, 112 will be performing all the songs that made you fall in love with R&B. Get ready to sing along to: \n\n“Peaches & Cream”\n“Cupid”\n“Only You”\n“Dance With Me”\n\n  \nTotal: The Queens of Bad Boy\nThe iconic female trio is back to deliver their signature street-but-sweet sound. Prepare for a powerful performance of their classic anthems like: \n\n“Kissin’ You”\n“Can’t You See”\n“Trippin'”\n\n  \nCase: The Velvet Voice\n  \nThe silky-smooth singer is responsible for some of the biggest slow jams and R&B hits of the era. Don’t miss his unforgettable performances of: \n\n“Missing You”\n“Touch Me\, Tease Me”\n“Happily Ever After”\n\n\n  \n🗓️ Event Details: Make it a Date Night!\nThis concert is perfectly timed for a special Valentine’s weekend outing\, whether it’s a date night or a group celebration with your best friends. \n\n\n\nDetail\nInformation\n\n\n\n\nTour\n112 – Room 112 Tour\n\n\nDate\nFriday\, February 13\, 2026\n\n\nTime\n7:00 PM\n\n\nVenue\nThe Danforth Music Hall (147 Danforth Ave\, Toronto\, ON)\n\n\nFeaturing\n112\, Total\, and Case\n\n\n\n  \nThe Venue: Danforth Music Hall\nThe Danforth Music Hall is one of Toronto’s favourite historic venues. Its intimate setting\, great acoustics\, and prime location in Greektown make it the perfect place to feel close to the music and relive the golden age of R&B. Grab dinner in the neighborhood beforehand to complete your perfect night out! \n\n  \n🎟️ Secure Your Spot!\nTickets for a night of R&B nostalgia featuring three legendary acts are guaranteed to move fast. Don’t wait until the last minute—this is your chance to see 112\, Total\, and Case live in Toronto! \n👉 Buy Tickets Here (Via Ticketmaster)\n\n \n\n\n  \n    🎟 Buy Tickets Now
URL:https://talkoftoronto.ca/event/112-total-and-case-live-concert-in-toronto/
LOCATION:The Danforth Music Hall\, 147 Danforth Ave\, Toronto\, Ontario\, M4K 1N2\, Canada
CATEGORIES:Concerts & Live Music,Nightlife & Parties,R&B
ATTACH;FMTTYPE=image/jpeg:https://talkoftoronto.ca/wp-content/uploads/2025/11/tour-112-Total-Case-Toronto-Concert-30Years-Tickets-Sale.JPG-4.jpg
END:VEVENT
END:VCALENDAR