BEGIN:VCALENDAR
VERSION:2.0
PRODID:-//Talk of Toronto - ECPv6.15.20//NONSGML v1.0//EN
CALSCALE:GREGORIAN
METHOD:PUBLISH
X-ORIGINAL-URL:https://talkoftoronto.ca
X-WR-CALDESC:Events for Talk of Toronto
REFRESH-INTERVAL;VALUE=DURATION:PT1H
X-Robots-Tag:noindex
X-PUBLISHED-TTL:PT1H
BEGIN:VTIMEZONE
TZID:America/Toronto
BEGIN:DAYLIGHT
TZOFFSETFROM:-0500
TZOFFSETTO:-0400
TZNAME:EDT
DTSTART:20250309T070000
END:DAYLIGHT
BEGIN:STANDARD
TZOFFSETFROM:-0400
TZOFFSETTO:-0500
TZNAME:EST
DTSTART:20251102T060000
END:STANDARD
BEGIN:DAYLIGHT
TZOFFSETFROM:-0500
TZOFFSETTO:-0400
TZNAME:EDT
DTSTART:20260308T070000
END:DAYLIGHT
BEGIN:STANDARD
TZOFFSETFROM:-0400
TZOFFSETTO:-0500
TZNAME:EST
DTSTART:20261101T060000
END:STANDARD
BEGIN:DAYLIGHT
TZOFFSETFROM:-0500
TZOFFSETTO:-0400
TZNAME:EDT
DTSTART:20270314T070000
END:DAYLIGHT
BEGIN:STANDARD
TZOFFSETFROM:-0400
TZOFFSETTO:-0500
TZNAME:EST
DTSTART:20271107T060000
END:STANDARD
END:VTIMEZONE
BEGIN:VEVENT
DTSTART;TZID=America/Toronto:20260515T230000
DTEND;TZID=America/Toronto:20260515T230000
DTSTAMP:20260424T023759
CREATED:20260327T162256Z
LAST-MODIFIED:20260327T163820Z
UID:62229-1778886000-1778886000@talkoftoronto.ca
SUMMARY:Famous Fridays - Victoria Long Day Weekend Party in Toronto
DESCRIPTION:RAINING HENNESSY 10: The Ultimate Victoria Day Long Weekend Turn-Up\nThe forecast for the long weekend just changed. On Friday\, May 15\, 2026\, Famous Fridays and M.A.G. present RAINING HENNESSY 10. We are taking over NUVO Toronto for a milestone celebration: the 10th edition of the city’s favorite Henny-fueled party and the official birthday celebration for the man himself\, DJ Gallis. \n  \nVictoria Day Weekend in Toronto is legendary\, but this year\, the only place to be is under the lights at NUVO. \nEvent Details: The Holiday Special\n\nDate: Friday\, May 15\, 2026 (Victoria Day Long Weekend)\nTime: 10:00 PM – 3:00 AM\nVenue: NUVO Toronto – 4749 Keele St\, North York\nAge Requirement: 19+ (Valid Photo ID Required)\nThe Sound: A lethal combination of Reggae\, Hip-Hop\, and Soca.\n\n\nThe Lineup: All-Star Birthday Set\nTo celebrate DJ Gallis’ birthday\, we’ve assembled a heavy-hitting roster of the city’s top talent: \n\nFeatured DJs: Mon A Gallis\, Chippy Don\, DJ Snoopy\, DJ Fling\, DJ Lewis\, DJ Hyper\, and DJ Whitebwoy.\nHosted By: Dem Dawg\, MC Tre Mollie\, and MC Ricochet.\n\n\n  \n\nAdmission & Guestlist\nDon’t wait until the long weekend surge. Secure your spot now to save: \n\nEarly Bird Tickets: $20.00 (Guarantees entry all night).\nVIP Guestlist Pass: $10 Entry before 11:30 PM.\nGuest List / Bottle Service Email: Info@TalkofToronto.ca\n\n  \n\nPro Tip: Arriving after 11:30 PM? Your guestlist pass still gets you $5 OFF the door price.\n\n\n  \n\nVIP Bottle Service: The Raining Hennessy Special\nThis edition features a dedicated VIP package that must be seen to be believed. Note: Prices include tax and gratuity. \n  \nThe Raining Hennessy Package ($575 Total)\n\nWhat’s Included: VIP Booth + 2 Bottles (Choice of Hennessy VS or Casamigos Blanco) + 5 Free Entries before 12:00 AM + VIP Line Bypass + Free Pizza for the squad.\nStrict Policy: Due to high demand for this special edition\, this package must be paid in full in advance.\n\n  \nAll-Night Specials\n\n200 Hennessy Bottles (All night long)\n$200 Casamigos Bottles (All night long)\n\n \n\n  \n\nPlan Your Victoria Day Weekend\n\n\nLocation: NUVO is North York’s premier destination\, located right off the highway at Keele and Steeles—perfect for avoiding the downtown long-weekend gridlock. \n\n\nParking: Free parking is available on-site\, but it fills up fast on holiday weekends! \n\n\nReservations: For birthday shoutouts and VIP booth bookings\, text or call 416.839.5694. \n\n\n\n\nTalk of Toronto Tip: Raining Hennessy is famous for its high-energy “bottle train” presentations. If you’re celebrating a May birthday\, this is the most cost-effective way to get a premium VIP experience during a holiday weekend. \n\n\n\nSponsored Ad:
URL:https://talkoftoronto.ca/event/famous-fridays-victoria-long-day-weekend-party-in-toronto/
LOCATION:Nuvo Toronto\, 4749 Keele St\, North York\, Ontario\, Canada
CATEGORIES:Hip Hop,Nightlife & Parties,Reggae & Dancehall,Soca
ATTACH;FMTTYPE=image/jpeg:https://talkoftoronto.ca/wp-content/uploads/2026/03/Famous-Fridays-Nuvo-Nightclub-Toronto-Nightlife-MAY-2026.jpg
END:VEVENT
BEGIN:VEVENT
DTSTART;TZID=America/Toronto:20260531T150000
DTEND;TZID=America/Toronto:20260531T210000
DTSTAMP:20260424T023759
CREATED:20260325T164614Z
LAST-MODIFIED:20260325T165434Z
UID:62151-1780239600-1780261200@talkoftoronto.ca
SUMMARY:OPEN HOUSE ’THE DAY PARTY’ (WHERE THE MIXTAPE LIVES ON) 3-9pm SUN MAY 31
DESCRIPTION: OPEN HOUSE: ‘THE DAY PARTY’\n(WHERE THE MIXTAPE LIVES ON)\nGet ready to rewind the clock. Before the streaming era\, there was the mixtape—hand-labeled\, heavy on the bass\, and curated for the streets. On Sunday\, May 31\, we’re bringing that raw energy back to life for the ultimate throwback day party. \nFrom the soul of R&B to the heat of the dancehall\, we’re celebrating the golden era of the 2000s. If you lived through the oversized jerseys\, the Motorola Razrs\, and the rise of the mixtape legends\, this one is for you. \n \n\nTHE VIBE\nWe’re spinning the sounds that defined a generation. No skips\, just hits. \n\nHip Hop & R&B (The anthems that ruled the airwaves)\nReggae & Soca (The riddims that shook the clubs)\nHouse (The four-on-the-floor classics)\n\n\nTHE LINEUP\nWe’ve assembled the heavy hitters who were actually there crafting the culture: \n\n🎧 DJ Starting From Scratch\n🎧 DJ Baby Yu\n🎤 Hosted by: Timbrrr\n\n\nTHE DETAILS\n📅 Date: Sunday\, May 31 \n🕒 Time: 3:00 PM – 9:00 PM (Golden Hour Vibes) \n📍 Location: [Insert Venue Name/Address Here] \n👟 Dress Code: 2000s Era Fly / Day Party Chic \nPull up and relive the era that changed the game. Because the mixtape never died—it just found a new home. \n  \n\n \n\n\n  \n    🎟 Buy Tickets Now\n  \n\n\nSponsored Ad:
URL:https://talkoftoronto.ca/event/open-house-the-day-party-where-the-mixtape-lives-on-3-9pm-sun-may-31/
LOCATION:Acqua Supper Club\, 50 Prince Edward Island Crescent\, Toronto\, ON M6K 3C3\, Toronto\, M6K 3C3\, CA
CATEGORIES:Hip Hop,House / EDM,Nightlife & Parties,R&B,Reggae & Dancehall,Soca
ATTACH;FMTTYPE=image/jpeg:https://talkoftoronto.ca/wp-content/uploads/2026/03/62151_image.jpg
END:VEVENT
END:VCALENDAR