BEGIN:VCALENDAR
VERSION:2.0
PRODID:-//Talk of Toronto - ECPv6.15.20//NONSGML v1.0//EN
CALSCALE:GREGORIAN
METHOD:PUBLISH
X-WR-CALNAME:Talk of Toronto
X-ORIGINAL-URL:https://talkoftoronto.ca
X-WR-CALDESC:Events for Talk of Toronto
REFRESH-INTERVAL;VALUE=DURATION:PT1H
X-Robots-Tag:noindex
X-PUBLISHED-TTL:PT1H
BEGIN:VTIMEZONE
TZID:America/Toronto
BEGIN:DAYLIGHT
TZOFFSETFROM:-0500
TZOFFSETTO:-0400
TZNAME:EDT
DTSTART:20250309T070000
END:DAYLIGHT
BEGIN:STANDARD
TZOFFSETFROM:-0400
TZOFFSETTO:-0500
TZNAME:EST
DTSTART:20251102T060000
END:STANDARD
BEGIN:DAYLIGHT
TZOFFSETFROM:-0500
TZOFFSETTO:-0400
TZNAME:EDT
DTSTART:20260308T070000
END:DAYLIGHT
BEGIN:STANDARD
TZOFFSETFROM:-0400
TZOFFSETTO:-0500
TZNAME:EST
DTSTART:20261101T060000
END:STANDARD
BEGIN:DAYLIGHT
TZOFFSETFROM:-0500
TZOFFSETTO:-0400
TZNAME:EDT
DTSTART:20270314T070000
END:DAYLIGHT
BEGIN:STANDARD
TZOFFSETFROM:-0400
TZOFFSETTO:-0500
TZNAME:EST
DTSTART:20271107T060000
END:STANDARD
END:VTIMEZONE
BEGIN:VEVENT
DTSTART;TZID=America/Toronto:20260305T190000
DTEND;TZID=America/Toronto:20260305T233000
DTSTAMP:20260424T061228
CREATED:20250918T134121Z
LAST-MODIFIED:20250923T200645Z
UID:59581-1772737200-1772753400@talkoftoronto.ca
SUMMARY:Mariah The Scientist LIVE in Concert - Toronto
DESCRIPTION:🎶 Mariah The Scientist LIVE in Concert – Toronto 🎶\nToronto\, get ready for an unforgettable night of R&B magic! Rising superstar Mariah The Scientist is bringing her Hearts Sold Separately Tour to the city for one night only. Known for her soulful voice\, captivating stage presence\, and raw storytelling\, Mariah has become one of the most exciting voices in contemporary R&B. \n✨ Don’t miss your chance to experience hits like Spread Thin\, Always n Forever\, and fan favorites performed LIVE in an intimate setting. \n\n📍 Venue\nWHERE HISTORY\n1663 Queen St E\, Toronto\, ON M4L 1G5\, Canada \nDate & Time\nThursday\, March 5\, 2026\nDoors Open: 7:00 PM\nShow Ends: 11:59 PM (EST) \n\n🔥 Why You Can’t Miss It\n\nA rare opportunity to see Mariah The Scientist up close in Toronto\nIntimate venue vibes with unforgettable acoustics\nA night filled with soulful R&B\, energy\, and connection\n\n\n🎟️ Tickets are selling fast!\n👉 Click here to buy tickets now \n#MariahTheScientist #TorontoConcerts #TorontoEvents #TalkOfToronto #RnBToronto
URL:https://talkoftoronto.ca/event/mariah-the-scientist-live-in-concert-toronto/
LOCATION:History\, 1663 Queen St. East\, Toronto\, Ontario\, M4L 1G5\,\, Canada
CATEGORIES:Concerts & Live Music,R&B
ATTACH;FMTTYPE=image/jpeg:https://talkoftoronto.ca/wp-content/uploads/2025/09/Mariah-The-Scientist-concert-tour.jpg
END:VEVENT
BEGIN:VEVENT
DTSTART;TZID=America/Toronto:20260330T193000
DTEND;TZID=America/Toronto:20260330T233000
DTSTAMP:20260424T061229
CREATED:20250918T043654Z
LAST-MODIFIED:20260324T161051Z
UID:59575-1774899000-1774913400@talkoftoronto.ca
SUMMARY:Cardi B Concert in Toronto - Little Miss Drama Tour
DESCRIPTION:Cardi B Concert in Toronto – Little Miss Drama Tour\nCardi B brings the Little Miss Drama Tour to Scotiabank Arena on Mar 30\, 2026. Get tickets \, event details\, and plan your night in Toronto. \nDate & Time: Monday\, March 30\, 2026 · 7:30 PM\nVenue: Scotiabank Arena\, 40 Bay St\, Toronto\, ON\nHeadliner: Cardi B \nExpect a high-energy\, hit-packed show spanning chart-toppers\, viral anthems\, and brand-new cuts from her sophomore era. Secure your spot and make it a night out in the 6ix. \n🎟 Tickets: Buy Official Tickets (Ticketmaster) \n\nEvent Highlights\n\nArena-level production\, visuals\, and choreography\nHits you know by heart + new tour-era records\nPerfect for a girls’ night\, date night\, or full crew link-up\n\n\nGood to Know\n\nDoors & Show Time: Event starts at 7:30 PM. Arrive early to clear security and grab merch.\nLocation: Scotiabank Arena\, downtown Toronto—steps from Union Station (TTC/GO).\n\n\nPlan Your Night\n\nTransit: TTC/GO to Union Station; a short indoor walk via PATH to the arena. (Venue details: Scotiabank Arena website.)\nTickets: Demand expected to be high—purchase early to avoid resale mark-ups. Official Ticketmaster listing confirms date/time.\n\n \n  \n \n\n\n  \n    🎟 Buy Tickets Now\n  \n\n\nSponsored Ad:
URL:https://talkoftoronto.ca/event/cardi-b-little-miss-drama-tour-toronto-concert-2025/
LOCATION:Scotiabank Arena\, 50 Bay Street\, Suite 500\, Toronto\, Ontario\, M5J 2L2\, Canada
CATEGORIES:Concerts & Live Music,Hip Hop,Nightlife & Parties
ATTACH;FMTTYPE=image/webp:https://talkoftoronto.ca/wp-content/uploads/2025/09/cardib-toronto-concert-little-miss-drama-tour.webp
END:VEVENT
END:VCALENDAR