BEGIN:VCALENDAR
VERSION:2.0
PRODID:-//Talk of Toronto - ECPv6.15.20//NONSGML v1.0//EN
CALSCALE:GREGORIAN
METHOD:PUBLISH
X-WR-CALNAME:Talk of Toronto
X-ORIGINAL-URL:https://talkoftoronto.ca
X-WR-CALDESC:Events for Talk of Toronto
REFRESH-INTERVAL;VALUE=DURATION:PT1H
X-Robots-Tag:noindex
X-PUBLISHED-TTL:PT1H
BEGIN:VTIMEZONE
TZID:America/Toronto
BEGIN:DAYLIGHT
TZOFFSETFROM:-0500
TZOFFSETTO:-0400
TZNAME:EDT
DTSTART:20250309T070000
END:DAYLIGHT
BEGIN:STANDARD
TZOFFSETFROM:-0400
TZOFFSETTO:-0500
TZNAME:EST
DTSTART:20251102T060000
END:STANDARD
BEGIN:DAYLIGHT
TZOFFSETFROM:-0500
TZOFFSETTO:-0400
TZNAME:EDT
DTSTART:20260308T070000
END:DAYLIGHT
BEGIN:STANDARD
TZOFFSETFROM:-0400
TZOFFSETTO:-0500
TZNAME:EST
DTSTART:20261101T060000
END:STANDARD
BEGIN:DAYLIGHT
TZOFFSETFROM:-0500
TZOFFSETTO:-0400
TZNAME:EDT
DTSTART:20270314T070000
END:DAYLIGHT
BEGIN:STANDARD
TZOFFSETFROM:-0400
TZOFFSETTO:-0500
TZNAME:EST
DTSTART:20271107T060000
END:STANDARD
END:VTIMEZONE
BEGIN:VEVENT
DTSTART;TZID=America/Toronto:20260714T080000
DTEND;TZID=America/Toronto:20260714T170000
DTSTAMP:20260424T062511
CREATED:20260211T160418Z
LAST-MODIFIED:20260324T162928Z
UID:61779-1784016000-1784048400@talkoftoronto.ca
SUMMARY:Lionel Richie & Earth\, Wind & Fire Live in Concert Toronto
DESCRIPTION:Lionel Richie & Earth\, Wind & Fire: Sing a Song All Night Long\nToronto\, get ready to dance on the ceiling and groove through the night. \nOn Saturday\, July 4\, 2026\, two of the most iconic forces in music history are joining forces for a legendary night at Scotiabank Arena. Lionel Richie and Earth\, Wind & Fire are bringing back their critically acclaimed “Sing a Song All Night Long” tour\, and it’s officially the ultimate plan for your summer Saturday. \nThis isn’t just a concert—it’s a career-spanning celebration of the songs that defined generations. From the smooth\, chart-topping ballads of Lionel Richie to the high-energy\, funk-infused anthems of Earth\, Wind & Fire\, this co-headlining spectacle is designed to keep you on your feet from the first beat to the final encore. \nWhy This Is the Must-See Show of July\n\n\nThe Living Legends: Lionel Richie brings over 125 million albums sold and a trophy case featuring Grammys\, an Oscar\, and a Rock & Roll Hall of Fame induction. \n\n\nThe Funk Masters: Earth\, Wind & Fire\, the “Elements of the Universe\,” will bring their legendary horn section and hits like “September” and “Let’s Groove.” \n\n\nThe Atmosphere: Taking place on a Saturday night in the heart of downtown Toronto\, this show offers the perfect high-energy vibe for fans of all ages to celebrate the “Greatest Night in Pop.” \n\n\n\nEvent Details\n\n\nDate: Saturday\, July 4\, 2026 \n\n\nTime: Show starts at 7:30 PM (Doors typically open at 6:30 PM) \n\n\nLocation: Scotiabank Arena\, 40 Bay Street\, Toronto\, ON \n\n\nAge Requirement: All Ages \n\n\nTickets: Prices vary by tier (Standard and VIP Packages available) \n\n\nExpected Setlist Highlights\nPrepare to sing along to the soundtracks of your life\, including: \n\n\nLionel Richie: “All Night Long (All Night)\,” “Hello\,” “Dancing on the Ceiling\,” and “Easy.” \n\n\nEarth\, Wind & Fire: “September\,” “Boogie Wonderland\,” “Shining Star\,” and “Reasons.” \n\n\n\nSecure Your Spot\nTickets for this legendary pairing are always a hot commodity in the 6ix. Don’t miss your chance to witness music royalty live in action at Scotiabank Arena. \n[BUY TICKETS HERE] \n\n \n\n\n  \n    🎟 Buy Tickets Now\n  \n\n\n Show some love to our Sponsored Ad:
URL:https://talkoftoronto.ca/event/lionel-richie-earth-wind-fire-live-in-concert-toronto/
LOCATION:Scotiabank Arena\, 50 Bay Street\, Suite 500\, Toronto\, Ontario\, M5J 2L2\, Canada
CATEGORIES:Concerts & Live Music,R&B
ATTACH;FMTTYPE=image/jpeg:https://talkoftoronto.ca/wp-content/uploads/2026/02/Lionel-Richie-Earth-Wind-Fire-Live-in-Concert-Toronto-2026.jpg
END:VEVENT
BEGIN:VEVENT
DTSTART;TZID=America/Toronto:20260727T190000
DTEND;TZID=America/Toronto:20260728T233000
DTSTAMP:20260424T062511
CREATED:20260323T193556Z
LAST-MODIFIED:20260324T165502Z
UID:62025-1785178800-1785281400@talkoftoronto.ca
SUMMARY:J. Cole Live Concert in Toronto 2026
DESCRIPTION:J. Cole Live Concert in Toronto 2026: The Fall-Off Tour – Two Historic Nights at Scotiabank Arena\nThe wait is finally over. Hip-hop’s most respected storyteller\, J. Cole\, is bringing his legendary “The Fall-Off Tour” to the 6ix for two back-to-back nights. On Monday\, July 27 and Tuesday\, July 28\, 2026\, the Dreamville founder will take over Scotiabank Arena for a career-spanning performance celebrating his newest album of the same name. \nThis tour marks Cole’s first global headlining run since 2017\, and with rumors circulating that The Fall-Off may be his final studio chapter\, these shows are essentially mandatory for any true fan. \nEvent Details: J. Cole Live in Toronto\n\nDates: Monday\, July 27 & Tuesday\, July 28\, 2026\nVenue: Scotiabank Arena – 40 Bay St\, Toronto\nDoors Open: 7:00 PM | Show Starts: 8:00 PM\nSpecial Guests: While the full roster of openers is a closely guarded secret\, Dreamville artists are expected to make major appearances.\n\n\nTicket Information & VIP Packages\nAs one of the highest-demand tours of the year\, tickets are moving fast. \n\nGeneral Admission & Reserved Seating: Tickets are available via Ticketmaster.\nLayaway Plans: For fans looking to secure their spot now and pay later\, official payment plans are available through the ticket portal.\nPremium VIP Packages: Elevate your experience with the Dreamville VIP Upgrade. Packages include:\n\nPremium reserved seating in the 100 level.\nExclusive J. Cole tour merchandise.\nCommemorative VIP laminate and lanyard.\nDedicated VIP entrance and early venue access.\n\n\n\n\nScotiabank Arena: Know Before You Go\nTo ensure a smooth entry\, please keep the following venue policies in mind: \n\nMobile-Only Entry: All tickets for J. Cole are Mobile Only Delivery. Physical or printed tickets will not be accepted. Download the Scotiabank Arena app or add your tickets to your Apple/Google Wallet in advance.\nStrict Bag Policy: To align with tour security standards\, a restricted bag policy is in place. Small purses or clear bags are recommended; large backpacks and suitcases are strictly prohibited.\nCashless Venue: All concessions and merchandise stands are cashless. Be prepared to pay with credit\, debit\, or mobile pay.\n\n\nPro Tip: If you’re attending either night\, we recommend taking the GO Train or Subway to Union Station. Scotiabank Arena is directly connected to the station\, allowing you to bypass the heavy Bay Street traffic and the $50+ event parking fees. \n\n[Secure Your Tickets for J. Cole’s ‘The Fall-Off Tour’ Here] \n \n\n\n  \n    🎟 Buy Tickets Now\n  \n\n\nSponsored Ad:
URL:https://talkoftoronto.ca/event/j-cole-toronto-live-in-concert-2026/
LOCATION:Scotiabank Arena\, 50 Bay Street\, Suite 500\, Toronto\, Ontario\, M5J 2L2\, Canada
CATEGORIES:Concerts & Live Music,Hip Hop
ATTACH;FMTTYPE=image/jpeg:https://talkoftoronto.ca/wp-content/uploads/2026/03/J.-Cole-Concert-Toronto-2026.jpg
END:VEVENT
BEGIN:VEVENT
DTSTART;TZID=America/Toronto:20260731T180000
DTEND;TZID=America/Toronto:20260802T233000
DTSTAMP:20260424T062511
CREATED:20260322T221035Z
LAST-MODIFIED:20260324T165532Z
UID:61974-1785520800-1785713400@talkoftoronto.ca
SUMMARY:VELD Music Festival 2026
DESCRIPTION:VELD Music Festival 2026: The Ultimate Guide to Canada’s Largest Electronic & Hip-Hop Festival\nToronto\, the peak of summer has a name: VELD. Returning to Downsview Park from Friday\, July 31 to Sunday\, August 2\, 2026\, VELD Music Festival is set to host over 50 international artists for three days of high-octane performances across three massive stages. \nWhether you’re a trance purist\, a bass-head\, or a house devotee\, VELD 2026 is bringing the global elite to our doorstep. \n\nThe 2026 Lineup: Legends & Icons\nThe Phase 1 announcement has already sent shockwaves through the city. This year features a massive Kx5 (deadmau5 & Kaskade) reunion\, alongside some of the biggest names in the world: \n\nMainstage Headliners: Armin van Buuren\, Above & Beyond\, FISHER\, Illenium\, and Kx5.\nElectronic Giants: Charlotte de Witte\, ARTBAT\, Galantis\, James Hype\, and Lost Frequencies.\nThe Bass Stage: Subtronics\, Slander\, Black Tiger Sex Machine\, Crankdat\, and Ray Volpe.\nTechno & House Heat: Sara Landry\, Mau P\, Miss Monique\, and Lilly Palmer.\n\n\nEvent Details: What You Need to Know\n\nDates: Friday\, July 31 – Sunday\, August 2\, 2026 (Civic Day Long Weekend)\nLocation: Downsview Park – 35 Carl Hall Road\, Toronto\nAge Policy: * General Admission (GA): All Ages\nVIP Passes: 19+ Only (Valid Photo ID Required)\nCashless Festival: VELD is 100% cashless. Only credit and debit (with tap enabled) are accepted for food\, drinks\, and merch.\n\n\nTicket Tiers & Payment Plans\nTickets are moving at record speeds. To make the festival more accessible\, Layaway Plans are available for a limited time. \n\n3-Day General Admission: Starting at approx. $371.99+ (Fees included).\n3-Day VIP Pass (19+): Starting at approx. $533.20+. Includes dedicated entry\, premium viewing areas\, and private bars/washrooms.\nSingle-Day Passes: Available for Friday\, Saturday\, and Sunday for those who can’t make the full weekend.\n\n\nPro Tip: VELD is the only major electronic festival located directly on a TTC subway line (Downsview Park Station). Skip the $100 Uber surcharges and take the Line 1 Yonge-University subway for a seamless trip. \n\n\nPro-Tips for VELD 2026\n\nHydration is Key: VELD provides free water refill stations. Bring an empty hydration pack or a reusable plastic water bottle (non-metal).\nLocker Rentals: Secure your belongings and keep your phone charged by pre-booking a locker with a built-in charging cable.\nStay “On Brand”: Expect heavy visual production. If you’re heading to the Sirkus Stage for techno or the Bass Stage for dubstep\, wear comfortable shoes—Downsview Park is vast!\n\n[Secure Your VELD 2026 Tickets & Layaway Plans Here] \n \n\n\n  \n    🎟 Buy Tickets Now\n  \n\n\nSponsored Ad:
URL:https://talkoftoronto.ca/event/veld-music-festival-2026/
LOCATION:Downsview Park\, 35 Carl Hall Road\, Toronto\, Ontario\, M3K 2B6\, Canada
CATEGORIES:Concerts & Live Music,Dance/Electronic,House / EDM,Nightlife & Parties
ATTACH;FMTTYPE=image/jpeg:https://talkoftoronto.ca/wp-content/uploads/2026/03/veld-music-festival-2026-toronto-house-edm.jpg
END:VEVENT
BEGIN:VEVENT
DTSTART;TZID=America/Toronto:20260731T200000
DTEND;TZID=America/Toronto:20260731T233000
DTSTAMP:20260424T062511
CREATED:20260211T073339Z
LAST-MODIFIED:20260324T165422Z
UID:61753-1785528000-1785540600@talkoftoronto.ca
SUMMARY:Ne-Yo & Akon Live in Concert Toronto: Nights Like This Tour 2026
DESCRIPTION:Ne-Yo & Akon: Nights Like This Tour – The Ultimate Throwback Party at RBC Amphitheatre\nToronto\, get ready to party like it’s 2006. \nOn Friday\, July 31\, 2026\, the waterfront will transform into the city’s biggest outdoor dance floor. R&B gentleman Ne-Yo and global hitmaker Akon are joining forces for the “Nights Like This Tour\,” a co-headlining spectacle coming to the newly renamed RBC Amphitheatre (formerly Budweiser Stage). \nThis isn’t your typical “opener and headliner” setup. In a rare tour format\, Ne-Yo and Akon will share the stage for a dynamic\, back-and-forth set. Expect a non-stop stream of era-defining hits\, moving seamlessly from smooth mid-tempo jams to high-energy club anthems. \nA Hit-Filled Setlist\nBetween these two legends\, the catalog of hits is staggering. Fans can expect a “nostalgia rush” featuring: \n\n\nNe-Yo: “So Sick\,” “Miss Independent\,” “Closer\,” and “Because of You.” \n\n\nAkon: “Smack That\,” “Lonely\,” “Right Now (Na Na Na)\,” and “Don’t Matter.” \n\n\nThe Venue: RBC Amphitheatre\nSet against the backdrop of Lake Ontario\, the RBC Amphitheatre offers the perfect summer vibe. Whether you’re in the 200-level seats or dancing on the lawn\, the “Nights Like This Tour” is designed to feel like a massive celebration of the music that soundtracked a generation. \n \nEvent Details\n\n\nDate: Friday\, July 31\, 2026 \n\n\nVenue: RBC Amphitheatre (909 Lake Shore Blvd W\, Toronto) \n\n\nShowtime: 8:00 PM (Doors at 7:00 PM) \n\n\nAge Requirement: All Ages \n\n\nEvent Type: Rain or Shine \n\n\n\nDon’t Miss Out!\nWith two of the most influential artists of the 2000s sharing one stage\, tickets are expected to go fast. Grab your crew\, brush up on those lyrics\, and get ready for the ultimate summer Friday in the 6ix. \n[BUY TICKETS HERE] \n\n\n \n\n\n  \n    🎟 Buy Tickets Now\n  \n\n\nSponsored Ad:
URL:https://talkoftoronto.ca/event/ne-yo-akon-live-in-concert-toronto-nights-like-this-tour-2026/
LOCATION:RBC Amphitheatre\, 909 Lake Shore Blvd W\, Toronto\, Ontario\, M6K 3L3\, Canada
CATEGORIES:Concerts & Live Music,Nightlife & Parties,R&B
ATTACH;FMTTYPE=image/jpeg:https://talkoftoronto.ca/wp-content/uploads/2026/02/Neyo-Akon-Concert-in-Toronto-2026.jpg
END:VEVENT
BEGIN:VEVENT
DTSTART;TZID=America/Toronto:20260731T200000
DTEND;TZID=America/Toronto:20260803T020000
DTSTAMP:20260424T062511
CREATED:20260322T194412Z
LAST-MODIFIED:20260324T161638Z
UID:61956-1785528000-1785722400@talkoftoronto.ca
SUMMARY:SOS FEST 2026: Summer of Soca - Toronto Caribana Weekend
DESCRIPTION:SOS FEST 2026: North America’s Largest Caribbean Music Festival Returns to Toronto Caribana Weekend!\nToronto Carnival Weekend is nothing without the roar of the Summer of Soca Festival (SOS FEST). From Friday\, July 31 to Sunday\, August 2\, 2026\, the Markham Fairgrounds will transform into a global village of music\, culture\, and Caribbean pride. \nWith 4 major events packed into 3 days\, SOS FEST 2026 is the definitive destination for Soca lovers\, fete-goers\, and anyone looking to experience the true spirit of the diaspora. \n \nThe 2026 Festival Schedule\nOne weekend. Four legendary experiences. Here is the breakdown: \n\n\n\nDay\nEvent\nTime\nVibe\n\n\n\n\nDay 1: Friday\, July 31\nCOLOURS: J’ouvert Night\n6 PM – 12 AM\nPowder\, water\, and pure energy.\n\n\nDay 2: Saturday\, Aug 1\nCARNIVAL KINGDOM\n6 PM – 12 AM\nThe flagship concert feat. global superstars.\n\n\nDay 3: Sunday\, Aug 2\nREVIVOR: Chutney Concert\n12 PM – 6 PM\nA cultural fusion (All Ages).\n\n\nDay 3: Sunday\, Aug 2\nLEGENDS: Throwback Concert\n6 PM – 12 AM\n90s & 2000s Caribbean classics (All Ages).\n\n\n\n\nEvent Highlights: What to Expect\n\nVenue: Markham Fairgrounds – 10801 McCowan Rd\, Markham.\nThe Production: Expect world-class stage designs\, massive CO2 cannons\, and high-fidelity sound systems that can be heard for miles.\nThe Artists: While the full 2026 roster is under wraps\, SOS Fest has a history of bringing icons like Machel Montano\, Kes the Band\, and Shenseea. Stay tuned for the Phase 1 lineup announcement!\n\n\nTicket Tiers & Passes\nSOS FEST is famous for selling out its “Early Bird” tiers within hours. \n1. 3-Day Weekend Passes (Best Value)\n\nGeneral Admission ($200): Access to all 4 events + express entry.\nVIP Front of Stage ($275): The ultimate experience. Includes front-of-stage access\, private VIP bars\, and luxury washrooms.\n\n2. Single Day Tickets\n\nColours: Starts at $85\nCarnival Kingdom: Starts at $95\nRevivor / Legends: Starts at $55 – $65\n\nPro Tip: If you are planning your “Toronto Caribana 2026” itinerary\, the 3-Day SOS Pass is the most cost-effective way to guarantee entry to the weekend’s biggest fetes. \n\nImportant Festival Info\n\nAge Requirement: Friday and Saturday are 19+ events. Sunday’s Revivor and Legends concerts are All Ages\, making it the perfect family-friendly Carnival wrap-up.\nParking: Ample on-site parking is available at the Markham Fairgrounds\, but carpooling or shuttle services are highly recommended.\nRefunds: All ticket sales are final.\n\n[Secure Your SOS FEST 2026 Passes Here] \n \n\n\n  \n    🎟 Buy Tickets Now\n  \n\n\nSponsored Ad:
URL:https://talkoftoronto.ca/event/sos-fest-2026-summer-of-soca-toronto-caribana-weekend/
LOCATION:Markham Fairgrounds\, 10801 Mccowan Rd\, Markham\, Ontario\, Canada
CATEGORIES:Concerts & Live Music,Nightlife & Parties,Soca
ATTACH;FMTTYPE=image/webp:https://talkoftoronto.ca/wp-content/uploads/2026/03/SOS-SUMMER-OF-SOCA-FESTIVAL-Toronto-Caribana-2026.webp
END:VEVENT
BEGIN:VEVENT
DTSTART;TZID=America/Toronto:20260731T220000
DTEND;TZID=America/Toronto:20260801T020000
DTSTAMP:20260424T062511
CREATED:20260206T035853Z
LAST-MODIFIED:20260321T233303Z
UID:61611-1785535200-1785549600@talkoftoronto.ca
SUMMARY:FOAM FETE 2026
DESCRIPTION:TORONTO CARNIVAL BIGGEST FOAM PARTY\n\n\nFOAM FETE CARIBANA FRIDAY \nFRIDAY JULT 31 2026 \nCARNIVAL FRIDAYS BIGGEST FOAM PARTY \nALL @ ONE EYED JACK LOUNGE \nINDOOR AND OUT DOOR \nPARTY FROM 10PM – 2AM \nFOR INFO AND BOOTH CALL 647 765 1306 \n\n\n\n \n\n\n  \n    🎟 Buy Tickets Now
URL:https://talkoftoronto.ca/event/foam-fete-2026/
LOCATION:287 Richmond St W\, 287 Richmond Street West\, Toronto\, ON M5V 1X1\, Toronto\, M5V 1X1\, CA
CATEGORIES:Nightlife & Parties,Soca,Toronto Caribana Carnival
ATTACH;FMTTYPE=image/jpeg:https://talkoftoronto.ca/wp-content/uploads/2026/02/61611_image.jpg
END:VEVENT
END:VCALENDAR