BEGIN:VCALENDAR
VERSION:2.0
PRODID:-//Talk of Toronto - ECPv6.15.20//NONSGML v1.0//EN
CALSCALE:GREGORIAN
METHOD:PUBLISH
X-WR-CALNAME:Talk of Toronto
X-ORIGINAL-URL:https://talkoftoronto.ca
X-WR-CALDESC:Events for Talk of Toronto
REFRESH-INTERVAL;VALUE=DURATION:PT1H
X-Robots-Tag:noindex
X-PUBLISHED-TTL:PT1H
BEGIN:VTIMEZONE
TZID:America/Toronto
BEGIN:DAYLIGHT
TZOFFSETFROM:-0500
TZOFFSETTO:-0400
TZNAME:EDT
DTSTART:20240310T070000
END:DAYLIGHT
BEGIN:STANDARD
TZOFFSETFROM:-0400
TZOFFSETTO:-0500
TZNAME:EST
DTSTART:20241103T060000
END:STANDARD
BEGIN:DAYLIGHT
TZOFFSETFROM:-0500
TZOFFSETTO:-0400
TZNAME:EDT
DTSTART:20250309T070000
END:DAYLIGHT
BEGIN:STANDARD
TZOFFSETFROM:-0400
TZOFFSETTO:-0500
TZNAME:EST
DTSTART:20251102T060000
END:STANDARD
BEGIN:DAYLIGHT
TZOFFSETFROM:-0500
TZOFFSETTO:-0400
TZNAME:EDT
DTSTART:20260308T070000
END:DAYLIGHT
BEGIN:STANDARD
TZOFFSETFROM:-0400
TZOFFSETTO:-0500
TZNAME:EST
DTSTART:20261101T060000
END:STANDARD
END:VTIMEZONE
BEGIN:VEVENT
DTSTART;TZID=America/Toronto:20251027T190000
DTEND;TZID=America/Toronto:20251027T233000
DTSTAMP:20260424T185129
CREATED:20250912T040326Z
LAST-MODIFIED:20250912T040326Z
UID:59312-1761591600-1761607800@talkoftoronto.ca
SUMMARY:Little Simz Live in Concert -'The Lotus' Tour - Toronto
DESCRIPTION:🎤 Featured Toronto Concert Event: Little Simz — Lotus Tour \nToronto\, are you ready? Little Simz brings her Lotus Tour to History for a night of soulful bars\, cinematic soundscapes\, and unforgettable energy. \n \n\n🗓️ When & Where\nDate: Monday\, October 27\, 2025\nDoors open at 7:00 PM — Show starts at 8:00 PM\nVenue: History\, 1663 Queen Street East\, Toronto\, ON \n\n🎶 Show Info & Atmosphere \n\nAll-ages show — everyone’s welcome\nExpect new music from her latest album Lotus\, plus beloved tracks from her catalog\nIntimate venue setting for close-up connection with the performance\n\n\n✅ Tickets & Access \n\nTickets available in general admission and seated options\, including premium seating and VIP upgrades\nVenue has full accessibility; check seating section and age details on your ticket\nArrive ahead of doors to avoid long lines and get settled\n\n\n🌟 Why You Should Go \n\nLittle Simz is at a creative peak\, with her Lotus album receiving wide praise for its depth and artistry\nThe Lotus Tour kicks off right here in Toronto\, making this a key show to experience up close\nA chance to share a memorable live music moment in an intimate venue — for both longtime fans and new listeners\n\n\n🔍 Tips for Attendees \n\nArrive early to explore the venue\, grab a good spot\, and catch openers\nUse public transit or rideshare — downtown traffic & parking near Queen Street East can be tight\nBring valid photo ID and check your ticket for any special access or section rules\nDress comfortably but in your vibe — this is a night to feel the music\n\n\n \n 
URL:https://talkoftoronto.ca/event/little-simz-live-in-concert-the-lotus-tour-toronto-2025/
LOCATION:History\, 1663 Queen St. East\, Toronto\, Ontario\, M4L 1G5\,\, Canada
CATEGORIES:Hip Hop
ATTACH;FMTTYPE=image/webp:https://talkoftoronto.ca/wp-content/uploads/2025/09/littlesimz-toronto-concert-2025.webp
END:VEVENT
BEGIN:VEVENT
DTSTART;TZID=America/Toronto:20251027T200000
DTEND;TZID=America/Toronto:20251027T233000
DTSTAMP:20260424T185129
CREATED:20250912T005142Z
LAST-MODIFIED:20250912T005425Z
UID:59286-1761595200-1761607800@talkoftoronto.ca
SUMMARY:Giveon LIVE in Concert - Toronto
DESCRIPTION:🎙️ Featured Toronto Concert Event: Giveon — Dear Beloved\, The Tour \nExperience an evening of soul\, emotion\, and powerful R&B vibes with Giveon live in Toronto. \n \n\n🗓️ When & Where\nDate: Monday\, October 27\, 2025\nTime: 8:00 PM\nVenue: Coca-Cola Coliseum\, Toronto\, ON \n\n🌟 About the Show\nGiveon brings his Dear Beloved tour to town\, sharing tracks from his newest album alongside fan favorites. Expect intimate moments\, deep lyrics\, and that iconic baritone presence. \n\n🎟️ Tickets & Entry \n\nMultiple ticket tiers available from general admission to premium/VIP options.\nAge restrictions may apply depending on seating sections.\nMobile ticket entry in effect — digital tickets will be needed at the door.\n\n\n🔥 Why You Should Be There \n\nGiveon is known for turning live shows into emotional experiences — perfect if you love heartfelt music.\nA chance to hear new songs live\, maybe with special arrangements you haven’t heard yet.\nAtmosphere: Expect a mix of soulful performance\, engaging stage presence\, and moments that stick.\n\n\n✅ Tips for Attendees \n\nArrive early to secure good seating and settle in — opener acts can start on time.\nPublic transit or rideshare can save time and avoid parking headaches.\nShow up prepared with valid photo ID; check seating age-requirements.\nDress comfortably but stylishly — it’s going to be night to remember.
URL:https://talkoftoronto.ca/event/giveon-live-in-concert-toronto/
LOCATION:Coca-Cola Coliseum\, 19 Nunavut Rd\, Toronto\, Ontario\, M6K 3C3\, Canada
CATEGORIES:R&B
ATTACH;FMTTYPE=image/webp:https://talkoftoronto.ca/wp-content/uploads/2025/09/giveon-toronto-concert-event-1000x500-2.webp
END:VEVENT
END:VCALENDAR