BEGIN:VCALENDAR
VERSION:2.0
PRODID:-//Talk of Toronto - ECPv6.15.20//NONSGML v1.0//EN
CALSCALE:GREGORIAN
METHOD:PUBLISH
X-WR-CALNAME:Talk of Toronto
X-ORIGINAL-URL:https://talkoftoronto.ca
X-WR-CALDESC:Events for Talk of Toronto
REFRESH-INTERVAL;VALUE=DURATION:PT1H
X-Robots-Tag:noindex
X-PUBLISHED-TTL:PT1H
BEGIN:VTIMEZONE
TZID:America/Toronto
BEGIN:DAYLIGHT
TZOFFSETFROM:-0500
TZOFFSETTO:-0400
TZNAME:EDT
DTSTART:20240310T070000
END:DAYLIGHT
BEGIN:STANDARD
TZOFFSETFROM:-0400
TZOFFSETTO:-0500
TZNAME:EST
DTSTART:20241103T060000
END:STANDARD
BEGIN:DAYLIGHT
TZOFFSETFROM:-0500
TZOFFSETTO:-0400
TZNAME:EDT
DTSTART:20250309T070000
END:DAYLIGHT
BEGIN:STANDARD
TZOFFSETFROM:-0400
TZOFFSETTO:-0500
TZNAME:EST
DTSTART:20251102T060000
END:STANDARD
BEGIN:DAYLIGHT
TZOFFSETFROM:-0500
TZOFFSETTO:-0400
TZNAME:EDT
DTSTART:20260308T070000
END:DAYLIGHT
BEGIN:STANDARD
TZOFFSETFROM:-0400
TZOFFSETTO:-0500
TZNAME:EST
DTSTART:20261101T060000
END:STANDARD
END:VTIMEZONE
BEGIN:VEVENT
DTSTART;TZID=America/Toronto:20251208T190000
DTEND;TZID=America/Toronto:20251208T233000
DTSTAMP:20260424T185148
CREATED:20250912T033725Z
LAST-MODIFIED:20250916T170711Z
UID:59305-1765220400-1765236600@talkoftoronto.ca
SUMMARY:Earl Sweatshirt & Friends: 3L World Tour - Toronto Concert
DESCRIPTION:🎤 Toronto Featured Concert Event: Earl Sweatshirt — 3L World Tour \nToronto\, get ready for a night of raw lyricism and experimental beats as Earl Sweatshirt brings his 3L World Tour to the city with special guests. \n \n\n🗓️ When & Where\nDate: Monday\, December 8\, 2025\nDoors Open: 7:00 PM\nShow Starts: 8:00 PM\nVenue: The Danforth Music Hall\, Toronto\, ON \n\n🎶 Line-Up / Supporting Acts \n\nEarl Sweatshirt\nLiv.e\nZelooperz\nCletus Strap\n\n\n👥 Age Restriction & Entry \n\n19+ event\nValid photo ID required for entry\nDoors open one hour before showtime\n\n\n🔥 Why You Should Be There \n\nExperience Earl Sweatshirt’s newest work live alongside cult-favorite tracks.\nIncredible openers add dynamic energy and variety to the night.\nDanforth Music Hall offers an intimate setting perfect for this kind of show.\n\n\n✅ Tips for Attendees \n\nArrive early to secure a good spot and enjoy opening performances.\nConsider public transit or rideshare to avoid downtown traffic and limited parking.\nDress comfortably and be ready for a powerful\, immersive performance.
URL:https://talkoftoronto.ca/event/earl-sweatshirt-friends-3l-world-tour-toronto-concert-2025/
LOCATION:The Danforth Music Hall\, 147 Danforth Ave\, Toronto\, Ontario\, M4K 1N2\, Canada
CATEGORIES:Hip Hop
ATTACH;FMTTYPE=image/webp:https://talkoftoronto.ca/wp-content/uploads/2025/09/3lw-earl-sweatshirt-toronto-concert.webp
END:VEVENT
END:VCALENDAR