BEGIN:VCALENDAR
VERSION:2.0
PRODID:-//Talk of Toronto - ECPv6.15.20//NONSGML v1.0//EN
CALSCALE:GREGORIAN
METHOD:PUBLISH
X-WR-CALNAME:Talk of Toronto
X-ORIGINAL-URL:https://talkoftoronto.ca
X-WR-CALDESC:Events for Talk of Toronto
REFRESH-INTERVAL;VALUE=DURATION:PT1H
X-Robots-Tag:noindex
X-PUBLISHED-TTL:PT1H
BEGIN:VTIMEZONE
TZID:America/Toronto
BEGIN:DAYLIGHT
TZOFFSETFROM:-0500
TZOFFSETTO:-0400
TZNAME:EDT
DTSTART:20250309T070000
END:DAYLIGHT
BEGIN:STANDARD
TZOFFSETFROM:-0400
TZOFFSETTO:-0500
TZNAME:EST
DTSTART:20251102T060000
END:STANDARD
BEGIN:DAYLIGHT
TZOFFSETFROM:-0500
TZOFFSETTO:-0400
TZNAME:EDT
DTSTART:20260308T070000
END:DAYLIGHT
BEGIN:STANDARD
TZOFFSETFROM:-0400
TZOFFSETTO:-0500
TZNAME:EST
DTSTART:20261101T060000
END:STANDARD
BEGIN:DAYLIGHT
TZOFFSETFROM:-0500
TZOFFSETTO:-0400
TZNAME:EDT
DTSTART:20270314T070000
END:DAYLIGHT
BEGIN:STANDARD
TZOFFSETFROM:-0400
TZOFFSETTO:-0500
TZNAME:EST
DTSTART:20271107T060000
END:STANDARD
END:VTIMEZONE
BEGIN:VEVENT
DTSTART;TZID=America/Toronto:20260221T160000
DTEND;TZID=America/Toronto:20260221T210000
DTSTAMP:20260424T102735
CREATED:20260217T171854Z
LAST-MODIFIED:20260217T171854Z
UID:61836-1771689600-1771707600@talkoftoronto.ca
SUMMARY:Zomboy - Toronto
DESCRIPTION:Get ready to experience an electrifying night with Zomboy in Toronto\, where the bass will be dropping and the crowd will be jumping!\n\n\nThis event is 19+ (ID required) \n\n \n\n \n\n\n  \n    🎟 Buy Tickets Now
URL:https://talkoftoronto.ca/event/zomboy-toronto/
LOCATION:Phoenix Concert Theatre\, 410 Sherbourne Street\, Toronto\, ON M5X 1K2\, Toronto\, M5X 1K2\, CA
CATEGORIES:House / EDM,Nightlife & Parties
ATTACH;FMTTYPE=image/jpeg:https://talkoftoronto.ca/wp-content/uploads/2026/02/61836_image-scaled.jpg
END:VEVENT
BEGIN:VEVENT
DTSTART;TZID=America/Toronto:20260221T170000
DTEND;TZID=America/Toronto:20260221T230000
DTSTAMP:20260424T102735
CREATED:20260218T183314Z
LAST-MODIFIED:20260218T183726Z
UID:61855-1771693200-1771714800@talkoftoronto.ca
SUMMARY:Aaron Sevilla: Toronto
DESCRIPTION:Aaron Sevilla plays music that makes bodies move before minds catch up. Percussive. Warm. Infectious.\n\n\nAaron Sevilla: Toronto \nDate: Feb 21 \, 2026 \nTime: 10PM- 4AM \nBooths and Bottle Service: Available. Text +16475267936 \nDescription: Heavily influenced by afro and latin vibes\, Aaron Sevilla merge intense percussions and subtle but contagious vocals in his productions and live sets. Since 2021 Aaron has held different positions at top charts from the most relevant electronic music stores\, including #1 in Afro House Chart at Beatport and #1 in Afro Latin Traxsource ranking. \nSevilla is now considered one of the most promising talents from the Mexican underground scene according to DJMAGmx. Currently he’s hosting a weekly radio show in the most important electronic music radio station in Mexico: Beat 100.9 FM; and making dance foreign lands with his energetic beat. \n  \nBrought to you by Puzzles Entertainment Inc. and Grand Bizarre \n \n\n\n\n \n\n\n  \n    🎟 Buy Tickets Now
URL:https://talkoftoronto.ca/event/aaron-sevilla-toronto/
LOCATION:Grand Bizarre\, 15 Saskatchewan Road\, Toronto\, ON M6K 3C3\, Toronto\, M6K 3C3\, CA
CATEGORIES:Concerts & Live Music,House / EDM,Nightlife & Parties
ATTACH;FMTTYPE=image/png:https://talkoftoronto.ca/wp-content/uploads/2026/02/61855_image.png
END:VEVENT
END:VCALENDAR