BEGIN:VCALENDAR
VERSION:2.0
PRODID:-//Talk of Toronto - ECPv6.15.20//NONSGML v1.0//EN
CALSCALE:GREGORIAN
METHOD:PUBLISH
X-ORIGINAL-URL:https://talkoftoronto.ca
X-WR-CALDESC:Events for Talk of Toronto
REFRESH-INTERVAL;VALUE=DURATION:PT1H
X-Robots-Tag:noindex
X-PUBLISHED-TTL:PT1H
BEGIN:VTIMEZONE
TZID:America/Toronto
BEGIN:DAYLIGHT
TZOFFSETFROM:-0500
TZOFFSETTO:-0400
TZNAME:EDT
DTSTART:20250309T070000
END:DAYLIGHT
BEGIN:STANDARD
TZOFFSETFROM:-0400
TZOFFSETTO:-0500
TZNAME:EST
DTSTART:20251102T060000
END:STANDARD
BEGIN:DAYLIGHT
TZOFFSETFROM:-0500
TZOFFSETTO:-0400
TZNAME:EDT
DTSTART:20260308T070000
END:DAYLIGHT
BEGIN:STANDARD
TZOFFSETFROM:-0400
TZOFFSETTO:-0500
TZNAME:EST
DTSTART:20261101T060000
END:STANDARD
BEGIN:DAYLIGHT
TZOFFSETFROM:-0500
TZOFFSETTO:-0400
TZNAME:EDT
DTSTART:20270314T070000
END:DAYLIGHT
BEGIN:STANDARD
TZOFFSETFROM:-0400
TZOFFSETTO:-0500
TZNAME:EST
DTSTART:20271107T060000
END:STANDARD
END:VTIMEZONE
BEGIN:VEVENT
DTSTART;TZID=America/Toronto:20260301T160000
DTEND;TZID=America/Toronto:20260301T210000
DTSTAMP:20260424T075334
CREATED:20260228T162859Z
LAST-MODIFIED:20260228T163002Z
UID:61865-1772380800-1772398800@talkoftoronto.ca
SUMMARY:R&B ROOM DAY PARTY
DESCRIPTION:We’re kicking off R&B Room this year with an exclusive Day Party Edition at a brand-new venue – FLWR! \nExpect a sexy\, feel-good atmosphere\, your favourite R&B joints from past to present all in an immaculate setting. \nThe vibes and visuals at this one is going to be on another level. \nDon’t miss it! \n\nR&B ROOM DAY PARTY \nSunday\, March 1st\, 2026 | 4pm-9pm \nFLWR Event Space – 35 Brunel Rd\, Mississauga \nSexy & Stylish Dress Code \nMusic By: DJ Smartiez\, DJ Flatline\, Bassline (Enforcas)\, DJ Wikked \nHosted By: Kid Kut \n\nFor Booth Reservations Email: \nconcierge@juniorjonesgroup.com \nSocial Media: \n@rnb_room @juniorjonesgroup @officialjuniorjones \n  \n \n\n\n  \n    🎟 Buy Tickets Now
URL:https://talkoftoronto.ca/event/rb-room-day-party/
LOCATION:FLWR EVENT SPACE\, 35 Brunel Road\, Mississauga\, Ontario\, Canada
CATEGORIES:Nightlife & Parties,R&B
ATTACH;FMTTYPE=image/jpeg:https://talkoftoronto.ca/wp-content/uploads/2026/02/RB-ROOM-DAY-PARTY-March-2026.jpg
END:VEVENT
END:VCALENDAR