BEGIN:VCALENDAR
VERSION:2.0
PRODID:-//Talk of Toronto - ECPv6.15.20//NONSGML v1.0//EN
CALSCALE:GREGORIAN
METHOD:PUBLISH
X-ORIGINAL-URL:https://talkoftoronto.ca
X-WR-CALDESC:Events for Talk of Toronto
REFRESH-INTERVAL;VALUE=DURATION:PT1H
X-Robots-Tag:noindex
X-PUBLISHED-TTL:PT1H
BEGIN:VTIMEZONE
TZID:America/Toronto
BEGIN:DAYLIGHT
TZOFFSETFROM:-0500
TZOFFSETTO:-0400
TZNAME:EDT
DTSTART:20250309T070000
END:DAYLIGHT
BEGIN:STANDARD
TZOFFSETFROM:-0400
TZOFFSETTO:-0500
TZNAME:EST
DTSTART:20251102T060000
END:STANDARD
BEGIN:DAYLIGHT
TZOFFSETFROM:-0500
TZOFFSETTO:-0400
TZNAME:EDT
DTSTART:20260308T070000
END:DAYLIGHT
BEGIN:STANDARD
TZOFFSETFROM:-0400
TZOFFSETTO:-0500
TZNAME:EST
DTSTART:20261101T060000
END:STANDARD
BEGIN:DAYLIGHT
TZOFFSETFROM:-0500
TZOFFSETTO:-0400
TZNAME:EDT
DTSTART:20270314T070000
END:DAYLIGHT
BEGIN:STANDARD
TZOFFSETFROM:-0400
TZOFFSETTO:-0500
TZNAME:EST
DTSTART:20271107T060000
END:STANDARD
END:VTIMEZONE
BEGIN:VEVENT
DTSTART;TZID=America/Toronto:20260517T130000
DTEND;TZID=America/Toronto:20260517T200000
DTSTAMP:20260424T104235
CREATED:20260321T235100Z
LAST-MODIFIED:20260323T004626Z
UID:61907-1779022800-1779048000@talkoftoronto.ca
SUMMARY:Somebody Anybody & DLT - RnB Brunch & Day-Party @ Lavelle (MAY EDITION)
DESCRIPTION:This is a massive power move for the Somebody Anybody brand. By partnering with DLT (Days Like This)—the UK’s legendary R&B event powerhouse—this May edition at Lavelle is no longer just a local brunch; it’s an international collaboration. \n\nSomebody Anybody x DLT: The International R&B Brunch Takeover at Lavelle (May Edition)\nGet ready for the collaboration of the summer. On Sunday\, May 17\, 2026\, Toronto’s premier R&B social\, Somebody Anybody (SBAB)\, joins forces with the UK’s global event giants\, DLT (Days Like This). \nTaking over the iconic Lavelle rooftop\, this May edition promises to blend Toronto’s high-end energy with the world-renowned R&B vibes that have made DLT a household name from London to Lagos. \nEvent Details: The May Link-Up\n\n\nDate: Sunday\, May 17\, 2026 \n\n\nLocation: Lavelle – 627 King St W\, Toronto \n\n\nThe Setting: Enclosed\, heated rooftop with panoramic city views. \n\n\nThe Vibe: Pure R&B\, curated socializing\, and international energy. \n\n\n\nPlan Your Sunday: Brunch & Day Party\nThis special collaboration follows the classic SBAB format but with an elevated “Days Like This” twist. \nThe Brunch (1:00 PM – 4:00 PM)\nStart your afternoon with a gourmet rooftop brunch. \n\n\nReservations: A brunch deposit ticket via Eventbrite is mandatory. \n\n\nInsider Tip: Secure a brunch spot and you’re cleared to stay for the Day Party at no extra cost—it’s the best way to experience the full takeover. \n\n\nThe Day Party (4:00 PM – 8:00 PM)\nThis is where the Somebody Anybody x DLT energy hits its peak. Expect a curated soundtrack of R&B gems\, from 90s classics to modern anthems\, delivered with that signature DLT flair. \n\n\nAdmission: Advance tickets are required for the party portion. \n\n\n\nVIP Experience & Booths\nGiven the DLT partnership\, this event is expected to be one of the most in-demand dates of the spring. For those who want the best view in the house: \n\n\nBooths: Accommodate 7–10 guests. \n\n\nPerks: Includes VIP line bypass—essential for a sold-out rooftop event. \n\n\nBooking: Contact the SBAB team at (437) 981-1742 to secure your VIP table. \n\n\n\nQuick Facts\n\n\nContact: (437) 981-1742 \n\n\nSocials: Follow @SBABBrunch for lineup updates and live looks. \n\n\nPolicy: No refunds within 5 days of the event. \n\n\n[Click Here to Grab Your Somebody Anybody x DLT Tickets] \n\n\n\n\n \n\n\n  \n    🎟 Buy Tickets Now
URL:https://talkoftoronto.ca/event/somebody-anybody-dlt-rnb-brunch-day-party-lavelle-may-edition/
LOCATION:Lavelle\, 627 King Street West\, Toronto\, ON M5V 1M5\, Toronto\, M5V 1M5\, CA
CATEGORIES:Nightlife & Parties,R&B
ATTACH;FMTTYPE=image/jpeg:https://talkoftoronto.ca/wp-content/uploads/2026/03/61907_image.jpg
END:VEVENT
END:VCALENDAR